Workbook
Name \0: '[1]PNT-QUOT-#3'!#REF!
Name \d: '[2]??-BLDG'!#REF!
Name \e: '[2]??-BLDG'!#REF!
Name \f: '[2]??-BLDG'!#REF!
Name \g: '[2]??-BLDG'!#REF!
Name \h: '[2]??-BLDG'!#REF!
Name \i: '[2]??-BLDG'!#REF!
Name \j: '[2]??-BLDG'!#REF!
Name \k: '[2]??-BLDG'!#REF!
Name \l: '[2]??-BLDG'!#REF!
Name \m: '[2]??-BLDG'!#REF!
Name \n: '[2]??-BLDG'!#REF!
Name \o: '[2]??-BLDG'!#REF!
Name \z: '[1]COAT&WRAP-QIOT-#3'!#REF!
Name _1: #N/A
Name _1000A01: #N/A
Name _2: #N/A
Name _A65700: '[3]MTO REV.2(ARMOR)'!#REF!
Name _A65800: '[3]MTO REV.2(ARMOR)'!#REF!
Name _A66000: '[3]MTO REV.2(ARMOR)'!#REF!
Name _A67000: '[3]MTO REV.2(ARMOR)'!#REF!
Name _A68000: '[3]MTO REV.2(ARMOR)'!#REF!
Name _A70000: '[3]MTO REV.2(ARMOR)'!#REF!
Name _A75000: '[3]MTO REV.2(ARMOR)'!#REF!
Name _A85000: '[3]MTO REV.2(ARMOR)'!#REF!
Name _CON1: #REF!
Name _CON2: #REF!
Name _NET2: #REF!
Name A: '[1]PNT-QUOT-#3'!#REF!
Name A01_: #N/A
Name A01AC: #N/A
Name A01CAT: #N/A
Name A01CODE: #N/A
Name A01DATA: #N/A
Name A01MI: #N/A
Name A01TO: #N/A
Name A60000.: #REF!
Name AA: #REF!
Name AAA: '[4]MTL$-INTER'!#REF!
Name All_Item: #REF!
Name ALPIN: #N/A
Name ALPJYOU: #N/A
Name ALPTOI: #N/A
Name B: '[1]PNT-QUOT-#3'!#REF!
Name BB: #REF!
Name BOQ: #REF!
Name BVCISUMMARY: #REF!
Name CABLE2: '[5]MTO REV.0'!$A$1:$Q$570
Name Category_All: #REF!
Name CATIN: #N/A
Name CATJYOU: #N/A
Name CATREC: #N/A
Name CATSYU: #N/A
Name COAT: '[1]PNT-QUOT-#3'!#REF!
Name COMMON: #REF!
Name CON_EQP_COS: #REF!
Name CON_EQP_COST: #REF!
Name CONST_EQ: #REF!
Name COVER: #REF!
Name CRITINST: #REF!

Sheet Hướng dẫn
A1: Quy trình nhập điểm tổng kết Học kỳ CĐKT theo tín chỉ
A3: STT | B3: Bảng tính thao tác | C3: Công việc thực hiện | D3: Thực hiện
A4: 1 | B4: Vào bảng tính DS LOP HKI | C4: Kích vào nút mũi tên của cột Lớp, chọn tên lớp, sau đó chọn toàn bộ MSSV (mã số sinh viên) của lớp, nhấn phím Ctrl-C để chép mã số SV. | D4: CVHT
A5: 2 | B5: Vào bảng tính HKI | C5: Kích vào ô đầu tiên của mã số sinh viên (ô B11), nhấn Ctrl-V.
C6: Ghi chú: Danh sách SV, tên các HP và số đơn vị học trình sẽ được truyền tự động vào cho các bảng tính của HKI và bảng điểm từng HP
A7: 3 | B7: Vào bảng tính TEN HOC PHAN HKI | C7: Tên học phần và số Tín chỉ đã được đưa vào các bảng tính tương ứng theo lớp, Quý Thầy Cô vào bảng tính này để biết học phần ABC muốn nhập điểm nằm ở bảng tính ABC nào. | D7: GVBM học phần "ABC" hoặc CVHT
A8: 4 | B8: Vào bảng tính "XYZ" tương ứng với học phần "ABC" quy định trong bước 3 | C8: Nhập các điểm thành phần vào từng cột tương ứng
C9: Ghi chú: Thứ tự danh sách trong các bảng tính đã thống nhất, do đó bắt buộc đảm bảo độ chính xác của giữa các điểm thành phần với MSSV tương ứng. Nên kiểm tra lại sự thống nhất danh sách trong sổ tay giảng viên và danh sách trong file để tránh nhập điểm sai.
C10: Lưu ý: Đối với sinh viên bảo lưu, chỉ cần nhập điểm vào cột Điểm bảo lưu, các cột còn lại không nhập.
C11: Ghi chú: Nếu CVHT đã có file tổng kết học phần đúng yêu cầu, vẫn có thể tự thực hiện bước 4 này bằng cách chép các cột điểm từ file của GVBM vào các bảng tính tương ứng.
A12: 5 | B12: Vào bảng tính HKI | C12: Nhập hệ chuẩn vào cột E, số ngày nghỉ có phép vào cột F, số ngày không phép vào cột G. | D12: CVHT
C13: Cột GHI CHÚ chỉ điền vào các thông tin về hình thức kỷ luật (nếu có)
C14: Ghi chú: Trước khi thông báo kết quả học tập cho SV, xin quý Thầy Cô gởi file thông qua địa chỉ mail của phòng để kiểm tra, đối chiếu với các bảng điểm tổng kết học phần nhằm hạn chế sai sót. Nếu bảng tính có sai sót, phòng sẽ báo bằng mail cho quý Thầy Cô.
C15: Nhập điểm kết quả rèn luyện vào cột BB
C16: Khi muốn in bảng tổng kết, nên che giấu (ẩn) các vị trí cột (hàng) không có điểm bằng cách chọn các cột (hàng) đó, rồi vào FORMAT → COLUMN (ROW) → HIDE (hoặc chuột phải HIDE).
A17: 6 | B17: Mở file tổng kết năm 13-14 của lớp | C17: Chọn bảng tính CẢ NĂM, chọn và chép toàn bộ bảng (kích ô xám ở góc trên bên trái vùng bảng tính, nhấn Ctrl-C).
A18: 7 | B18: Trở lại file này. | C18: Chọn bảng tính NH13-14, chọn ô A1, nhấn Ctrl_V.
C19: Chú ý: Do tình hình nhập lớp so với năm học trước, xin quý thầy cô kiểm tra lại danh sách lớp để xem có sinh viên lớp khác được chuyển sang lớp đang làm cố vấn không? Nếu có thì chép từng hàng tên vào cuối bảng tính này.
A20: Để thống nhất trong việc quản lý điểm số của HSSV trong toàn trường, sau khi hoàn thành bảng tính, xin Quý Thầy Cô lưu lại file theo định dạng: tenlop_hocky_nămhọc (ví dụ 13CD-DT1_HKI_NH14-15) và gởi bằng mail cho Khoa, Phòng CTHSSV, Phòng Đào tạo (kqht.lytutrong@gmail.com) và Phòng KT&DBCL (khaothiltt@gmail.com).
A21: Các bảng tính: TEN HOC PHAN HKI; DS LOP HKI là các bảng tính nền cơ sở, xin quý Thầy Cô đừng chỉnh sửa, để tránh sai sót, nhầm lẫn trong quá trình nhập điểm tổng kết.
A22: Nếu Quý Thầy Cô có vướng mắc gì, xin gởi mail qua địa chỉ: kqht.lytutrong@gmail.com hoặc khaothiltt@gmail.com hoặc liên hệ trực tiếp với Phòng Đào tạo hoặc Phòng Khảo thí và Đảm bảo chất lượng.

Sheet TEN HOC PHAN HKI
A1: QUI ĐỊNH SỐ TÍN CHỈ CỦA CÁC HỌC PHẦN TRONG HỌC KỲ I / 2014 - 2015 Bậc đào tạo : Cao đẳng ( Khóa 2013 )
A3: TT | B3: LỚP | C3: STT | D3: SHEET | E3: TÊN HỌC PHẦN | F3: Tổng TC | G3: LÝ THUYẾT | H3: THỰC HÀNH | I3: GHI CHÚ
A4: 1 | B4: 13 CĐ - ĐT 1, 2, 3, 4 | C4: 1 | D4: LT01 | E4: Anh văn 2 | F4: =G4+H4 -> 3 | G4: 3
C5: 2 | D5: LT02 | E5: Những NLCB của CNMLN 2 | F5: =G5+H5 -> 3 | G5: 3
C6: 3 | D6: LT03 | E6: Khí cụ điện và máy điện | F6: =G6+H6 -> 2 | G6: 2
C7: 4 | D7: LT04 | E7: Kỹ thuật số | F7: =G7+H7 -> 2 | G7: 2
C8: 5 | D8: LT05 | E8: Điện tử công suất | F8: =G8+H8 -> 2 | G8: 2
C9: 6 | D9: LT06 | E9: Kỹ thuật truyền số liệu | F9: =G9+H9 -> 5 | G9: 5
C10: 7 | D10: LT07 | F10: =G10+H10 -> 0
C11: 8 | D11: LT08 | F11: =G11+H11 -> 0
C12: 9 | D12: LT09 | F12: =G12+H12 -> 0
C13: 10 | D13: TH01 | E13: Thực tập Điện cơ bản | F13: =G13+H13 -> 2 | H13: 2
C14: 11 | D14: TH02 | E14: Thực tập Điện tử cơ bản | F14: =G14+H14 -> 2 | H14: 2
A15: 2 | B15: 13 CĐ - Đ 1, 2, 3, 4 | C15: 1 | D15: LT01 | E15: Anh văn 2 | F15: =G15+H15 -> 2 | G15: 2
C16: 2 | D16: LT02 | E16: Những NLCB của CNMLN 2 | F16: =G16+H16 -> 3 | G16: 3
C17: 3 | D17: LT03 | E17: Khí cụ điện và máy điện | F17: =G17+H17 -> 3 | G17: 3
C18: 4 | D18: LT04 | E18: Kỹ thuật số | F18: =G18+H18 -> 2 | G18: 2
C19: 5 | D19: LT05 | E19: Điện tử công suất | F19: =G19+H19 -> 2 | G19: 2
C20: 6 | D20: LT06 | E20: Kỹ thuật truyền số liệu | F20: =G20+H20 -> 2 | G20: 2
C21: 7 | D21: LT07 | F21: =G21+H21 -> 0
C22: 8 | D22: LT08 | F22: =G22+H22 -> 0
C23: 9 | D23: LT09 | F23: =G23+H23 -> 0
C24: 10 | D24: TH01 | E24: Thực tập Điện tử cơ bản | F24: =G24+H24 -> 2 | H24: 2
C25: 11 | D25: TH02 | E25: Thực tập Đo lường và mạch điện | F25: =G25+H25 -> 2 | H25: 2
A26: 3 | B26: 13 CĐ-CK 1, 2, 3, 4, 5 | C26: 1 | D26: LT01 | E26: Anh văn chuyên ngành | F26: =G26+H26 -> 2 | G26: 2
C27: 2 | D27: LT02 | E27: Tư tưởng Hồ Chí Minh | F27: =G27+H27 -> 2 | G27: 2
C28: 3 | D28: LT03 | E28: Cơ ứng dụng | F28: =G28+H28 -> 3 | G28: 3
C29: 4 | D29: LT04 | E29: Vật liệu học | F29: =G29+H29 -> 2 | G29: 2
C30: 5 | D30: LT05 | E30: Autocad (2D) | F30: =G30+H30 -> 2 | G30: 2
C31: 6 | D31: LT06 | F31: =G31+H31 -> 0
C32: 7 | D32: LT07 | F32: =G32+H32 -> 0
C33: 8 | D33: LT08 | F33: =G33+H33 -> 0
C34: 9 | D34: LT09 | F34: =G34+H34 -> 0
C35: 10 | D35: TH01 | E35: Thực tập Nguội - Hàn cơ bản | F35: =G35+H35 -> 3 | H35: 3
C36: 11 | D36: TH02 | E36: Thực tập Tiện 1 | F36: =G36+H36 -> 2 | H36: 2
A37: 4 | B37: 13 CĐ-Ô 1, 2, 3, 4 | C37: 1 | D37: LT01 | E37: Anh văn chuyên ngành | F37: =G37+H37 -> 2 | G37: 2
C38: 2 | D38: LT02 | E38: Tư tưởng Hồ Chí Minh | F38: =G38+H38 -> 2 | G38: 2
C39: 3 | D39: LT03 | E39: Vật liệu học | F39: =G39+H39 -> 2 | G39: 2
C40: 4 | D40: LT04 | E40: Công nghệ kim loại | F40: =G40+H40 -> 2 | G40: 2
C41: 5 | D41: LT05 | E41: Cơ lý thuyết | F41: =G41+H41 -> 2 | G41: 2
...

Sheet LOP-MON
A1: TT | B1: STT | C1: Lớp | D1: LT01 | E1: LT02 | F1: LT03 | G1: LT04 | H1: LT05 | I1: LT06 | J1: LT07 | K1: LT08 | L1: LT09 | M1: TH01 | N1: TH02
A2: 1 | B2: 1 | C2: 13CĐ-ĐT1 | D2: =VLOOKUP(D$1,'TEN HOC PHAN HKI'!$D$4:$F$14,2,0) -> Anh văn 2 | E2: =VLOOKUP(E$1,'TEN HOC PHAN HKI'!$D$4:$F$14,2,0) -> Những NLCB của CNMLN 2 | F2: =VLOOKUP(F$1,'TEN HOC PHAN HKI'!$D$4:$F$14,2,0) -> Khí cụ điện và máy điện | G2: =VLOOKUP(G$1,'TEN HOC PHAN HKI'!$D$4:$F$14,2,0) -> Kỹ thuật số | H2: =VLOOKUP(H$1,'TEN HOC PHAN HKI'!$D$4:$F$14,2,0) -> Điện tử công suất | I2: =VLOOKUP(I$1,'TEN HOC PHAN HKI'!$D$4:$F$14,2,0) -> Kỹ thuật truyền số liệu | J2: =VLOOKUP(J$1,'TEN HOC PHAN HKI'!$D$4:$F$14,2,0) -> 0 | K2: =VLOOKUP(K$1,'TEN HOC PHAN HKI'!$D$4:$F$14,2,0) -> 0 | ... N2: =VLOOKUP(N$1,'TEN HOC PHAN HKI'!$D$4:$F$14,2,0) -> Thực tập Điện tử cơ bản
C3: TC13CĐĐT1 | D3: =VLOOKUP(D$1,'TEN HOC PHAN HKI'!$D$4:$F$14,3,0) -> 3 | E3: =VLOOKUP(E$1,'TEN HOC PHAN HKI'!$D$4:$F$14,3,0) -> 3 | F3: =VLOOKUP(F$1,'TEN HOC PHAN HKI'!$D$4:$F$14,3,0) -> 2 | G3: =VLOOKUP(G$1,'TEN HOC PHAN HKI'!$D$4:$F$14,3,0) -> 2 | H3: =VLOOKUP(H$1,'TEN HOC PHAN HKI'!$D$4:$F$14,3,0) -> 2 | I3: =VLOOKUP(I$1,'TEN HOC PHAN HKI'!$D$4:$F$14,3,0) -> 5 | J3: =VLOOKUP(J$1,'TEN HOC PHAN HKI'!$D$4:$F$14,3,0) -> 0 | K3: =VLOOKUP(K$1,'TEN HOC PHAN HKI'!$D$4:$F$14,3,0) -> 0 | ... N3: =VLOOKUP(N$1,'TEN HOC PHAN HKI'!$D$4:$F$14,3,0) -> 2
A4: 2 | B4: 2 | C4: 13CĐ-ĐT2 | D4: =VLOOKUP(D$1,'TEN HOC PHAN HKI'!$D$4:$F$14,2,0) -> Anh văn 2 | E4: =VLOOKUP(E$1,'TEN HOC PHAN HKI'!$D$4:$F$14,2,0) -> Những NLCB của CNMLN 2 | F4: =VLOOKUP(F$1,'TEN HOC PHAN HKI'!$D$4:$F$14,2,0) -> Khí cụ điện và máy điện | G4: =VLOOKUP(G$1,'TEN HOC PHAN HKI'!$D$4:$F$14,2,0) -> Kỹ thuật số | H4: =VLOOKUP(H$1,'TEN HOC PHAN HKI'!$D$4:$F$14,2,0) -> Điện tử công suất | I4: =VLOOKUP(I$1,'TEN HOC PHAN HKI'!$D$4:$F$14,2,0) -> Kỹ thuật truyền số liệu | J4: =VLOOKUP(J$1,'TEN HOC PHAN HKI'!$D$4:$F$14,2,0) -> 0 | K4: =VLOOKUP(K$1,'TEN HOC PHAN HKI'!$D$4:$F$14,2,0) -> 0 | ... N4: =VLOOKUP(N$1,'TEN HOC PHAN HKI'!$D$4:$F$14,2,0) -> Thực tập Điện tử cơ bản
C5: TC13CĐĐT2 | D5: =VLOOKUP(D$1,'TEN HOC PHAN HKI'!$D$4:$F$14,3,0) -> 3 | E5: =VLOOKUP(E$1,'TEN HOC PHAN HKI'!$D$4:$F$14,3,0) -> 3 | F5: =VLOOKUP(F$1,'TEN HOC PHAN HKI'!$D$4:$F$14,3,0) -> 2 | G5: =VLOOKUP(G$1,'TEN HOC PHAN HKI'!$D$4:$F$14,3,0) -> 2 | H5: =VLOOKUP(H$1,'TEN HOC PHAN HKI'!$D$4:$F$14,3,0) -> 2 | I5: =VLOOKUP(I$1,'TEN HOC PHAN HKI'!$D$4:$F$14,3,0) -> 5 | J5: =VLOOKUP(J$1,'TEN HOC PHAN HKI'!$D$4:$F$14,3,0) -> 0 | K5: =VLOOKUP(K$1,'TEN HOC PHAN HKI'!$D$4:$F$14,3,0) -> 0 | ... N5: =VLOOKUP(N$1,'TEN HOC PHAN HKI'!$D$4:$F$14,3,0) -> 2
A6: 3 | B6: 3 | C6: 13CĐ-ĐT3 | D6: =VLOOKUP(D$1,'TEN HOC PHAN HKI'!$D$4:$F$14,2,0) -> Anh văn 2 | E6: =VLOOKUP(E$1,'TEN HOC PHAN HKI'!$D$4:$F$14,2,0) -> Những NLCB của CNMLN 2 | F6: =VLOOKUP(F$1,'TEN HOC PHAN HKI'!$D$4:$F$14,2,0) -> Khí cụ điện và máy điện | G6: =VLOOKUP(G$1,'TEN HOC PHAN HKI'!$D$4:$F$14,2,0) -> Kỹ thuật số | H6: =VLOOKUP(H$1,'TEN HOC PHAN HKI'!$D$4:$F$14,2,0) -> Điện tử công suất | I6: =VLOOKUP(I$1,'TEN HOC PHAN HKI'!$D$4:$F$14,2,0) -> Kỹ thuật truyền số liệu | J6: =VLOOKUP(J$1,'TEN HOC PHAN HKI'!$D$4:$F$14,2,0) -> 0 | K6: =VLOOKUP(K$1,'TEN HOC PHAN HKI'!$D$4:$F$14,2,0) -> 0 | ... N6: =VLOOKUP(N$1,'TEN HOC PHAN HKI'!$D$4:$F$14,2,0) -> Thực tập Điện tử cơ bản
C7: TC13CĐĐT3 | D7: =VLOOKUP(D$1,'TEN HOC PHAN HKI'!$D$4:$F$14,3,0) -> 3 | E7: =VLOOKUP(E$1,'TEN HOC PHAN HKI'!$D$4:$F$14,3,0) -> 3 | F7: =VLOOKUP(F$1,'TEN HOC PHAN HKI'!$D$4:$F$14,3,0) -> 2 | G7: =VLOOKUP(G$1,'TEN HOC PHAN HKI'!$D$4:$F$14,3,0) -> 2 | H7: =VLOOKUP(H$1,'TEN HOC PHAN HKI'!$D$4:$F$14,3,0) -> 2 | I7: =VLOOKUP(I$1,'TEN HOC PHAN HKI'!$D$4:$F$14,3,0) -> 5 | J7: =VLOOKUP(J$1,'TEN HOC PHAN HKI'!$D$4:$F$14,3,0) -> 0 | K7: =VLOOKUP(K$1,'TEN HOC PHAN HKI'!$D$4:$F$14,3,0) -> 0 | ... N7: =VLOOKUP(N$1,'TEN HOC PHAN HKI'!$D$4:$F$14,3,0) -> 2
A8: 4 | B8: 4 | C8: 13CĐ-ĐT4 | D8: =VLOOKUP(D$1,'TEN HOC PHAN HKI'!$D$4:$F$14,2,0) -> Anh văn 2 | E8: =VLOOKUP(E$1,'TEN HOC PHAN HKI'!$D$4:$F$14,2,0) -> Những NLCB của CNMLN 2 | F8: =VLOOKUP(F$1,'TEN HOC PHAN HKI'!$D$4:$F$14,2,0) -> Khí cụ điện và máy điện | G8: =VLOOKUP(G$1,'TEN HOC PHAN HKI'!$D$4:$F$14,2,0) -> Kỹ thuật số | H8: =VLOOKUP(H$1,'TEN HOC PHAN HKI'!$D$4:$F$14,2,0) -> Điện tử công suất | I8: =VLOOKUP(I$1,'TEN HOC PHAN HKI'!$D$4:$F$14,2,0) -> Kỹ thuật truyền số liệu | J8: =VLOOKUP(J$1,'TEN HOC PHAN HKI'!$D$4:$F$14,2,0) -> 0 | K8: =VLOOKUP(K$1,'TEN HOC PHAN HKI'!$D$4:$F$14,2,0) -> 0 | ... N8: =VLOOKUP(N$1,'TEN HOC PHAN HKI'!$D$4:$F$14,2,0) -> Thực tập Điện tử cơ bản
C9: TC13CĐĐT4 | D9: =VLOOKUP(D$1,'TEN HOC PHAN HKI'!$D$4:$F$14,3,0) -> 3 | E9: =VLOOKUP(E$1,'TEN HOC PHAN HKI'!$D$4:$F$14,3,0) -> 3 | F9: =VLOOKUP(F$1,'TEN HOC PHAN HKI'!$D$4:$F$14,3,0) -> 2 | G9: =VLOOKUP(G$1,'TEN HOC PHAN HKI'!$D$4:$F$14,3,0) -> 2 | H9: =VLOOKUP(H$1,'TEN HOC PHAN HKI'!$D$4:$F$14,3,0) -> 2 | I9: =VLOOKUP(I$1,'TEN HOC PHAN HKI'!$D$4:$F$14,3,0) -> 5 | J9: =VLOOKUP(J$1,'TEN HOC PHAN HKI'!$D$4:$F$14,3,0) -> 0 | K9: =VLOOKUP(K$1,'TEN HOC PHAN HKI'!$D$4:$F$14,3,0) -> 0 | ... N9: =VLOOKUP(N$1,'TEN HOC PHAN HKI'!$D$4:$F$14,3,0) -> 2
A10: 5 | B10: 1 | C10: 13CĐ-Đ1 | D10: =VLOOKUP(D$1,'TEN HOC PHAN HKI'!$D$15:$F$25,2,0) -> Anh văn 2 | E10: =VLOOKUP(E$1,'TEN HOC PHAN HKI'!$D$15:$F$25,2,0) -> Những NLCB của CNMLN 2 | F10: =VLOOKUP(F$1,'TEN HOC PHAN HKI'!$D$15:$F$25,2,0) -> Khí cụ điện và máy điện | G10: =VLOOKUP(G$1,'TEN HOC PHAN HKI'!$D$15:$F$25,2,0) -> Kỹ thuật số | H10: =VLOOKUP(H$1,'TEN HOC PHAN HKI'!$D$15:$F$25,2,0) -> Điện tử công suất | I10: =VLOOKUP(I$1,'TEN HOC PHAN HKI'!$D$15:$F$25,2,0) -> Kỹ thuật truyền số liệu | J10: =VLOOKUP(J$1,'TEN HOC PHAN HKI'!$D$15:$F$25,2,0) -> 0 | K10: =VLOOKUP(K$1,'TEN HOC PHAN HKI'!$D$15:$F$25,2,0) -> 0 | ... N10: =VLOOKUP(N$1,'TEN HOC PHAN HKI'!$D$15:$F$25,2,0) -> Thực tập Đo lường và mạch điện
C11: TC13CĐĐ1 | D11: =VLOOKUP(D$1,'TEN HOC PHAN HKI'!$D$15:$F$25,3,0) -> 2 | E11: =VLOOKUP(E$1,'TEN HOC PHAN HKI'!$D$15:$F$25,3,0) -> 3 | F11: =VLOOKUP(F$1,'TEN HOC PHAN HKI'!$D$15:$F$25,3,0) -> 3 | G11: =VLOOKUP(G$1,'TEN HOC PHAN HKI'!$D$15:$F$25,3,0) -> 2 | H11: =VLOOKUP(H$1,'TEN HOC PHAN HKI'!$D$15:$F$25,3,0) -> 2 | I11: =VLOOKUP(I$1,'TEN HOC PHAN HKI'!$D$15:$F$25,3,0) -> 2 | J11: =VLOOKUP(J$1,'TEN HOC PHAN HKI'!$D$15:$F$25,3,0) -> 0 | K11: =VLOOKUP(K$1,'TEN HOC PHAN HKI'!$D$15:$F$25,3,0) -> 0 | ... N11: =VLOOKUP(N$1,'TEN HOC PHAN HKI'!$D$15:$F$25,3,0) -> 2
A12: 6 | B12: 2 | C12: 13CĐ-Đ2 | D12: =VLOOKUP(D$1,'TEN HOC PHAN HKI'!$D$15:$F$25,2,0) -> Anh văn 2 | E12: =VLOOKUP(E$1,'TEN HOC PHAN HKI'!$D$15:$F$25,2,0) -> Những NLCB của CNMLN 2 | F12: =VLOOKUP(F$1,'TEN HOC PHAN HKI'!$D$15:$F$25,2,0) -> Khí cụ điện và máy điện | G12: =VLOOKUP(G$1,'TEN HOC PHAN HKI'!$D$15:$F$25,2,0) -> Kỹ thuật số | H12: =VLOOKUP(H$1,'TEN HOC PHAN HKI'!$D$15:$F$25,2,0) -> Điện tử công suất | I12: =VLOOKUP(I$1,'TEN HOC PHAN HKI'!$D$15:$F$25,2,0) -> Kỹ thuật truyền số liệu | J12: =VLOOKUP(J$1,'TEN HOC PHAN HKI'!$D$15:$F$25,2,0) -> 0 | K12: =VLOOKUP(K$1,'TEN HOC PHAN HKI'!$D$15:$F$25,2,0) -> 0 | ... N12: =VLOOKUP(N$1,'TEN HOC PHAN HKI'!$D$15:$F$25,2,0) -> Thực tập Đo lường và mạch điện
C13: TC13CĐĐ2 | D13: =VLOOKUP(D$1,'TEN HOC PHAN HKI'!$D$15:$F$25,3,0) -> 2 | E13: =VLOOKUP(E$1,'TEN HOC PHAN HKI'!$D$15:$F$25,3,0) -> 3 | F13: =VLOOKUP(F$1,'TEN HOC PHAN HKI'!$D$15:$F$25,3,0) -> 3 | G13: =VLOOKUP(G$1,'TEN HOC PHAN HKI'!$D$15:$F$25,3,0) -> 2 | H13: =VLOOKUP(H$1,'TEN HOC PHAN HKI'!$D$15:$F$25,3,0) -> 2 | I13: =VLOOKUP(I$1,'TEN HOC PHAN HKI'!$D$15:$F$25,3,0) -> 2 | J13: =VLOOKUP(J$1,'TEN HOC PHAN HKI'!$D$15:$F$25,3,0) -> 0 | K13: =VLOOKUP(K$1,'TEN HOC PHAN HKI'!$D$15:$F$25,3,0) -> 0 | ... N13: =VLOOKUP(N$1,'TEN HOC PHAN HKI'!$D$15:$F$25,3,0) -> 2
A14: 7 | B14: 3 | C14: 13CĐ-Đ3 | D14: =VLOOKUP(D$1,'TEN HOC PHAN HKI'!$D$15:$F$25,2,0) -> Anh văn 2 | E14: =VLOOKUP(E$1,'TEN HOC PHAN HKI'!$D$15:$F$25,2,0) -> Những NLCB của CNMLN 2 | F14: =VLOOKUP(F$1,'TEN HOC PHAN HKI'!$D$15:$F$25,2,0) -> Khí cụ điện và máy điện | G14: =VLOOKUP(G$1,'TEN HOC PHAN HKI'!$D$15:$F$25,2,0) -> Kỹ thuật số | H14: =VLOOKUP(H$1,'TEN HOC PHAN HKI'!$D$15:$F$25,2,0) -> Điện tử công suất | I14: =VLOOKUP(I$1,'TEN HOC PHAN HKI'!$D$15:$F$25,2,0) -> Kỹ thuật truyền số liệu | J14: =VLOOKUP(J$1,'TEN HOC PHAN HKI'!$D$15:$F$25,2,0) -> 0 | K14: =VLOOKUP(K$1,'TEN HOC PHAN HKI'!$D$15:$F$25,2,0) -> 0 | ... N14: =VLOOKUP(N$1,'TEN HOC PHAN HKI'!$D$15:$F$25,2,0) -> Thực tập Đo lường và mạch điện
C15: TC13CĐĐ3 | D15: =VLOOKUP(D$1,'TEN HOC PHAN HKI'!$D$15:$F$25,3,0) -> 2 | E15: =VLOOKUP(E$1,'TEN HOC PHAN HKI'!$D$15:$F$25,3,0) -> 3 | F15: =VLOOKUP(F$1,'TEN HOC PHAN HKI'!$D$15:$F$25,3,0) -> 3 | G15: =VLOOKUP(G$1,'TEN HOC PHAN HKI'!$D$15:$F$25,3,0) -> 2 | H15: =VLOOKUP(H$1,'TEN HOC PHAN HKI'!$D$15:$F$25,3,0) -> 2 | I15: =VLOOKUP(I$1,'TEN HOC PHAN HKI'!$D$15:$F$25,3,0) -> 2 | J15: =VLOOKUP(J$1,'TEN HOC PHAN HKI'!$D$15:$F$25,3,0) -> 0 | K15: =VLOOKUP(K$1,'TEN HOC PHAN HKI'!$D$15:$F$25,3,0) -> 0 | ... N15: =VLOOKUP(N$1,'TEN HOC PHAN HKI'!$D$15:$F$25,3,0) -> 2
A16: 8 | B16: 4 | C16: 13CĐ-Đ4 | D16: =VLOOKUP(D$1,'TEN HOC PHAN HKI'!$D$15:$F$25,2,0) -> Anh văn 2 | E16: =VLOOKUP(E$1,'TEN HOC PHAN HKI'!$D$15:$F$25,2,0) -> Những NLCB của CNMLN 2 | F16: =VLOOKUP(F$1,'TEN HOC PHAN HKI'!$D$15:$F$25,2,0) -> Khí cụ điện và máy điện | G16: =VLOOKUP(G$1,'TEN HOC PHAN HKI'!$D$15:$F$25,2,0) -> Kỹ thuật số | H16: =VLOOKUP(H$1,'TEN HOC PHAN HKI'!$D$15:$F$25,2,0) -> Điện tử công suất | I16: =VLOOKUP(I$1,'TEN HOC PHAN HKI'!$D$15:$F$25,2,0) -> Kỹ thuật truyền số liệu | J16: =VLOOKUP(J$1,'TEN HOC PHAN HKI'!$D$15:$F$25,2,0) -> 0 | K16: =VLOOKUP(K$1,'TEN HOC PHAN HKI'!$D$15:$F$25,2,0) -> 0 | ... N16: =VLOOKUP(N$1,'TEN HOC PHAN HKI'!$D$15:$F$25,2,0) -> Thực tập Đo lường và mạch điện
C17: TC13CĐĐ4 | D17: =VLOOKUP(D$1,'TEN HOC PHAN HKI'!$D$15:$F$25,3,0) -> 2 | E17: =VLOOKUP(E$1,'TEN HOC PHAN HKI'!$D$15:$F$25,3,0) -> 3 | F17: =VLOOKUP(F$1,'TEN HOC PHAN HKI'!$D$15:$F$25,3,0) -> 3 | G17: =VLOOKUP(G$1,'TEN HOC PHAN HKI'!$D$15:$F$25,3,0) -> 2 | H17: =VLOOKUP(H$1,'TEN HOC PHAN HKI'!$D$15:$F$25,3,0) -> 2 | I17: =VLOOKUP(I$1,'TEN HOC PHAN HKI'!$D$15:$F$25,3,0) -> 2 | J17: =VLOOKUP(J$1,'TEN HOC PHAN HKI'!$D$15:$F$25,3,0) -> 0 | K17: =VLOOKUP(K$1,'TEN HOC PHAN HKI'!$D$15:$F$25,3,0) -> 0 | ... N17: =VLOOKUP(N$1,'TEN HOC PHAN HKI'!$D$15:$F$25,3,0) -> 2
A18: 9 | B18: 1 | C18: 13CĐ-CK1 | D18: =VLOOKUP(D$1,'TEN HOC PHAN HKI'!$D$26:$F$36,2,0) -> Anh văn chuyên ngành | E18: =VLOOKUP(E$1,'TEN HOC PHAN HKI'!$D$26:$F$36,2,0) -> Tư tưởng Hồ Chí Minh | F18: =VLOOKUP(F$1,'TEN HOC PHAN HKI'!$D$26:$F$36,2,0) -> Cơ ứng dụng | G18: =VLOOKUP(G$1,'TEN HOC PHAN HKI'!$D$26:$F$36,2,0) -> Vật liệu học | H18: =VLOOKUP(H$1,'TEN HOC PHAN HKI'!$D$26:$F$36,2,0) -> Autocad (2D) | I18: =VLOOKUP(I$1,'TEN HOC PHAN HKI'!$D$26:$F$36,2,0) -> 0 | J18: =VLOOKUP(J$1,'TEN HOC PHAN HKI'!$D$26:$F$36,2,0) -> 0 | K18: =VLOOKUP(K$1,'TEN HOC PHAN HKI'!$D$26:$F$36,2,0) -> 0 | ... N18: =VLOOKUP(N$1,'TEN HOC PHAN HKI'!$D$26:$F$36,2,0) -> Thực tập Tiện 1
C19: TC13CĐCK1 | D19: =VLOOKUP(D$1,'TEN HOC PHAN HKI'!$D$26:$F$36,3,0) -> 2 | E19: =VLOOKUP(E$1,'TEN HOC PHAN HKI'!$D$26:$F$36,3,0) -> 2 | F19: =VLOOKUP(F$1,'TEN HOC PHAN HKI'!$D$26:$F$36,3,0) -> 3 | G19: =VLOOKUP(G$1,'TEN HOC PHAN HKI'!$D$26:$F$36,3,0) -> 2 | H19: =VLOOKUP(H$1,'TEN HOC PHAN HKI'!$D$26:$F$36,3,0) -> 2 | I19: =VLOOKUP(I$1,'TEN HOC PHAN HKI'!$D$26:$F$36,3,0) -> 0 | J19: =VLOOKUP(J$1,'TEN HOC PHAN HKI'!$D$26:$F$36,3,0) -> 0 | K19: =VLOOKUP(K$1,'TEN HOC PHAN HKI'!$D$26:$F$36,3,0) -> 0 | ... N19: =VLOOKUP(N$1,'TEN HOC PHAN HKI'!$D$26:$F$36,3,0) -> 2
A20: 10 | B20: 2 | C20: 13CĐ-CK2 | D20: =VLOOKUP(D$1,'TEN HOC PHAN HKI'!$D$26:$F$36,2,0) -> Anh văn chuyên ngành | E20: =VLOOKUP(E$1,'TEN HOC PHAN HKI'!$D$26:$F$36,2,0) -> Tư tưởng Hồ Chí Minh | F20: =VLOOKUP(F$1,'TEN HOC PHAN HKI'!$D$26:$F$36,2,0) -> Cơ ứng dụng | G20: =VLOOKUP(G$1,'TEN HOC PHAN HKI'!$D$26:$F$36,2,0) -> Vật liệu học | H20: =VLOOKUP(H$1,'TEN HOC PHAN HKI'!$D$26:$F$36,2,0) -> Autocad (2D) | I20: =VLOOKUP(I$1,'TEN HOC PHAN HKI'!$D$26:$F$36,2,0) -> 0 | J20: =VLOOKUP(J$1,'TEN HOC PHAN HKI'!$D$26:$F$36,2,0) -> 0 | K20: =VLOOKUP(K$1,'TEN HOC PHAN HKI'!$D$26:$F$36,2,0) -> 0 | ... N20: =VLOOKUP(N$1,'TEN HOC PHAN HKI'!$D$26:$F$36,2,0) -> Thực tập Tiện 1
C21: TC13CĐCK2 | D21: =VLOOKUP(D$1,'TEN HOC PHAN HKI'!$D$26:$F$36,3,0) -> 2 | E21: =VLOOKUP(E$1,'TEN HOC PHAN HKI'!$D$26:$F$36,3,0) -> 2 | F21: =VLOOKUP(F$1,'TEN HOC PHAN HKI'!$D$26:$F$36,3,0) -> 3 | G21: =VLOOKUP(G$1,'TEN HOC PHAN HKI'!$D$26:$F$36,3,0) -> 2 | H21: =VLOOKUP(H$1,'TEN HOC PHAN HKI'!$D$26:$F$36,3,0) -> 2 | I21: =VLOOKUP(I$1,'TEN HOC PHAN HKI'!$D$26:$F$36,3,0) -> 0 | J21: =VLOOKUP(J$1,'TEN HOC PHAN HKI'!$D$26:$F$36,3,0) -> 0 | K21: =VLOOKUP(K$1,'TEN HOC PHAN HKI'!$D$26:$F$36,3,0) -> 0 | ... N21: =VLOOKUP(N$1,'TEN HOC PHAN HKI'!$D$26:$F$36,3,0) -> 2
A22: 11 | B22: 3 | C22: 13CĐ-CK3 | D22: =VLOOKUP(D$1,'TEN HOC PHAN HKI'!$D$26:$F$36,2,0) -> Anh văn chuyên ngành | E22: =VLOOKUP(E$1,'TEN HOC PHAN HKI'!$D$26:$F$36,2,0) -> Tư tưởng Hồ Chí Minh | F22: =VLOOKUP(F$1,'TEN HOC PHAN HKI'!$D$26:$F$36,2,0) -> Cơ ứng dụng | G22: =VLOOKUP(G$1,'TEN HOC PHAN HKI'!$D$26:$F$36,2,0) -> Vật liệu học | H22: =VLOOKUP(H$1,'TEN HOC PHAN HKI'!$D$26:$F$36,2,0) -> Autocad (2D) | I22: =VLOOKUP(I$1,'TEN HOC PHAN HKI'!$D$26:$F$36,2,0) -> 0 | J22: =VLOOKUP(J$1,'TEN HOC PHAN HKI'!$D$26:$F$36,2,0) -> 0 | K22: =VLOOKUP(K$1,'TEN HOC PHAN HKI'!$D$26:$F$36,2,0) -> 0 | ... N22: =VLOOKUP(N$1,'TEN HOC PHAN HKI'!$D$26:$F$36,2,0) -> Thực tập Tiện 1
C23: TC13CĐCK3 | D23: =VLOOKUP(D$1,'TEN HOC PHAN HKI'!$D$26:$F$36,3,0) -> 2 | E23: =VLOOKUP(E$1,'TEN HOC PHAN HKI'!$D$26:$F$36,3,0) -> 2 | F23: =VLOOKUP(F$1,'TEN HOC PHAN HKI'!$D$26:$F$36,3,0) -> 3 | G23: =VLOOKUP(G$1,'TEN HOC PHAN HKI'!$D$26:$F$36,3,0) -> 2 | H23: =VLOOKUP(H$1,'TEN HOC PHAN HKI'!$D$26:$F$36,3,0) -> 2 | I23: =VLOOKUP(I$1,'TEN HOC PHAN HKI'!$D$26:$F$36,3,0) -> 0 | J23: =VLOOKUP(J$1,'TEN HOC PHAN HKI'!$D$26:$F$36,3,0) -> 0 | K23: =VLOOKUP(K$1,'TEN HOC PHAN HKI'!$D$26:$F$36,3,0) -> 0 | ... N23: =VLOOKUP(N$1,'TEN HOC PHAN HKI'!$D$26:$F$36,3,0) -> 2
A24: 12 | B24: 4 | C24: 13CĐ-CK4 | D24: =VLOOKUP(D$1,'TEN HOC PHAN HKI'!$D$26:$F$36,2,0) -> Anh văn chuyên ngành | E24: =VLOOKUP(E$1,'TEN HOC PHAN HKI'!$D$26:$F$36,2,0) -> Tư tưởng Hồ Chí Minh | F24: =VLOOKUP(F$1,'TEN HOC PHAN HKI'!$D$26:$F$36,2,0) -> Cơ ứng dụng | G24: =VLOOKUP(G$1,'TEN HOC PHAN HKI'!$D$26:$F$36,2,0) -> Vật liệu học | H24: =VLOOKUP(H$1,'TEN HOC PHAN HKI'!$D$26:$F$36,2,0) -> Autocad (2D) | I24: =VLOOKUP(I$1,'TEN HOC PHAN HKI'!$D$26:$F$36,2,0) -> 0 | J24: =VLOOKUP(J$1,'TEN HOC PHAN HKI'!$D$26:$F$36,2,0) -> 0 | K24: =VLOOKUP(K$1,'TEN HOC PHAN HKI'!$D$26:$F$36,2,0) -> 0 | ... N24: =VLOOKUP(N$1,'TEN HOC PHAN HKI'!$D$26:$F$36,2,0) -> Thực tập Tiện 1
C25: TC13CĐCK4 | D25: =VLOOKUP(D$1,'TEN HOC PHAN HKI'!$D$26:$F$36,3,0) -> 2 | E25: =VLOOKUP(E$1,'TEN HOC PHAN HKI'!$D$26:$F$36,3,0) -> 2 | F25: =VLOOKUP(F$1,'TEN HOC PHAN HKI'!$D$26:$F$36,3,0) -> 3 | G25: =VLOOKUP(G$1,'TEN HOC PHAN HKI'!$D$26:$F$36,3,0) -> 2 | H25: =VLOOKUP(H$1,'TEN HOC PHAN HKI'!$D$26:$F$36,3,0) -> 2 | I25: =VLOOKUP(I$1,'TEN HOC PHAN HKI'!$D$26:$F$36,3,0) -> 0 | J25: =VLOOKUP(J$1,'TEN HOC PHAN HKI'!$D$26:$F$36,3,0) -> 0 | K25: =VLOOKUP(K$1,'TEN HOC PHAN HKI'!$D$26:$F$36,3,0) -> 0 | ... N25: =VLOOKUP(N$1,'TEN HOC PHAN HKI'!$D$26:$F$36,3,0) -> 2
A26: 13 | B26: 5 | C26: 13CĐ-CK5 | D26: =VLOOKUP(D$1,'TEN HOC PHAN HKI'!$D$26:$F$36,2,0) -> Anh văn chuyên ngành | E26: =VLOOKUP(E$1,'TEN HOC PHAN HKI'!$D$26:$F$36,2,0) -> Tư tưởng Hồ Chí Minh | F26: =VLOOKUP(F$1,'TEN HOC PHAN HKI'!$D$26:$F$36,2,0) -> Cơ ứng dụng | G26: =VLOOKUP(G$1,'TEN HOC PHAN HKI'!$D$26:$F$36,2,0) -> Vật liệu học | H26: =VLOOKUP(H$1,'TEN HOC PHAN HKI'!$D$26:$F$36,2,0) -> Autocad (2D) | I26: =VLOOKUP(I$1,'TEN HOC PHAN HKI'!$D$26:$F$36,2,0) -> 0 | J26: =VLOOKUP(J$1,'TEN HOC PHAN HKI'!$D$26:$F$36,2,0) -> 0 | K26: =VLOOKUP(K$1,'TEN HOC PHAN HKI'!$D$26:$F$36,2,0) -> 0 | ... N26: =VLOOKUP(N$1,'TEN HOC PHAN HKI'!$D$26:$F$36,2,0) -> Thực tập Tiện 1
C27: TC13CĐCK5 | D27: =VLOOKUP(D$1,'TEN HOC PHAN HKI'!$D$26:$F$36,3,0) -> 2 | E27: =VLOOKUP(E$1,'TEN HOC PHAN HKI'!$D$26:$F$36,3,0) -> 2 | F27: =VLOOKUP(F$1,'TEN HOC PHAN HKI'!$D$26:$F$36,3,0) -> 3 | G27: =VLOOKUP(G$1,'TEN HOC PHAN HKI'!$D$26:$F$36,3,0) -> 2 | H27: =VLOOKUP(H$1,'TEN HOC PHAN HKI'!$D$26:$F$36,3,0) -> 2 | I27: =VLOOKUP(I$1,'TEN HOC PHAN HKI'!$D$26:$F$36,3,0) -> 0 | J27: =VLOOKUP(J$1,'TEN HOC PHAN HKI'!$D$26:$F$36,3,0) -> 0 | K27: =VLOOKUP(K$1,'TEN HOC PHAN HKI'!$D$26:$F$36,3,0) -> 0 | ... N27: =VLOOKUP(N$1,'TEN HOC PHAN HKI'!$D$26:$F$36,3,0) -> 2
A28: 14 | B28: 6 | C28: 13CĐ-CK6 | D28: =VLOOKUP(D$1,'TEN HOC PHAN HKI'!$D$26:$F$36,2,0) -> Anh văn chuyên ngành | E28: =VLOOKUP(E$1,'TEN HOC PHAN HKI'!$D$26:$F$36,2,0) -> Tư tưởng Hồ Chí Minh | F28: =VLOOKUP(F$1,'TEN HOC PHAN HKI'!$D$26:$F$36,2,0) -> Cơ ứng dụng | G28: =VLOOKUP(G$1,'TEN HOC PHAN HKI'!$D$26:$F$36,2,0) -> Vật liệu học | H28: =VLOOKUP(H$1,'TEN HOC PHAN HKI'!$D$26:$F$36,2,0) -> Autocad (2D) | I28: =VLOOKUP(I$1,'TEN HOC PHAN HKI'!$D$26:$F$36,2,0) -> 0 | J28: =VLOOKUP(J$1,'TEN HOC PHAN HKI'!$D$26:$F$36,2,0) -> 0 | K28: =VLOOKUP(K$1,'TEN HOC PHAN HKI'!$D$26:$F$36,2,0) -> 0 | ... N28: =VLOOKUP(N$1,'TEN HOC PHAN HKI'!$D$26:$F$36,2,0) -> Thực tập Tiện 1
C29: TC13CĐCK6 | D29: =VLOOKUP(D$1,'TEN HOC PHAN HKI'!$D$26:$F$36,3,0) -> 2 | E29: =VLOOKUP(E$1,'TEN HOC PHAN HKI'!$D$26:$F$36,3,0) -> 2 | F29: =VLOOKUP(F$1,'TEN HOC PHAN HKI'!$D$26:$F$36,3,0) -> 3 | G29: =VLOOKUP(G$1,'TEN HOC PHAN HKI'!$D$26:$F$36,3,0) -> 2 | H29: =VLOOKUP(H$1,'TEN HOC PHAN HKI'!$D$26:$F$36,3,0) -> 2 | I29: =VLOOKUP(I$1,'TEN HOC PHAN HKI'!$D$26:$F$36,3,0) -> 0 | J29: =VLOOKUP(J$1,'TEN HOC PHAN HKI'!$D$26:$F$36,3,0) -> 0 | K29: =VLOOKUP(K$1,'TEN HOC PHAN HKI'!$D$26:$F$36,3,0) -> 0 | ... N29: =VLOOKUP(N$1,'TEN HOC PHAN HKI'!$D$26:$F$36,3,0) -> 2
A30: 15 | B30: 1 | C30: 13CĐ-Ô1 | D30: =VLOOKUP(D$1,'TEN HOC PHAN HKI'!$D$37:$F$47,2,0) -> Anh văn chuyên ngành | E30: =VLOOKUP(E$1,'TEN HOC PHAN HKI'!$D$37:$F$47,2,0) -> Tư tưởng Hồ Chí Minh | F30: =VLOOKUP(F$1,'TEN HOC PHAN HKI'!$D$37:$F$47,2,0) -> Vật liệu học | G30: =VLOOKUP(G$1,'TEN HOC PHAN HKI'!$D$37:$F$47,2,0) -> Công nghệ kim loại | H30: =VLOOKUP(H$1,'TEN HOC PHAN HKI'!$D$37:$F$47,2,0) -> Cơ lý thuyết | I30: =VLOOKUP(I$1,'TEN HOC PHAN HKI'!$D$37:$F$47,2,0) -> Sức bền vật liệu | J30: =VLOOKUP(J$1,'TEN HOC PHAN HKI'!$D$37:$F$47,2,0) -> Kỹ thuật điện - điện tử | K30: =VLOOKUP(K$1,'TEN HOC PHAN HKI'!$D$37:$F$47,2,0) -> An toàn và môi trường CN | ... N30: =VLOOKUP(N$1,'TEN HOC PHAN HKI'!$D$37:$F$47,2,0) -> 0
C31: TC13CĐÔ1 | D31: =VLOOKUP(D$1,'TEN HOC PHAN HKI'!$D$37:$F$47,3,0) -> 2 | E31: =VLOOKUP(E$1,'TEN HOC PHAN HKI'!$D$37:$F$47,3,0) -> 2 | F31: =VLOOKUP(F$1,'TEN HOC PHAN HKI'!$D$37:$F$47,3,0) -> 2 | G31: =VLOOKUP(G$1,'TEN HOC PHAN HKI'!$D$37:$F$47,3,0) -> 2 | H31: =VLOOKUP(H$1,'TEN HOC PHAN HKI'!$D$37:$F$47,3,0) -> 2 | I31: =VLOOKUP(I$1,'TEN HOC PHAN HKI'!$D$37:$F$47,3,0) -> 2 | J31: =VLOOKUP(J$1,'TEN HOC PHAN HKI'!$D$37:$F$47,3,0) -> 3 | K31: =VLOOKUP(K$1,'TEN HOC PHAN HKI'!$D$37:$F$47,3,0) -> 2 | ... N31: =VLOOKUP(N$1,'TEN HOC PHAN HKI'!$D$37:$F$47,3,0) -> 0
A32: 16 | B32: 2 | C32: 13CĐ-Ô2 | D32: =VLOOKUP(D$1,'TEN HOC PHAN HKI'!$D$37:$F$47,2,0) -> Anh văn chuyên ngành | E32: =VLOOKUP(E$1,'TEN HOC PHAN HKI'!$D$37:$F$47,2,0) -> Tư tưởng Hồ Chí Minh | F32: =VLOOKUP(F$1,'TEN HOC PHAN HKI'!$D$37:$F$47,2,0) -> Vật liệu học | G32: =VLOOKUP(G$1,'TEN HOC PHAN HKI'!$D$37:$F$47,2,0) -> Công nghệ kim loại | H32: =VLOOKUP(H$1,'TEN HOC PHAN HKI'!$D$37:$F$47,2,0) -> Cơ lý thuyết | I32: =VLOOKUP(I$1,'TEN HOC PHAN HKI'!$D$37:$F$47,2,0) -> Sức bền vật liệu | J32: =VLOOKUP(J$1,'TEN HOC PHAN HKI'!$D$37:$F$47,2,0) -> Kỹ thuật điện - điện tử | K32: =VLOOKUP(K$1,'TEN HOC PHAN HKI'!$D$37:$F$47,2,0) -> An toàn và môi trường CN | ... N32: =VLOOKUP(N$1,'TEN HOC PHAN HKI'!$D$37:$F$47,2,0) -> 0
C33: TC13CĐÔ2 | D33: =VLOOKUP(D$1,'TEN HOC PHAN HKI'!$D$37:$F$47,3,0) -> 2 | E33: =VLOOKUP(E$1,'TEN HOC PHAN HKI'!$D$37:$F$47,3,0) -> 2 | F33: =VLOOKUP(F$1,'TEN HOC PHAN HKI'!$D$37:$F$47,3,0) -> 2 | G33: =VLOOKUP(G$1,'TEN HOC PHAN HKI'!$D$37:$F$47,3,0) -> 2 | H33: =VLOOKUP(H$1,'TEN HOC PHAN HKI'!$D$37:$F$47,3,0) -> 2 | I33: =VLOOKUP(I$1,'TEN HOC PHAN HKI'!$D$37:$F$47,3,0) -> 2 | J33: =VLOOKUP(J$1,'TEN HOC PHAN HKI'!$D$37:$F$47,3,0) -> 3 | K33: =VLOOKUP(K$1,'TEN HOC PHAN HKI'!$D$37:$F$47,3,0) -> 2 | ... N33: =VLOOKUP(N$1,'TEN HOC PHAN HKI'!$D$37:$F$47,3,0) -> 0
A34: 17 | B34: 3 | C34: 13CĐ-Ô3 | D34: =VLOOKUP(D$1,'TEN HOC PHAN HKI'!$D$37:$F$47,2,0) -> Anh văn chuyên ngành | E34: =VLOOKUP(E$1,'TEN HOC PHAN HKI'!$D$37:$F$47,2,0) -> Tư tưởng Hồ Chí Minh | F34: =VLOOKUP(F$1,'TEN HOC PHAN HKI'!$D$37:$F$47,2,0) -> Vật liệu học | G34: =VLOOKUP(G$1,'TEN HOC PHAN HKI'!$D$37:$F$47,2,0) -> Công nghệ kim loại | H34: =VLOOKUP(H$1,'TEN HOC PHAN HKI'!$D$37:$F$47,2,0) -> Cơ lý thuyết | I34: =VLOOKUP(I$1,'TEN HOC PHAN HKI'!$D$37:$F$47,2,0) -> Sức bền vật liệu | J34: =VLOOKUP(J$1,'TEN HOC PHAN HKI'!$D$37:$F$47,2,0) -> Kỹ thuật điện - điện tử | K34: =VLOOKUP(K$1,'TEN HOC PHAN HKI'!$D$37:$F$47,2,0) -> An toàn và môi trường CN | ... N34: =VLOOKUP(N$1,'TEN HOC PHAN HKI'!$D$37:$F$47,2,0) -> 0
C35: TC13CĐÔ3 | D35: =VLOOKUP(D$1,'TEN HOC PHAN HKI'!$D$37:$F$47,3,0) -> 2 | E35: =VLOOKUP(E$1,'TEN HOC PHAN HKI'!$D$37:$F$47,3,0) -> 2 | F35: =VLOOKUP(F$1,'TEN HOC PHAN HKI'!$D$37:$F$47,3,0) -> 2 | G35: =VLOOKUP(G$1,'TEN HOC PHAN HKI'!$D$37:$F$47,3,0) -> 2 | H35: =VLOOKUP(H$1,'TEN HOC PHAN HKI'!$D$37:$F$47,3,0) -> 2 | I35: =VLOOKUP(I$1,'TEN HOC PHAN HKI'!$D$37:$F$47,3,0) -> 2 | J35: =VLOOKUP(J$1,'TEN HOC PHAN HKI'!$D$37:$F$47,3,0) -> 3 | K35: =VLOOKUP(K$1,'TEN HOC PHAN HKI'!$D$37:$F$47,3,0) -> 2 | ... N35: =VLOOKUP(N$1,'TEN HOC PHAN HKI'!$D$37:$F$47,3,0) -> 0
A36: 18 | B36: 4 | C36: 13CĐ-Ô4 | D36: =VLOOKUP(D$1,'TEN HOC PHAN HKI'!$D$37:$F$47,2,0) -> Anh văn chuyên ngành | E36: =VLOOKUP(E$1,'TEN HOC PHAN HKI'!$D$37:$F$47,2,0) -> Tư tưởng Hồ Chí Minh | F36: =VLOOKUP(F$1,'TEN HOC PHAN HKI'!$D$37:$F$47,2,0) -> Vật liệu học | G36: =VLOOKUP(G$1,'TEN HOC PHAN HKI'!$D$37:$F$47,2,0) -> Công nghệ kim loại | H36: =VLOOKUP(H$1,'TEN HOC PHAN HKI'!$D$37:$F$47,2,0) -> Cơ lý thuyết | I36: =VLOOKUP(I$1,'TEN HOC PHAN HKI'!$D$37:$F$47,2,0) -> Sức bền vật liệu | J36: =VLOOKUP(J$1,'TEN HOC PHAN HKI'!$D$37:$F$47,2,0) -> Kỹ thuật điện - điện tử | K36: =VLOOKUP(K$1,'TEN HOC PHAN HKI'!$D$37:$F$47,2,0) -> An toàn và môi trường CN | ... N36: =VLOOKUP(N$1,'TEN HOC PHAN HKI'!$D$37:$F$47,2,0) -> 0
C37: TC13CĐÔ4 | D37: =VLOOKUP(D$1,'TEN HOC PHAN HKI'!$D$37:$F$47,3,0) -> 2 | E37: =VLOOKUP(E$1,'TEN HOC PHAN HKI'!$D$37:$F$47,3,0) -> 2 | F37: =VLOOKUP(F$1,'TEN HOC PHAN HKI'!$D$37:$F$47,3,0) -> 2 | G37: =VLOOKUP(G$1,'TEN HOC PHAN HKI'!$D$37:$F$47,3,0) -> 2 | H37: =VLOOKUP(H$1,'TEN HOC PHAN HKI'!$D$37:$F$47,3,0) -> 2 | I37: =VLOOKUP(I$1,'TEN HOC PHAN HKI'!$D$37:$F$47,3,0) -> 2 | J37: =VLOOKUP(J$1,'TEN HOC PHAN HKI'!$D$37:$F$47,3,0) -> 3 | K37: =VLOOKUP(K$1,'TEN HOC PHAN HKI'!$D$37:$F$47,3,0) -> 2 | ... N37: =VLOOKUP(N$1,'TEN HOC PHAN HKI'!$D$37:$F$47,3,0) -> 0
A38: 19 | B38: 5 | C38: 13CĐ-Ô5 | D38: =VLOOKUP(D$1,'TEN HOC PHAN HKI'!$D$37:$F$47,2,0) -> Anh văn chuyên ngành | E38: =VLOOKUP(E$1,'TEN HOC PHAN HKI'!$D$37:$F$47,2,0) -> Tư tưởng Hồ Chí Minh | F38: =VLOOKUP(F$1,'TEN HOC PHAN HKI'!$D$37:$F$47,2,0) -> Vật liệu học | G38: =VLOOKUP(G$1,'TEN HOC PHAN HKI'!$D$37:$F$47,2,0) -> Công nghệ kim loại | H38: =VLOOKUP(H$1,'TEN HOC PHAN HKI'!$D$37:$F$47,2,0) -> Cơ lý thuyết | I38: =VLOOKUP(I$1,'TEN HOC PHAN HKI'!$D$37:$F$47,2,0) -> Sức bền vật liệu | J38: =VLOOKUP(J$1,'TEN HOC PHAN HKI'!$D$37:$F$47,2,0) -> Kỹ thuật điện - điện tử | K38: =VLOOKUP(K$1,'TEN HOC PHAN HKI'!$D$37:$F$47,2,0) -> An toàn và môi trường CN | ... N38: =VLOOKUP(N$1,'TEN HOC PHAN HKI'!$D$37:$F$47,2,0) -> 0
C39: TC13CĐÔ5 | D39: =VLOOKUP(D$1,'TEN HOC PHAN HKI'!$D$37:$F$47,3,0) -> 2 | E39: =VLOOKUP(E$1,'TEN HOC PHAN HKI'!$D$37:$F$47,3,0) -> 2 | F39: =VLOOKUP(F$1,'TEN HOC PHAN HKI'!$D$37:$F$47,3,0) -> 2 | G39: =VLOOKUP(G$1,'TEN HOC PHAN HKI'!$D$37:$F$47,3,0) -> 2 | H39: =VLOOKUP(H$1,'TEN HOC PHAN HKI'!$D$37:$F$47,3,0) -> 2 | I39: =VLOOKUP(I$1,'TEN HOC PHAN HKI'!$D$37:$F$47,3,0) -> 2 | J39: =VLOOKUP(J$1,'TEN HOC PHAN HKI'!$D$37:$F$47,3,0) -> 3 | K39: =VLOOKUP(K$1,'TEN HOC PHAN HKI'!$D$37:$F$47,3,0) -> 2 | ... N39: =VLOOKUP(N$1,'TEN HOC PHAN HKI'!$D$37:$F$47,3,0) -> 0
A40: 20 | B40: 1 | C40: 13CĐ-NL1 | D40: =VLOOKUP(D$1,'TEN HOC PHAN HKI'!$D$48:$F$58,2,0) -> Anh văn chuyên ngành | E40: =VLOOKUP(E$1,'TEN HOC PHAN HKI'!$D$48:$F$58,2,0) -> Tư tưởng Hồ Chí Minh | F40: =VLOOKUP(F$1,'TEN HOC PHAN HKI'!$D$48:$F$58,2,0) -> Kỹ thuật điện | G40: =VLOOKUP(G$1,'TEN HOC PHAN HKI'!$D$48:$F$58,2,0) -> Kỹ thuật điện tử | H40: =VLOOKUP(H$1,'TEN HOC PHAN HKI'!$D$48:$F$58,2,0) -> Nhiệt động kỹ thuật | I40: =VLOOKUP(I$1,'TEN HOC PHAN HKI'!$D$48:$F$58,2,0) -> Truyền nhiệt | J40: =VLOOKUP(J$1,'TEN HOC PHAN HKI'!$D$48:$F$58,2,0) -> Bơm quạt máy nén | K40: =VLOOKUP(K$1,'TEN HOC PHAN HKI'!$D$48:$F$58,2,0) -> 0 | ... N40: =VLOOKUP(N$1,'TEN HOC PHAN HKI'!$D$48:$F$58,2,0) -> 0
...

Sheet DS LOP HKI
A1: STT | B1: MSSV | C1: Họ | D1: Tên | E1: Ngày sinh | F1: Lớp | G1: Phái | H1: Hệ | I1: ="Khoá 13CĐ = "&COUNTIF(J:J,"13") -> Khoá 13CĐ = 943 | K1: DS ngày 08/12/2014 | L1: =MAX(A:A) -> 57
A2: 1 | B2: 13D3010005 | C2: Nguyễn Thành | D2: Chung | E2: 10.02.94 | F2: 13CĐ-ĐT1 | H2: B | J2: =LEFT(F2,2) -> 13
A3: 2 | B3: 13D3010010 | C3: Bùi Thanh | D3: Diễn | E3: 12.05.95 | F3: 13CĐ-ĐT1 | H3: B | J3: =LEFT(F3,2) -> 13
A4: 3 | B4: 13D3010014 | C4: Nguyễn Khánh | D4: Duy | E4: 26.09.95 | F4: 13CĐ-ĐT1 | H4: B | J4: =LEFT(F4,2) -> 13
A5: 4 | B5: 13D3010018 | C5: Nguyễn Hải | D5: Đăng | E5: 19.05.95 | F5: 13CĐ-ĐT1 | H5: B | J5: =LEFT(F5,2) -> 13
A6: 5 | B6: 13D3010022 | C6: Nguyễn Trung | D6: Đức | E6: 15.02.95 | F6: 13CĐ-ĐT1 | H6: A | J6: =LEFT(F6,2) -> 13
A7: 6 | B7: 13D3010026 | C7: Phạm Giang | D7: Hải | E7: 20.05.95 | F7: 13CĐ-ĐT1 | H7: B | I7: CL.T.Minh | J7: =LEFT(F7,2) -> 13
A8: 7 | B8: 13D3010027 | C8: Trần Văn | D8: Hạnh | E8: 14.02.95 | F8: 13CĐ-ĐT1 | H8: B | J8: =LEFT(F8,2) -> 13
A9: 8 | B9: 13D3010039 | C9: Nguyễn Văn | D9: Hoanh | E9: 14.10.95 | F9: 13CĐ-ĐT1 | H9: B | J9: =LEFT(F9,2) -> 13
A10: 9 | B10: 13D3010045 | C10: Lê Thành | D10: Huy | E10: 25.04.95 | F10: 13CĐ-ĐT1 | H10: B | J10: =LEFT(F10,2) -> 13
A11: 10 | B11: 13D3010051 | C11: Huỳnh Duy | D11: Khánh | E11: 09.10.95 | F11: 13CĐ-ĐT1 | H11: B | J11: =LEFT(F11,2) -> 13
A12: 11 | B12: 12D3010064 | C12: Nguyễn Văn | D12: Khương | E12: 30.06.94 | F12: 13CĐ-ĐT1 | H12: B | I12: VPNQ07/10/14CC2 | J12: =LEFT(F12,2) -> 13
A13: 12 | B13: 13D3010057 | C13: Trần Văn | D13: Kiệt | E13: 10.05.95 | F13: 13CĐ-ĐT1 | H13: B | J13: =LEFT(F13,2) -> 13
A14: 13 | B14: 13D3010063 | C14: Trần Văn | D14: Linh | E14: 08.10.94 | F14: 13CĐ-ĐT1 | H14: B | J14: =LEFT(F14,2) -> 13
A15: 14 | B15: 13D3010073 | C15: Trịnh Phương | D15: Nam | E15: 21.02.95 | F15: 13CĐ-ĐT1 | H15: A | J15: =LEFT(F15,2) -> 13
A16: 15 | B16: 13D3010077 | C16: Lâm Trọng | D16: Nhân | E16: 04.09.95 | F16: 13CĐ-ĐT1 | G16: LT | H16: B | J16: =LEFT(F16,2) -> 13
A17: 16 | B17: 13D3010042 | C17: Nguyễn Sinh | D17: Nhật | E17: 12.01.95 | F17: 13CĐ-ĐT1 | H17: B | J17: =LEFT(F17,2) -> 13
A18: 17 | B18: 13D3010086 | C18: Viên Ngọc | D18: Phú | E18: 09.11.95 | F18: 13CĐ-ĐT1 | H18: B | J18: =LEFT(F18,2) -> 13
A19: 18 | B19: 13D3010092 | C19: Nguyễn Anh | D19: Phụng | E19: 19.05.95 | F19: 13CĐ-ĐT1 | H19: B | J19: =LEFT(F19,2) -> 13
A20: 19 | B20: 13D3010095 | C20: Trịnh Ngọc | D20: Phước | E20: 12.12.95 | F20: 13CĐ-ĐT1 | H20: B | I20: VPNQ07/10/14CC2 | J20: =LEFT(F20,2) -> 13
A21: 20 | B21: 13D3010098 | C21: Nguyễn Minh | D21: Phương | E21: 20.03.94 | F21: 13CĐ-ĐT1 | G21: Nữ | H21: B | J21: =LEFT(F21,2) -> 13
A22: 21 | B22: 13D3010099 | C22: Trương Thái | D22: Quốc | E22: 11.01.95 | F22: 13CĐ-ĐT1 | H22: B | J22: =LEFT(F22,2) -> 13
A23: 22 | B23: 13D3010102 | C23: Nguyễn Đức | D23: Quynh | E23: 15.10.94 | F23: 13CĐ-ĐT1 | H23: B | J23: =LEFT(F23,2) -> 13
A24: 23 | B24: 13D3010105 | C24: Nguyễn Công | D24: Sơn | E24: 05.04.95 | F24: 13CĐ-ĐT1 | H24: B | J24: =LEFT(F24,2) -> 13
A25: 24 | B25: 13D3010117 | C25: Lê Chí Hoàng | D25: Thắng | E25: 18.04.95 | F25: 13CĐ-ĐT1 | G25: LPHT | H25: A | J25: =LEFT(F25,2) -> 13
A26: 25 | B26: 13D3010120 | C26: Bùi Văn | D26: Thành | E26: 08.09.93 | F26: 13CĐ-ĐT1 | H26: B | J26: =LEFT(F26,2) -> 13
A27: 26 | B27: 13D3010123 | C27: Phạm Văn | D27: Thể | E27: 20.09.95 | F27: 13CĐ-ĐT1 | H27: B | J27: =LEFT(F27,2) -> 13
A28: 27 | B28: 13D3010129 | C28: Ngô Công | D28: Thuật | E28: 09.06.94 | F28: 13CĐ-ĐT1 | H28: B | J28: =LEFT(F28,2) -> 13
A29: 28 | B29: 13D3010135 | C29: Nguyễn Minh | D29: Toàn | E29: 30.09.95 | F29: 13CĐ-ĐT1 | H29: B | J29: =LEFT(F29,2) -> 13
A30: 29 | B30: 13D3010138 | C30: Lê Quang | D30: Trãi | E30: 15.01.95 | F30: 13CĐ-ĐT1 | H30: B | J30: =LEFT(F30,2) -> 13
A31: 30 | B31: 13D3010144 | C31: Trần Nhựt | D31: Trường | E31: 30.07.95 | F31: 13CĐ-ĐT1 | G31: LPKL | H31: B | J31: =LEFT(F31,2) -> 13
A32: 31 | B32: 13D3010031 | C32: Lê Thanh | D32: Tùng | E32: 19.01.94 | F32: 13CĐ-ĐT1 | H32: B | J32: =LEFT(F32,2) -> 13
A33: 32 | B33: 13D3010155 | C33: Lâm Xuân | D33: Vũ | E33: 01.05.95 | F33: 13CĐ-ĐT1 | H33: B | J33: =LEFT(F33,2) -> 13
A34: 1 | B34: 13D3010002 | C34: Đinh Khắc | D34: Bình | E34: 15.03.95 | F34: 13CĐ-ĐT2 | H34: B | J34: =LEFT(F34,2) -> 13
A35: 2 | B35: 13D3010011 | C35: Nguyễn Đình | D35: Dũng | E35: 26.11.93 | F35: 13CĐ-ĐT2 | G35: LPHT | H35: B | J35: =LEFT(F35,2) -> 13
A36: 3 | B36: 13D3010023 | C36: Nguyễn Trường | D36: Giang | E36: 07.08.93 | F36: 13CĐ-ĐT2 | H36: A | J36: =LEFT(F36,2) -> 13
A37: 4 | B37: 13D3010036 | C37: Đinh Khải | D37: Hoàn | E37: 19.11.94 | F37: 13CĐ-ĐT2 | G37: LPKL | H37: B | J37: =LEFT(F37,2) -> 13
A38: 5 | B38: 13D3010040 | C38: Nguyễn Ngọc | D38: Huấn | E38: 17.04.95 | F38: 13CĐ-ĐT2 | H38: B | J38: =LEFT(F38,2) -> 13
A39: 6 | B39: 13D3010046 | C39: Mai Ngọc | D39: Huy | E39: 27.04.94 | F39: 13CĐ-ĐT2 | H39: B | J39: =LEFT(F39,2) -> 13
A40: 7 | B40: 13D3010049 | C40: Bùi Văn | D40: Huỳnh | E40: 04.10.94 | F40: 13CĐ-ĐT2 | H40: B | J40: =LEFT(F40,2) -> 13
...

Sheet TK NỢ HP
A1: ỦY BAN NHÂN DÂN THÀNH PHỐ HỒ CHÍ MINH
A2: TRƯỜNG CĐKT LÝ TỰ TRỌNG THÀNH PHỐ HỒ CHÍ MINH
B3: LỚP: | C3: =IF($B8="","",IF(ISNA(VLOOKUP($B8,'DS LOP HKI'!$B$2:$F$1873,5,FALSE))=TRUE,"",VLOOKUP($B8,'DS LOP HKI'!$B$2:$F$1873,5,FALSE))) -> 13CĐ-Đ1 | D3: SS: | E3: =IF(B8="",0,MAX($A$8:$A$73)) -> 35
A4: BẢNG THỐNG KÊ NỢ HỌC PHẦN KỲ THI CHÍNH
C5: HỌC KỲ: | D5: I | G5: NĂM HỌC: | I5: 2014-2015
A6: STT | B6: MSSV | C6: Họ tên sinh viên | E6: Số HP nợ | F6: Số TC nợ | G6: =IF('LT01'!$C$6="","",'LT01'!$C$6) -> Anh văn 2 | H6: =IF('LT02'!$C$6="","",'LT02'!$C$6) -> Những NLCB của CNMLN 2 | I6: =IF('LT03'!$C$6="","",'LT03'!$C$6) -> Khí cụ điện và máy điện | J6: =IF('LT04'!$C$6="","",'LT04'!$C$6) -> Kỹ thuật số | K6: =IF('LT05'!$C$6="","",'LT05'!$C$6) -> Điện tử công suất | L6: =IF('LT06'!$C$6="","",'LT06'!$C$6) -> Kỹ thuật truyền số liệu | M6: =IF('LT07'!$C$6="","",'LT07'!$C$6) | N6: =IF('LT08'!$C$6="","",'LT08'!$C$6) | O6: =IF('LT09'!$C$6="","",'LT09'!$C$6) | P6: =IF('TH01'!$C$6="","",'TH01'!$C$6) -> Thực tập Điện tử cơ bản | Q6: =IF('TH02'!$C$6="","",'TH02'!$C$6) -> Thực tập Đo lường và mạch điện
A7: Số tín chỉ | G7: =IF('LT01'!$J$6="","",'LT01'!$J$6) -> 2 | H7: =IF('LT02'!$J$6="","",'LT02'!$J$6) -> 3 | I7: =IF('LT03'!$J$6="","",'LT03'!$J$6) -> 3 | J7: =IF('LT04'!$J$6="","",'LT04'!$J$6) -> 2 | K7: =IF('LT05'!$J$6="","",'LT05'!$J$6) -> 2 | L7: =IF('LT06'!$J$6="","",'LT06'!$J$6) -> 2 | M7: =IF('LT07'!$J$6="","",'LT07'!$J$6) | N7: =IF('LT08'!$J$6="","",'LT08'!$J$6) | O7: =IF('LT09'!$J$6="","",'LT09'!$J$6) | P7: =IF('TH01'!$J$6="","",'TH01'!$J$6) -> 2 | Q7: =IF('TH02'!$J$6="","",'TH02'!$J$6) -> 2
A8: =IF(B8="",1,SUBTOTAL(3,$B$8:B8)) -> 1 | B8: =IF(HKI!$B11="","",HKI!B11) -> 13D301Đ001 | C8: =IF(HKI!$B11="","",HKI!C11) -> Lương Hoàng Thuận | D8: =IF(HKI!$B11="","",HKI!D11) -> An | E8: =IF(COUNTIF(G8:P8,"X")>0,COUNTIF(G8:P8,"X"),"") | F8: =IF(COUNTIF(G8:P8,"X")=0,"",SUMIF(G8:P8,"X",$G$7:$P$7)) | G8: =IF(HKI!I11<4,"X","") | H8: =IF(HKI!M11<4,"X","") | I8: =IF(HKI!Q11<4,"X","") | J8: =IF(HKI!U11<4,"X","") | K8: =IF(HKI!Y11<4,"X","") | L8: =IF(HKI!AC11<4,"X","") | M8: =IF(HKI!AG11<4,"X","") | N8: =IF(HKI!AK11<4,"X","") | O8: =IF(HKI!AO11<4,"X","") | P8: =IF(HKI!AS11<4,"X","") | Q8: =IF(HKI!AW11<4,"X","")
A9: =IF(B9="","",SUBTOTAL(3,$B$8:B9)) -> 2 | B9: =IF(HKI!$B12="","",HKI!B12) -> 13D301Đ009 | C9: =IF(HKI!$B12="","",HKI!C12) -> Võ Thành | D9: =IF(HKI!$B12="","",HKI!D12) -> Bảo | E9: =IF(COUNTIF(G9:P9,"X")>0,COUNTIF(G9:P9,"X"),"") -> 1 | F9: =IF(COUNTIF(G9:P9,"X")=0,"",SUMIF(G9:P9,"X",$G$7:$P$7)) -> 3 | G9: =IF(HKI!I12<4,"X","") | H9: =IF(HKI!M12<4,"X","") | I9: =IF(HKI!Q12<4,"X","") -> X | J9: =IF(HKI!U12<4,"X","") | K9: =IF(HKI!Y12<4,"X","") | L9: =IF(HKI!AC12<4,"X","") | M9: =IF(HKI!AG12<4,"X","") | N9: =IF(HKI!AK12<4,"X","") | O9: =IF(HKI!AO12<4,"X","") | P9: =IF(HKI!AS12<4,"X","") | Q9: =IF(HKI!AW12<4,"X","")
A10: =IF(B10="","",SUBTOTAL(3,$B$8:B10)) -> 3 | B10: =IF(HKI!$B13="","",HKI!B13) -> 13D301Đ013 | C10: =IF(HKI!$B13="","",HKI!C13) -> Nguyễn Chí | D10: =IF(HKI!$B13="","",HKI!D13) -> Bình | E10: =IF(COUNTIF(G10:P10,"X")>0,COUNTIF(G10:P10,"X"),"") | F10: =IF(COUNTIF(G10:P10,"X")=0,"",SUMIF(G10:P10,"X",$G$7:$P$7)) | G10: =IF(HKI!I13<4,"X","") | H10: =IF(HKI!M13<4,"X","") | I10: =IF(HKI!Q13<4,"X","") | J10: =IF(HKI!U13<4,"X","") | K10: =IF(HKI!Y13<4,"X","") | L10: =IF(HKI!AC13<4,"X","") | M10: =IF(HKI!AG13<4,"X","") | N10: =IF(HKI!AK13<4,"X","") | O10: =IF(HKI!AO13<4,"X","") | P10: =IF(HKI!AS13<4,"X","") | Q10: =IF(HKI!AW13<4,"X","")
A11: =IF(B11="","",SUBTOTAL(3,$B$8:B11)) -> 4 | B11: =IF(HKI!$B14="","",HKI!B14) -> 13D301Đ017 | C11: =IF(HKI!$B14="","",HKI!C14) -> Trần Văn | D11: =IF(HKI!$B14="","",HKI!D14) -> Chinh | E11: =IF(COUNTIF(G11:P11,"X")>0,COUNTIF(G11:P11,"X"),"") | F11: =IF(COUNTIF(G11:P11,"X")=0,"",SUMIF(G11:P11,"X",$G$7:$P$7)) | G11: =IF(HKI!I14<4,"X","") | H11: =IF(HKI!M14<4,"X","") | I11: =IF(HKI!Q14<4,"X","") | J11: =IF(HKI!U14<4,"X","") | K11: =IF(HKI!Y14<4,"X","") | L11: =IF(HKI!AC14<4,"X","") | M11: =IF(HKI!AG14<4,"X","") | N11: =IF(HKI!AK14<4,"X","") | O11: =IF(HKI!AO14<4,"X","") | P11: =IF(HKI!AS14<4,"X","") | Q11: =IF(HKI!AW14<4,"X","")
A12: =IF(B12="","",SUBTOTAL(3,$B$8:B12)) -> 5 | B12: =IF(HKI!$B15="","",HKI!B15) -> 13D301Đ021 | C12: =IF(HKI!$B15="","",HKI!C15) -> Nguyễn Chí | D12: =IF(HKI!$B15="","",HKI!D15) -> Cường | E12: =IF(COUNTIF(G12:P12,"X")>0,COUNTIF(G12:P12,"X"),"") -> 2 | F12: =IF(COUNTIF(G12:P12,"X")=0,"",SUMIF(G12:P12,"X",$G$7:$P$7)) -> 4 | G12: =IF(HKI!I15<4,"X","") | H12: =IF(HKI!M15<4,"X","") | I12: =IF(HKI!Q15<4,"X","") | J12: =IF(HKI!U15<4,"X","") -> X | K12: =IF(HKI!Y15<4,"X","") | L12: =IF(HKI!AC15<4,"X","") -> X | M12: =IF(HKI!AG15<4,"X","") | N12: =IF(HKI!AK15<4,"X","") | O12: =IF(HKI!AO15<4,"X","") | P12: =IF(HKI!AS15<4,"X","") | Q12: =IF(HKI!AW15<4,"X","")
A13: =IF(B13="","",SUBTOTAL(3,$B$8:B13)) -> 6 | B13: =IF(HKI!$B16="","",HKI!B16) -> 13D301Đ025 | C13: =IF(HKI!$B16="","",HKI!C16) -> Nguyễn Ngọc | D13: =IF(HKI!$B16="","",HKI!D16) -> Dũng | E13: =IF(COUNTIF(G13:P13,"X")>0,COUNTIF(G13:P13,"X"),"") -> 1 | F13: =IF(COUNTIF(G13:P13,"X")=0,"",SUMIF(G13:P13,"X",$G$7:$P$7)) -> 2 | G13: =IF(HKI!I16<4,"X","") | H13: =IF(HKI!M16<4,"X","") | I13: =IF(HKI!Q16<4,"X","") | J13: =IF(HKI!U16<4,"X","") -> X | K13: =IF(HKI!Y16<4,"X","") | L13: =IF(HKI!AC16<4,"X","") | M13: =IF(HKI!AG16<4,"X","") | N13: =IF(HKI!AK16<4,"X","") | O13: =IF(HKI!AO16<4,"X","") | P13: =IF(HKI!AS16<4,"X","") | Q13: =IF(HKI!AW16<4,"X","")
A14: =IF(B14="","",SUBTOTAL(3,$B$8:B14)) -> 7 | B14: =IF(HKI!$B17="","",HKI!B17) -> 13D301Đ033 | C14: =IF(HKI!$B17="","",HKI!C17) -> Trương Văn | D14: =IF(HKI!$B17="","",HKI!D17) -> Đạt | E14: =IF(COUNTIF(G14:P14,"X")>0,COUNTIF(G14:P14,"X"),"") | F14: =IF(COUNTIF(G14:P14,"X")=0,"",SUMIF(G14:P14,"X",$G$7:$P$7)) | G14: =IF(HKI!I17<4,"X","") | H14: =IF(HKI!M17<4,"X","") | I14: =IF(HKI!Q17<4,"X","") | J14: =IF(HKI!U17<4,"X","") | K14: =IF(HKI!Y17<4,"X","") | L14: =IF(HKI!AC17<4,"X","") | M14: =IF(HKI!AG17<4,"X","") | N14: =IF(HKI!AK17<4,"X","") | O14: =IF(HKI!AO17<4,"X","") | P14: =IF(HKI!AS17<4,"X","") | Q14: =IF(HKI!AW17<4,"X","")
A15: =IF(B15="","",SUBTOTAL(3,$B$8:B15)) -> 8 | B15: =IF(HKI!$B18="","",HKI!B18) -> 13D301Đ037 | C15: =IF(HKI!$B18="","",HKI!C18) -> Nguyễn Thành | D15: =IF(HKI!$B18="","",HKI!D18) -> Đông | E15: =IF(COUNTIF(G15:P15,"X")>0,COUNTIF(G15:P15,"X"),"") | F15: =IF(COUNTIF(G15:P15,"X")=0,"",SUMIF(G15:P15,"X",$G$7:$P$7)) | G15: =IF(HKI!I18<4,"X","") | H15: =IF(HKI!M18<4,"X","") | I15: =IF(HKI!Q18<4,"X","") | J15: =IF(HKI!U18<4,"X","") | K15: =IF(HKI!Y18<4,"X","") | L15: =IF(HKI!AC18<4,"X","") | M15: =IF(HKI!AG18<4,"X","") | N15: =IF(HKI!AK18<4,"X","") | O15: =IF(HKI!AO18<4,"X","") | P15: =IF(HKI!AS18<4,"X","") | Q15: =IF(HKI!AW18<4,"X","")
A16: =IF(B16="","",SUBTOTAL(3,$B$8:B16)) -> 9 | B16: =IF(HKI!$B19="","",HKI!B19) -> 13D301Đ041 | C16: =IF(HKI!$B19="","",HKI!C19) -> Lê Hoàng | D16: =IF(HKI!$B19="","",HKI!D19) -> Giang | E16: =IF(COUNTIF(G16:P16,"X")>0,COUNTIF(G16:P16,"X"),"") -> 1 | F16: =IF(COUNTIF(G16:P16,"X")=0,"",SUMIF(G16:P16,"X",$G$7:$P$7)) -> 2 | G16: =IF(HKI!I19<4,"X","") | H16: =IF(HKI!M19<4,"X","") | I16: =IF(HKI!Q19<4,"X","") | J16: =IF(HKI!U19<4,"X","") | K16: =IF(HKI!Y19<4,"X","") | L16: =IF(HKI!AC19<4,"X","") -> X | M16: =IF(HKI!AG19<4,"X","") | N16: =IF(HKI!AK19<4,"X","") | O16: =IF(HKI!AO19<4,"X","") | P16: =IF(HKI!AS19<4,"X","") | Q16: =IF(HKI!AW19<4,"X","")
A17: =IF(B17="","",SUBTOTAL(3,$B$8:B17)) -> 10 | B17: =IF(HKI!$B20="","",HKI!B20) -> 13D301Đ045 | C17: =IF(HKI!$B20="","",HKI!C20) -> Lê Công | D17: =IF(HKI!$B20="","",HKI!D20) -> Hậu | E17: =IF(COUNTIF(G17:P17,"X")>0,COUNTIF(G17:P17,"X"),"") -> 2 | F17: =IF(COUNTIF(G17:P17,"X")=0,"",SUMIF(G17:P17,"X",$G$7:$P$7)) -> 5 | G17: =IF(HKI!I20<4,"X","") | H17: =IF(HKI!M20<4,"X","") | I17: =IF(HKI!Q20<4,"X","") -> X | J17: =IF(HKI!U20<4,"X","") | K17: =IF(HKI!Y20<4,"X","") | L17: =IF(HKI!AC20<4,"X","") -> X | M17: =IF(HKI!AG20<4,"X","") | N17: =IF(HKI!AK20<4,"X","") | O17: =IF(HKI!AO20<4,"X","") | P17: =IF(HKI!AS20<4,"X","") | Q17: =IF(HKI!AW20<4,"X","")
A18: =IF(B18="","",SUBTOTAL(3,$B$8:B18)) -> 11 | B18: =IF(HKI!$B21="","",HKI!B21) -> 13D301Đ049 | C18: =IF(HKI!$B21="","",HKI!C21) -> Lê Minh | D18: =IF(HKI!$B21="","",HKI!D21) -> Hiếu | E18: =IF(COUNTIF(G18:P18,"X")>0,COUNTIF(G18:P18,"X"),"") | F18: =IF(COUNTIF(G18:P18,"X")=0,"",SUMIF(G18:P18,"X",$G$7:$P$7)) | G18: =IF(HKI!I21<4,"X","") | H18: =IF(HKI!M21<4,"X","") | I18: =IF(HKI!Q21<4,"X","") | J18: =IF(HKI!U21<4,"X","") | K18: =IF(HKI!Y21<4,"X","") | L18: =IF(HKI!AC21<4,"X","") | M18: =IF(HKI!AG21<4,"X","") | N18: =IF(HKI!AK21<4,"X","") | O18: =IF(HKI!AO21<4,"X","") | P18: =IF(HKI!AS21<4,"X","") | Q18: =IF(HKI!AW21<4,"X","")
A19: =IF(B19="","",SUBTOTAL(3,$B$8:B19)) -> 12 | B19: =IF(HKI!$B22="","",HKI!B22) -> 13D301Đ053 | C19: =IF(HKI!$B22="","",HKI!C22) -> Nguyễn Ngọc | D19: =IF(HKI!$B22="","",HKI!D22) -> Hoài | E19: =IF(COUNTIF(G19:P19,"X")>0,COUNTIF(G19:P19,"X"),"") | F19: =IF(COUNTIF(G19:P19,"X")=0,"",SUMIF(G19:P19,"X",$G$7:$P$7)) | G19: =IF(HKI!I22<4,"X","") | H19: =IF(HKI!M22<4,"X","") | I19: =IF(HKI!Q22<4,"X","") | J19: =IF(HKI!U22<4,"X","") | K19: =IF(HKI!Y22<4,"X","") | L19: =IF(HKI!AC22<4,"X","") | M19: =IF(HKI!AG22<4,"X","") | N19: =IF(HKI!AK22<4,"X","") | O19: =IF(HKI!AO22<4,"X","") | P19: =IF(HKI!AS22<4,"X","") | Q19: =IF(HKI!AW22<4,"X","")
A20: =IF(B20="","",SUBTOTAL(3,$B$8:B20)) -> 13 | B20: =IF(HKI!$B23="","",HKI!B23) -> 13D301Đ057 | C20: =IF(HKI!$B23="","",HKI!C23) -> Trịnh Thanh | D20: =IF(HKI!$B23="","",HKI!D23) -> Hoàng | E20: =IF(COUNTIF(G20:P20,"X")>0,COUNTIF(G20:P20,"X"),"") | F20: =IF(COUNTIF(G20:P20,"X")=0,"",SUMIF(G20:P20,"X",$G$7:$P$7)) | G20: =IF(HKI!I23<4,"X","") | H20: =IF(HKI!M23<4,"X","") | I20: =IF(HKI!Q23<4,"X","") | J20: =IF(HKI!U23<4,"X","") | K20: =IF(HKI!Y23<4,"X","") | L20: =IF(HKI!AC23<4,"X","") | M20: =IF(HKI!AG23<4,"X","") | N20: =IF(HKI!AK23<4,"X","") | O20: =IF(HKI!AO23<4,"X","") | P20: =IF(HKI!AS23<4,"X","") | Q20: =IF(HKI!AW23<4,"X","")
... A72: =IF(B72="","",SUBTOTAL(3,$B$8:B72)) | B72: =IF(HKI!$B75="","",HKI!B75) | C72: =IF(HKI!$B75="","",HKI!C75) | D72: =IF(HKI!$B75="","",HKI!D75) | E72: =IF(COUNTIF(G72:P72,"X")>0,COUNTIF(G72:P72,"X"),"") | F72: =IF(COUNTIF(G72:P72,"X")=0,"",SUMIF(G72:P72,"X",$G$7:$P$7)) | G72: =IF(HKI!I75<4,"X","") | H72: =IF(HKI!M75<4,"X","") | I72: =IF(HKI!Q75<4,"X","") | J72: =IF(HKI!U75<4,"X","") | K72: =IF(HKI!Y75<4,"X","") | L72: =IF(HKI!AC75<4,"X","") | M72: =IF(HKI!AG75<4,"X","") | N72: =IF(HKI!AK75<4,"X","") | O72: =IF(HKI!AO75<4,"X","") | P72: =IF(HKI!AS75<4,"X","") | Q72: =IF(HKI!AW75<4,"X","")
A73: Số lượng Sinh viên nợ theo học phần | G73: =COUNTIF(G8:G72,"X") -> 1 | H73: =COUNTIF(H8:H72,"X") -> 1 | I73: =COUNTIF(I8:I72,"X") -> 4 | J73: =COUNTIF(J8:J72,"X") -> 12 | K73: =COUNTIF(K8:K72,"X") -> 4 | L73: =COUNTIF(L8:L72,"X") -> 16 | M73: =COUNTIF(M8:M72,"X") -> 0 | N73: =COUNTIF(N8:N72,"X") -> 0 | ... Q73: =COUNTIF(Q8:Q72,"X") -> 0

Sheet NH13-14
A1: ỦY BAN NHÂN DÂN THÀNH PHỐ HỒ CHÍ MINH | AP1: CỘNG HOÀ XÃ HỘI CHỦ NGHĨA VIỆT NAM
A2: TRƯỜNG CĐKT LÝ TỰ TRỌNG THÀNH PHỐ HỒ CHÍ MINH | AP2: Độc lập - Tự do - Hạnh phúc
C3: LỚP: | D3: 13CĐ-Đ1 | G3: SĨ SỐ: | I3: 42
A4: BẢNG TỔNG KẾT HỌC TẬP NĂM HỌC 2013 - 2014
A6: Số thứ tự | B6: HỌC PHẦN | H6: Toán cao cấp 1 | J6: Vật lý đại cương 1 | L6: Hóa học đại cương 1 | N6: Pháp luật đại cương | P6: Nhập môn Tin học | R6: Đo lường và mạch điện | T6: Mạng cung cấp điện | Z6: Toán cao cấp 2 | AB6: Anh văn 1 | AD6: Xác suất thống kê | AF6: Vật lý đại cương 2 | AH6: Hoá học đại cương 2 | AJ6: Kỹ năng giao tiếp | AL6: Những NLCB của CNMLN 1 | AN6: Điện tử cơ bản | AP6: An toàn điện | AX6: Thực tập Điện cơ bản | BB6: TBC HỌC TẬP | BD6: KẾT QUẢ RÈN LUYỆN | BE6: XẾP LOẠI HT | BG6: KHEN THƯỞNG | BH6: CẢNH BÁO HỌC TẬP | BI6: TỔNG SỐ TÍN CHỈ ĐÃ HỌC | BJ6: SỐ TC ĐÃ TÍCH LUỸ SAU KỲ THI CHÍNH | BK6: SỐ TC NỢ SAU KỲ THI CHÍNH | BL6: SỐ TC ĐÃ TÍCH LUỸ SAU KỲ THI PHỤ | BM6: SỐ TC NỢSAU KỲ THI PHỤ | BN6: ĐIỂM TBC TÍCH LUỸ SAU KỲ THI CHÍNH | BO6: HẠNG HỌC LỰC SAU KỲ THI CHÍNH | BP6: ĐIỂM TBC TÍCH LUỸ SAU KỲ THI PHỤ | BQ6: HẠNG HỌC LỰC SAU KỲ THI PHỤ | BR6: HẠNG NĂM ĐÀO TẠO | BS6: GHI CHÚ | BT6: Toán cao cấp 1 | BU6: Vật lý đại cương 1 | BV6: Hóa học đại cương 1 | BW6: Pháp luật đại cương | BX6: Nhập môn Tin học | BY6: Đo lường và mạch điện | BZ6: Mạng cung cấp điện | CC6: Toán cao cấp 2 | CD6: Anh văn 1 | CE6: Xác suất thống kê | CF6: Vật lý đại cương 2 | CG6: Hoá học đại cương 2 | CH6: Kỹ năng giao tiếp | CI6: Những NLCB của CNMLN 1 | CJ6: Điện tử cơ bản | CK6: An toàn điện | CO6: Thực tập Điện cơ bản | CR6: Toán cao cấp 1 | CS6: Vật lý đại cương 1 | CT6: Hóa học đại cương 1 | CU6: Pháp luật đại cương | CV6: Nhập môn Tin học | CW6: Đo lường và mạch điện | CX6: Mạng cung cấp điện | DA6: Toán cao cấp 2 | DB6: Anh văn 1 | DC6: Xác suất thống kê | DD6: Vật lý đại cương 2 | DE6: Hoá học đại cương 2 | DF6: Kỹ năng giao tiếp | DG6: Những NLCB của CNMLN 1 | DH6: Điện tử cơ bản | DI6: An toàn điện | DM6: Thực tập Điện cơ bản | DP6: Toán cao cấp 1 | DQ6: Vật lý đại cương 1 | DR6: Hóa học đại cương 1 | DS6: Pháp luật đại cương | DT6: Nhập môn Tin học | DU6: Đo lường và mạch điện | DV6: Mạng cung cấp điện | DY6: Toán cao cấp 2 | DZ6: Anh văn 1 | EA6: Xác suất thống kê | EB6: Vật lý đại cương 2 | EC6: Hoá học đại cương 2 | ED6: Kỹ năng giao tiếp | EE6: Những NLCB của CNMLN 1 | EF6: Điện tử cơ bản | EG6: An toàn điện | EK6: Thực tập Điện cơ bản | EN6: Toán cao cấp 1 | EO6: Vật lý đại cương 1 | EP6: Hóa học đại cương 1 | EQ6: Pháp luật đại cương | ER6: Nhập môn Tin học | ES6: Đo lường và mạch điện | ET6: Mạng cung cấp điện | EW6: Toán cao cấp 2 | EX6: Anh văn 1 | EY6: Xác suất thống kê | EZ6: Vật lý đại cương 2 | FA6: Hoá học đại cương 2 | FB6: Kỹ năng giao tiếp | FC6: Những NLCB của CNMLN 1 | FD6: Điện tử cơ bản | FE6: An toàn điện | FI6: Thực tập Điện cơ bản
B7: SỐ ĐVHT | H7: 3 | J7: 3 | L7: 2 | N7: 2 | P7: 3 | R7: 5 | T7: 2 | Z7: 2 | AB7: 3 | AD7: 2 | AF7: 2 | AH7: 2 | AJ7: 2 | AL7: 2 | AN7: 2 | AP7: 2 | AX7: 2 | BB7: 41 | BT7: 3 | BU7: 3 | BV7: 2 | BW7: 2 | BX7: 3 | BY7: 5 | BZ7: 2 | CC7: 2 | CD7: 3 | CE7: 2 | CF7: 2 | CG7: 2 | CH7: 2 | CI7: 2 | CJ7: 2 | CK7: 2 | CO7: 2 | CQ7: 41 | CR7: 3 | CS7: 3 | CT7: 2 | CU7: 2 | CV7: 3 | CW7: 5 | CX7: 2 | DA7: 2 | DB7: 3 | DC7: 2 | DD7: 2 | DE7: 2 | DF7: 2 | DG7: 2 | DH7: 2 | DI7: 2 | DM7: 2 | DO7: 41 | DP7: 3 | DQ7: 3 | DR7: 2 | DS7: 2 | DT7: 3 | DU7: 5 | DV7: 2 | DY7: 2 | DZ7: 3 | EA7: 2 | EB7: 2 | EC7: 2 | ED7: 2 | EE7: 2 | EF7: 2 | EG7: 2 | EK7: 2 | EM7: 41 | EN7: 3 | EO7: 3 | EP7: 2 | EQ7: 2 | ER7: 3 | ES7: 5 | ET7: 2 | EW7: 2 | EX7: 3 | EY7: 2 | EZ7: 2 | FA7: 2 | FB7: 2 | FC7: 2 | FD7: 2 | FE7: 2 | FI7: 2 | FK7: 41
B8: MSSV | C8: Họ tên sinh viên | E8: HỆ CHUẨN | F8: NGÀY NGHỈ | H8: TKHP Chính | I8: TKHP Phụ | J8: TKHP Chính | K8: TKHP Phụ | L8: TKHP Chính | M8: TKHP Phụ | N8: TKHP Chính | O8: TKHP Phụ | P8: TKHP Chính | Q8: TKHP Phụ | R8: TKHP Chính | S8: TKHP Phụ | T8: TKHP Chính | U8: TKHP Phụ | V8: TKHP Chính | W8: TKHP Phụ | X8: TKHP Chính | Y8: TKHP Phụ | Z8: TKHP Chính | AA8: TKHP Phụ | AB8: TKHP Chính | AC8: TKHP Phụ | AD8: TKHP Chính | AE8: TKHP Phụ | AF8: TKHP Chính | AG8: TKHP Phụ | AH8: TKHP Chính | AI8: TKHP Phụ | AJ8: TKHP Chính | AK8: TKHP Phụ | AL8: TKHP Chính | AM8: TKHP Phụ | AN8: TKHP Chính | AO8: TKHP Phụ | AP8: TKHP Chính | AQ8: TKHP Phụ | AR8: TKHP Chính | AS8: TKHP Phụ | AT8: TKHP Chính | AU8: TKHP Phụ | AV8: TKHP Chính | AW8: TKHP Phụ | AX8: TKHP Chính | AY8: TKHP Phụ | AZ8: TKHP Chính | BA8: TKHP Phụ | BB8: Kỳ thi Chính | BC8: Kỳ thi Phụ | BE8: Kỳ thi Chính | BF8: Kỳ thi Phụ | BT8: TỔNG KẾT HỌC PHẦN CHÍNH | CR8: TỔNG KẾT TRUNG BÌNH CHUNG TÍCH LUỸ KỲ THI CHÍNH | DP8: THAY THẾ ĐIỂM THI PHỤ ĐỂ TÍNH HỌC PHẦN PHỤ | EN8: TỔNG KẾT TRUNG BÌNH CHUNG TÍCH LUỸ KỲ THI PHỤ
F9: P | G9: K
A10: (1) | B10: (2) | C10: (3) | E10: (4) | F10: (5) | G10: (6) | H10: (7) | J10: (8) | L10: (9) | N10: (10) | P10: (11) | R10: (12) | T10: (13) | V10: (14) | X10: (15) | Z10: (16) | AB10: (17) | AD10: (18) | AF10: (19) | AH10: (20) | AJ10: (20) | AL10: (21) | AN10: (22) | AP10: (23) | AR10: (24) | AT10: (26) | AV10: (26) | AX10: (27) | AZ10: (28) | BB10: (29) | BC10: (30) | BD10: (31) | BE10: (32) | BF10: (33) | BG10: (34) | BH10: (35) | BI10: (36) | BJ10: (37) | BK10: (38) | BL10: (39) | BM10: (40) | BN10: (41) | BO10: (42) | BP10: (43) | BQ10: (44) | BR10: (45) | BS10: (46)
A11: 1 | B11: 13D301Đ001 | C11: Lương Hoàng Thuận | D11: An | F11: 2 | G11: 2 | H11: 5.2 | J11: 9.3 | L11: 7.2 | N11: 5.8 | P11: 6.3 | R11: 7.2 | T11: 8.3 | Z11: 8.1 | AB11: 5.5 | AF11: 9.8 | AH11: 9.1 | AJ11: 8 | AL11: 8.1 | AN11: 6 | AP11: 8 | AX11: 7 | BB11: 7.33 | BC11: 7.33 | BD11: 71.5 | BE11: Khá | BF11: Khá | BI11: 39 | BJ11: 39 | BK11: 0 | BL11: 39 | BM11: 0 | BN11: 7.33 | BO11: BT | BP11: 7.33 | BQ11: BT | BR11: SV năm 2 | BT11: 5.2 | BU11: 9.3 | BV11: 7.2 | BW11: 5.8 | BX11: 6.3 | BY11: 7.2 | BZ11: 8.3 | CC11: 8.1 | CD11: 5.5 | CF11: 9.8 | CG11: 9.1 | CH11: 8 | CI11: 8.1 | CJ11: 6 | CK11: 8 | CO11: 7 | CQ11: 7.33 | CR11: 5.2 | CS11: 9.3 | CT11: 7.2 | CU11: 5.8 | CV11: 6.3 | CW11: 7.2 | CX11: 8.3 | DA11: 8.1 | DB11: 5.5 | DD11: 9.8 | DE11: 9.1 | DF11: 8 | DG11: 8.1 | DH11: 6 | DI11: 8 | DM11: 7 | DO11: 7.33 | DP11: 5.2 | DQ11: 9.3 | DR11: 7.2 | DS11: 5.8 | DT11: 6.3 | DU11: 7.2 | DV11: 8.3 | DY11: 8.1 | DZ11: 5.5 | EB11: 9.8 | EC11: 9.1 | ED11: 8 | EE11: 8.1 | EF11: 6 | EG11: 8 | EK11: 7 | EM11: 7.33 | EN11: 5.2 | EO11: 9.3 | EP11: 7.2 | EQ11: 5.8 | ER11: 6.3 | ES11: 7.2 | ET11: 8.3 | EW11: 8.1 | EX11: 5.5 | EZ11: 9.8 | FA11: 9.1 | FB11: 8 | FC11: 8.1 | FD11: 6 | FE11: 8 | FI11: 7 | FK11: 7.33
A12: 2 | B12: 13D301Đ009 | C12: Võ Thành | D12: Bảo | F12: 0 | G12: 11 | H12: 4.5 | I12: 4.6 | J12: 5.7 | L12: 4.6 | M12: 6.1 | N12: 6.3 | P12: 5.6 | R12: 6.4 | T12: 5.9 | Z12: 6.1 | AB12: 4.2 | AC12: 4.2 | AD12: 5.5 | AH12: 4.9 | AI12: 6 | AJ12: 6.3 | AL12: 5.8 | AN12: 2.4 | AP12: 7.4 | AX12: 5.6 | BB12: 5.48 | BC12: 5.62 | BD12: 58.5 | BE12: TB | BF12: TB | BI12: 39 | BJ12: 27 | BK12: 12 | BL12: 31 | BM12: 8 | BN12: 6.06 | BO12: BT | BP12: 6.06 | BQ12: BT | BR12: SV năm 1 | BT12: 4.5 | BU12: 5.7 | BV12: 4.6 | BW12: 6.3 | BX12: 5.6 | BY12: 6.4 | BZ12: 5.9 | CC12: 6.1 | CD12: 4.2 | CE12: 5.5 | CG12: 4.9 | CH12: 6.3 | CI12: 5.8 | CJ12: 2.4 | CK12: 7.4 | CO12: 5.6 | CQ12: 5.48 | CS12: 5.7 | CU12: 6.3 | CV12: 5.6 | CW12: 6.4 | CX12: 5.9 | DA12: 6.1 | DC12: 5.5 | DF12: 6.3 | DG12: 5.8 | DI12: 7.4 | DM12: 5.6 | DO12: 6.06 | DP12: 4.6 | DQ12: 5.7 | DR12: 6.1 | DS12: 6.3 | DT12: 5.6 | DU12: 6.4 | DV12: 5.9 | DY12: 6.1 | DZ12: 4.2 | EA12: 5.5 | EC12: 6 | ED12: 6.3 | EE12: 5.8 | EF12: 2.4 | EG12: 7.4 | EK12: 5.6 | EM12: 5.62 | EO12: 5.7 | EP12: 6.1 | EQ12: 6.3 | ER12: 5.6 | ES12: 6.4 | ET12: 5.9 | EW12: 6.1 | EY12: 5.5 | FA12: 6 | FB12: 6.3 | FC12: 5.8 | FE12: 7.4 | FI12: 5.6 | FK12: 6.06
A13: 3 | B13: 13D301Đ013 | C13: Nguyễn Chí | D13: Bình | F13: 16 | G13: 34 | H13: 3.7 | I13: 4.3 | J13: 4.6 | K13: 4.6 | L13: 4.5 | M13: 6 | N13: 5.1 | P13: 5 | R13: 6.4 | T13: 6.1 | Z13: 4.2 | AB13: 1.9 | AF13: 5.3 | AH13: 0.8 | AJ13: 5.7 | AL13: 6.1 | AN13: 0.9 | AP13: 5.9 | AX13: 5 | BB13: 4.53 | BC13: 4.66 | BD13: 52 | BE13: Yếu | BF13: Yếu | BI13: 39 | BJ13: 22 | BK13: 17 | BL13: 24 | BM13: 15 | BN13: 5.7 | BO13: BT | BP13: 5.73 | BQ13: BT | BR13: SV năm 1 | BT13: 3.7 | BU13: 4.6 | BV13: 4.5 | BW13: 5.1 | BX13: 5 | BY13: 6.4 | BZ13: 6.1 | CC13: 4.2 | CD13: 1.9 | CF13: 5.3 | CG13: 0.8 | CH13: 5.7 | CI13: 6.1 | CJ13: 0.9 | CK13: 5.9 | CO13: 5 | CQ13: 4.53 | CU13: 5.1 | CV13: 5 | CW13: 6.4 | CX13: 6.1 | DD13: 5.3 | DF13: 5.7 | DG13: 6.1 | DI13: 5.9 | DM13: 5 | DO13: 5.7 | DP13: 4.3 | DQ13: 4.6 | DR13: 6 | DS13: 5.1 | DT13: 5 | DU13: 6.4 | DV13: 6.1 | DY13: 4.2 | DZ13: 1.9 | EB13: 5.3 | EC13: 0.8 | ED13: 5.7 | EE13: 6.1 | EF13: 0.9 | EG13: 5.9 | EK13: 5 | EM13: 4.66 | EP13: 6 | EQ13: 5.1 | ER13: 5 | ES13: 6.4 | ET13: 6.1 | EZ13: 5.3 | FB13: 5.7 | FC13: 6.1 | FE13: 5.9 | FI13: 5 | FK13: 5.73
A14: 4 | B14: 13D301Đ014 | C14: Trịnh Thanh | D14: Bình | F14: 4 | G14: 31 | H14: 4.1 | I14: 6.8 | J14: 6.8 | L14: 4.8 | M14: 5.8 | N14: 4.7 | O14: 4.7 | P14: 5 | R14: 4.8 | S14: 4.8 | T14: 5.7 | Z14: 4.9 | AA14: 6.3 | AB14: 4.2 | AC14: 4.2 | AF14: 7.4 | AH14: 3.4 | AI14: 4.4 | AJ14: 6.7 | AL14: 5.3 | AN14: 3.5 | AP14: 6.4 | AX14: 6 | BB14: 5.18 | BC14: 5.56 | BD14: 50.5 | BE14: TB | BF14: TB | BI14: 39 | BJ14: 18 | BK14: 21 | BL14: 25 | BM14: 14 | BN14: 6.13 | BO14: BT | BP14: 6.2 | BQ14: BT | BR14: SV năm 1 | BT14: 4.1 | BU14: 6.8 | BV14: 4.8 | BW14: 4.7 | BX14: 5 | BY14: 4.8 | BZ14: 5.7 | CC14: 4.9 | CD14: 4.2 | CF14: 7.4 | CG14: 3.4 | CH14: 6.7 | CI14: 5.3 | CJ14: 3.5 | CK14: 6.4 | CO14: 6 | CQ14: 5.18 | CS14: 6.8 | CV14: 5 | CX14: 5.7 | DD14: 7.4 | DF14: 6.7 | DG14: 5.3 | DI14: 6.4 | DM14: 6 | DO14: 6.13 | DP14: 6.8 | DQ14: 6.8 | DR14: 5.8 | DS14: 4.7 | DT14: 5 | DU14: 4.8 | DV14: 5.7 | DY14: 6.3 | DZ14: 4.2 | EB14: 7.4 | EC14: 4.4 | ED14: 6.7 | EE14: 5.3 | EF14: 3.5 | EG14: 6.4 | EK14: 6 | EM14: 5.56 | EN14: 6.8 | EO14: 6.8 | EP14: 5.8 | ER14: 5 | ET14: 5.7 | EW14: 6.3 | EZ14: 7.4 | FB14: 6.7 | FC14: 5.3 | FE14: 6.4 | FI14: 6 | FK14: 6.2
A15: 5 | B15: 13D301Đ017 | C15: Trần Văn | D15: Chinh | F15: 0 | G15: 8 | H15: 3.7 | I15: 5.5 | J15: 6.4 | L15: 4.8 | M15: 6 | N15: 5.8 | P15: 5.4 | R15: 6.5 | T15: 5.7 | Z15: 5.6 | AB15: 4.8 | AC15: 4.8 | AF15: 6 | AH15: 4.5 | AI15: 5.4 | AJ15: 6.8 | AL15: 6.9 | AN15: 3.2 | AO15: 3.3 | AP15: 6 | AX15: 5.7 | BB15: 5.52 | BC15: 5.77 | BD15: 56 | BE15: TB | BF15: TB | BI15: 39 | BJ15: 27 | BK15: 12 | BL15: 34 | BM15: 5 | BN15: 6.11 | BO15: BT | BP15: 6.01 | BQ15: BT | BR15: SV năm 1 | BT15: 3.7 | BU15: 6.4 | BV15: 4.8 | BW15: 5.8 | BX15: 5.4 | BY15: 6.5 | BZ15: 5.7 | CC15: 5.6 | CD15: 4.8 | CF15: 6 | CG15: 4.5 | CH15: 6.8 | CI15: 6.9 | CJ15: 3.2 | CK15: 6 | CO15: 5.7 | CQ15: 5.52 | CS15: 6.4 | CU15: 5.8 | CV15: 5.4 | CW15: 6.5 | CX15: 5.7 | DA15: 5.6 | DD15: 6 | DF15: 6.8 | DG15: 6.9 | DI15: 6 | DM15: 5.7 | DO15: 6.11 | DP15: 5.5 | DQ15: 6.4 | DR15: 6 | DS15: 5.8 | DT15: 5.4 | DU15: 6.5 | DV15: 5.7 | DY15: 5.6 | DZ15: 4.8 | EB15: 6 | EC15: 5.4 | ED15: 6.8 | EE15: 6.9 | EF15: 3.3 | EG15: 6 | EK15: 5.7 | EM15: 5.77 | EN15: 5.5 | EO15: 6.4 | EP15: 6 | EQ15: 5.8 | ER15: 5.4 | ES15: 6.5 | ET15: 5.7 | EW15: 5.6 | EZ15: 6 | FA15: 5.4 | FB15: 6.8 | FC15: 6.9 | FE15: 6 | FI15: 5.7 | FK15: 6.01
