Workbook
Name \0: '[1]PNT-QUOT-#3'!#REF!
Name \d: '[2]??-BLDG'!#REF!
Name \e: '[2]??-BLDG'!#REF!
Name \f: '[2]??-BLDG'!#REF!
Name \g: '[2]??-BLDG'!#REF!
Name \h: '[2]??-BLDG'!#REF!
Name \i: '[2]??-BLDG'!#REF!
Name \j: '[2]??-BLDG'!#REF!
Name \k: '[2]??-BLDG'!#REF!
Name \l: '[2]??-BLDG'!#REF!
Name \m: '[2]??-BLDG'!#REF!
Name \n: '[2]??-BLDG'!#REF!
Name \o: '[2]??-BLDG'!#REF!
Name \z: '[1]COAT&WRAP-QIOT-#3'!#REF!
Name _1: #N/A
Name _1000A01: #N/A
Name _2: #N/A
Name _A65700: '[3]MTO REV.2(ARMOR)'!#REF!
Name _A65800: '[3]MTO REV.2(ARMOR)'!#REF!
Name _A66000: '[3]MTO REV.2(ARMOR)'!#REF!
Name _A67000: '[3]MTO REV.2(ARMOR)'!#REF!
Name _A68000: '[3]MTO REV.2(ARMOR)'!#REF!
Name _A70000: '[3]MTO REV.2(ARMOR)'!#REF!
Name _A75000: '[3]MTO REV.2(ARMOR)'!#REF!
Name _A85000: '[3]MTO REV.2(ARMOR)'!#REF!
Name _CON1: #REF!
Name _CON2: #REF!
Name _NET2: #REF!
Name A: '[1]PNT-QUOT-#3'!#REF!
Name A01_: #N/A
Name A01AC: #N/A
Name A01CAT: #N/A
Name A01CODE: #N/A
Name A01DATA: #N/A
Name A01MI: #N/A
Name A01TO: #N/A
Name A60000.: #REF!
Name AA: #REF!
Name AAA: '[4]MTL$-INTER'!#REF!
Name All_Item: #REF!
Name ALPIN: #N/A
Name ALPJYOU: #N/A
Name ALPTOI: #N/A
Name B: '[1]PNT-QUOT-#3'!#REF!
Name BB: #REF!
Name BOQ: #REF!
Name BVCISUMMARY: #REF!
Name CABLE2: '[5]MTO REV.0'!$A$1:$Q$570
Name Category_All: #REF!
Name CATIN: #N/A
Name CATJYOU: #N/A
Name CATREC: #N/A
Name CATSYU: #N/A
Name COAT: '[1]PNT-QUOT-#3'!#REF!
Name COMMON: #REF!
Name CON_EQP_COS: #REF!
Name CON_EQP_COST: #REF!
Name CONST_EQ: #REF!
Name COVER: #REF!
Name CRITINST: #REF!

Sheet Hướng dẫn
A1: Quy trình nhập điểm tổng kết Học kỳ CĐKT theo tín chỉ
A3: STT | B3: Bảng tính thao tác | C3: Công việc thực hiện | D3: Thực hiện
A4: 1 | B4: Vào bảng tính DS LOP HKI | C4: Kích vào nút mũi tên của cột Lớp, chọn tên lớp, sau đó chọn toàn bộ MSSV (mã số sinh viên) của lớp, nhấn phím Ctrl-C để chép mã số SV. | D4: CVHT
A5: 2 | B5: Vào bảng tính HKI | C5: Kích vào ô đầu tiên của mã số sinh viên (ô B11), nhấn Ctrl-V.
C6: Ghi chú: Danh sách SV, tên các HP và số đơn vị học trình sẽ được truyền tự động vào cho các bảng tính của HKI và bảng điểm từng HP
A7: 3 | B7: Vào bảng tính TEN HOC PHAN HKI | C7: Tên học phần và số Tín chỉ đã được đưa vào các bảng tính tương ứng theo lớp, Quý Thầy Cô vào bảng tính này để biết học phần ABC muốn nhập điểm nằm ở bảng tính ABC nào. | D7: GVBM học phần "ABC" hoặc CVHT
A8: 4 | B8: Vào bảng tính "XYZ" tương ứng với học phần "ABC" quy định trong bước 3 | C8: Nhập các điểm thành phần vào từng cột tương ứng
C9: Ghi chú: Thứ tự danh sách trong các bảng tính đã thống nhất, do đó bắt buộc đảm bảo độ chính xác của giữa các điểm thành phần với MSSV tương ứng. Nên kiểm tra lại sự thống nhất danh sách trong sổ tay giảng viên và danh sách trong file để tránh nhập điểm sai.
C10: Lưu ý: Đối với sinh viên bảo lưu, chỉ cần nhập điểm vào cột Điểm bảo lưu, các cột còn lại không nhập.
C11: Ghi chú: Nếu CVHT đã có file tổng kết học phần đúng yêu cầu, vẫn có thể tự thực hiện bước 4 này bằng cách chép các cột điểm từ file của GVBM vào các bảng tính tương ứng.
A12: 5 | B12: Vào bảng tính HKI | C12: Nhập hệ chuẩn vào cột E, số ngày nghỉ có phép vào cột F, số ngày không phép vào cột G. | D12: CVHT
C13: Cột GHI CHÚ chỉ điền vào các thông tin về hình thức kỷ luật (nếu có)
C14: Ghi chú: Trước khi thông báo kết quả học tập cho SV, xin quý Thầy Cô gởi file thông qua địa chỉ mail của phòng để kiểm tra, đối chiếu với các bảng điểm tổng kết học phần nhằm hạn chế sai sót. Nếu bảng tính có sai sót, phòng sẽ báo bằng mail cho quý Thầy Cô.
C15: Nhập điểm kết quả rèn luyện vào cột BB
C16: Khi muốn in bảng tổng kết, nên che giấu (ẩn) các vị trí cột (hàng) không có điểm bằng cách chọn các cột (hàng) đó, rồi vào FORMAT → COLUMN (ROW) → HIDE (hoặc chuột phải HIDE).
A17: 6 | B17: Mở file tổng kết năm 13-14 của lớp | C17: Chọn bảng tính CẢ NĂM, chọn và chép toàn bộ bảng (kích ô xám ở góc trên bên trái vùng bảng tính, nhấn Ctrl-C).
A18: 7 | B18: Trở lại file này. | C18: Chọn bảng tính NH13-14, chọn ô A1, nhấn Ctrl_V.
C19: Chú ý: Do tình hình nhập lớp so với năm học trước, xin quý thầy cô kiểm tra lại danh sách lớp để xem có sinh viên lớp khác được chuyển sang lớp đang làm cố vấn không? Nếu có thì chép từng hàng tên vào cuối bảng tính này.
A20: Để thống nhất trong việc quản lý điểm số của HSSV trong toàn trường, sau khi hoàn thành bảng tính, xin Quý Thầy Cô lưu lại file theo định dạng: tenlop_hocky_nămhọc (ví dụ 13CD-DT1_HKI_NH14-15) và gởi bằng mail cho Khoa, Phòng CTHSSV, Phòng Đào tạo (kqht.lytutrong@gmail.com) và Phòng KT&DBCL (khaothiltt@gmail.com).
A21: Các bảng tính: TEN HOC PHAN HKI; DS LOP HKI là các bảng tính nền cơ sở, xin quý Thầy Cô đừng chỉnh sửa, để tránh sai sót, nhầm lẫn trong quá trình nhập điểm tổng kết.
A22: Nếu Quý Thầy Cô có vướng mắc gì, xin gởi mail qua địa chỉ: kqht.lytutrong@gmail.com hoặc khaothiltt@gmail.com hoặc liên hệ trực tiếp với Phòng Đào tạo hoặc Phòng Khảo thí và Đảm bảo chất lượng.

Sheet TEN HOC PHAN HKI
A1: QUI ĐỊNH SỐ TÍN CHỈ CỦA CÁC HỌC PHẦN TRONG HỌC KỲ I / 2014 - 2015 Bậc đào tạo : Cao đẳng ( Khóa 2013 )
A3: TT | B3: LỚP | C3: STT | D3: SHEET | E3: TÊN HỌC PHẦN | F3: Tổng TC | G3: LÝ THUYẾT | H3: THỰC HÀNH | I3: GHI CHÚ
A4: 1 | B4: 13 CĐ - ĐT 1, 2, 3, 4 | C4: 1 | D4: LT01 | E4: Anh văn 2 | F4: =G4+H4 -> 3 | G4: 3
C5: 2 | D5: LT02 | E5: Những NLCB của CNMLN 2 | F5: =G5+H5 -> 3 | G5: 3
C6: 3 | D6: LT03 | E6: Khí cụ điện và máy điện | F6: =G6+H6 -> 2 | G6: 2
C7: 4 | D7: LT04 | E7: Kỹ thuật số | F7: =G7+H7 -> 2 | G7: 2
C8: 5 | D8: LT05 | E8: Điện tử công suất | F8: =G8+H8 -> 2 | G8: 2
C9: 6 | D9: LT06 | E9: Kỹ thuật truyền số liệu | F9: =G9+H9 -> 5 | G9: 5
C10: 7 | D10: LT07 | F10: =G10+H10 -> 0
C11: 8 | D11: LT08 | F11: =G11+H11 -> 0
C12: 9 | D12: LT09 | F12: =G12+H12 -> 0
C13: 10 | D13: TH01 | E13: Thực tập Điện cơ bản | F13: =G13+H13 -> 2 | H13: 2
C14: 11 | D14: TH02 | E14: Thực tập Điện tử cơ bản | F14: =G14+H14 -> 2 | H14: 2
A15: 2 | B15: 13 CĐ - Đ 1, 2, 3, 4 | C15: 1 | D15: LT01 | E15: Anh văn 2 | F15: =G15+H15 -> 2 | G15: 2
C16: 2 | D16: LT02 | E16: Những NLCB của CNMLN 2 | F16: =G16+H16 -> 3 | G16: 3
C17: 3 | D17: LT03 | E17: Khí cụ điện và máy điện | F17: =G17+H17 -> 3 | G17: 3
C18: 4 | D18: LT04 | E18: Kỹ thuật số | F18: =G18+H18 -> 2 | G18: 2
C19: 5 | D19: LT05 | E19: Điện tử công suất | F19: =G19+H19 -> 2 | G19: 2
C20: 6 | D20: LT06 | E20: Kỹ thuật truyền số liệu | F20: =G20+H20 -> 2 | G20: 2
C21: 7 | D21: LT07 | F21: =G21+H21 -> 0
C22: 8 | D22: LT08 | F22: =G22+H22 -> 0
C23: 9 | D23: LT09 | F23: =G23+H23 -> 0
C24: 10 | D24: TH01 | E24: Thực tập Điện tử cơ bản | F24: =G24+H24 -> 2 | H24: 2
C25: 11 | D25: TH02 | E25: Thực tập Đo lường và mạch điện | F25: =G25+H25 -> 2 | H25: 2
A26: 3 | B26: 13 CĐ-CK 1, 2, 3, 4, 5 | C26: 1 | D26: LT01 | E26: Anh văn chuyên ngành | F26: =G26+H26 -> 2 | G26: 2
C27: 2 | D27: LT02 | E27: Tư tưởng Hồ Chí Minh | F27: =G27+H27 -> 2 | G27: 2
C28: 3 | D28: LT03 | E28: Cơ ứng dụng | F28: =G28+H28 -> 3 | G28: 3
C29: 4 | D29: LT04 | E29: Vật liệu học | F29: =G29+H29 -> 2 | G29: 2
C30: 5 | D30: LT05 | E30: Autocad (2D) | F30: =G30+H30 -> 2 | G30: 2
C31: 6 | D31: LT06 | F31: =G31+H31 -> 0
C32: 7 | D32: LT07 | F32: =G32+H32 -> 0
C33: 8 | D33: LT08 | F33: =G33+H33 -> 0
C34: 9 | D34: LT09 | F34: =G34+H34 -> 0
C35: 10 | D35: TH01 | E35: Thực tập Nguội - Hàn cơ bản | F35: =G35+H35 -> 3 | H35: 3
C36: 11 | D36: TH02 | E36: Thực tập Tiện 1 | F36: =G36+H36 -> 2 | H36: 2
A37: 4 | B37: 13 CĐ-Ô 1, 2, 3, 4 | C37: 1 | D37: LT01 | E37: Anh văn chuyên ngành | F37: =G37+H37 -> 2 | G37: 2
C38: 2 | D38: LT02 | E38: Tư tưởng Hồ Chí Minh | F38: =G38+H38 -> 2 | G38: 2
C39: 3 | D39: LT03 | E39: Vật liệu học | F39: =G39+H39 -> 2 | G39: 2
C40: 4 | D40: LT04 | E40: Công nghệ kim loại | F40: =G40+H40 -> 2 | G40: 2
C41: 5 | D41: LT05 | E41: Cơ lý thuyết | F41: =G41+H41 -> 2 | G41: 2
C42: 6 | D42: LT06 | E42: Sức bền vật liệu | F42: =G42+H42 -> 2 | G42: 2
C43: 7 | D43: LT07 | E43: Kỹ thuật điện - điện tử | F43: =G43+H43 -> 3 | G43: 3
C44: 8 | D44: LT08 | E44: An toàn và môi trường CN | F44: =G44+H44 -> 2 | G44: 2
C45: 9 | D45: LT09 | E45: Động cơ đốt trong | F45: =G45+H45 -> 3 | G45: 3
C46: 10 | D46: TH01 | E46: Thực tập Nhập môn Cơ khí | F46: =G46+H46 -> 2 | H46: 2
C47: 11 | D47: TH02 | F47: =G47+H47 -> 0
A48: 5 | B48: 13 CĐ-NL 1, 2 | C48: 1 | D48: LT01 | E48: Anh văn chuyên ngành | F48: =G48+H48 -> 2 | G48: 2
C49: 2 | D49: LT02 | E49: Tư tưởng Hồ Chí Minh | F49: =G49+H49 -> 2 | G49: 2
C50: 3 | D50: LT03 | E50: Kỹ thuật điện | F50: =G50+H50 -> 3 | G50: 3
C51: 4 | D51: LT04 | E51: Kỹ thuật điện tử | F51: =G51+H51 -> 2 | G51: 2
C52: 5 | D52: LT05 | E52: Nhiệt động kỹ thuật | F52: =G52+H52 -> 3 | G52: 3
C53: 6 | D53: LT06 | E53: Truyền nhiệt | F53: =G53+H53 -> 3 | G53: 3
C54: 7 | D54: LT07 | E54: Bơm quạt máy nén | F54: =G54+H54 -> 2 | G54: 2
C55: 8 | D55: LT08 | F55: =G55+H55 -> 0
C56: 9 | D56: LT09 | F56: =G56+H56 -> 0
C57: 10 | D57: TH01 | E57: Thực tập Nhập môn Cơ khí | F57: =G57+H57 -> 2 | H57: 2
C58: 11 | D58: TH02 | F58: =G58+H58 -> 0
A59: 6 | B59: 13 CĐ-M | C59: 1 | D59: LT01 | E59: Anh văn chuyên ngành | F59: =G59+H59 -> 2 | G59: 2
C60: 2 | D60: LT02 | E60: Kỹ năng giao tiếp | F60: =G60+H60 -> 2 | G60: 2
C61: 3 | D61: LT03 | E61: Tư tưởng Hồ Chí Minh | F61: =G61+H61 -> 2 | G61: 2
C62: 4 | D62: LT04 | E62: Nguyên phụ liệu dệt may | F62: =G62+H62 -> 2 | G62: 2
C63: 5 | D63: LT05 | E63: An toàn điện CN và môi trường | F63: =G63+H63 -> 2 | G63: 2
C64: 6 | D64: LT06 | E64: Thiết kế trang phục 2 | F64: =G64+H64 -> 2 | G64: 2
C65: 7 | D65: LT07 | E65: Công nghệ may trang phục 2 | F65: =G65+H65 -> 2 | G65: 2
C66: 8 | D66: LT08 | E66: Tin học ứng dụng ngành may | F66: =G66+H66 -> 2 | G66: 2
C67: 9 | D67: LT09 | E67: Kỹ năng học và thuyết trình | F67: =G67+H67 -> 2 | G67: 2
C68: 10 | D68: TH01 | E68: Thực tập May trang phục 1 | F68: =G68+H68 -> 3 | H68: 3
C69: 11 | D69: TH02 | F69: =G69+H69 -> 0
A70: 7 | B70: 13 CĐ-TP 1, 2 | C70: 1 | D70: LT01 | E70: Anh văn chuyên ngành | F70: =G70+H70 -> 2 | G70: 2
C71: 2 | D71: LT02 | E71: Tư tưởng Hồ Chí Minh | F71: =G71+H71 -> 2 | G71: 2
C72: 3 | D72: LT03 | E72: Cấu trúc dữ liệu | F72: =G72+H72 -> 4 | G72: 3 | H72: 1
C73: 4 | D73: LT04 | E73: Lập trình quản lý | F73: =G73+H73 -> 4 | G73: 3 | H73: 1
C74: 5 | D74: LT05 | E74: Phân tích và thiết kế hệ thống | F74: =G74+H74 -> 3 | G74: 3
C75: 6 | D75: LT06 | E75: Lập trình hướng đối tượng | F75: =G75+H75 -> 3 | G75: 2 | H75: 1
C76: 7 | D76: LT07 | F76: =G76+H76 -> 0
C77: 8 | D77: LT08 | F77: =G77+H77 -> 0
C78: 9 | D78: LT09 | F78: =G78+H78 -> 0
C79: 10 | D79: TH01 | F79: =G79+H79 -> 0
C80: 11 | D80: TH02 | F80: =G80+H80 -> 0
A81: 8 | B81: 13 CĐ-TM 1, 2 | C81: 1 | D81: LT01 | E81: Anh văn chuyên ngành | F81: =G81+H81 -> 2 | G81: 2
C82: 2 | D82: LT02 | E82: Tư tưởng Hồ Chí Minh | F82: =G82+H82 -> 2 | G82: 2
C83: 3 | D83: LT03 | E83: Cấu trúc dữ liệu | F83: =G83+H83 -> 4 | G83: 3 | H83: 1
C84: 4 | D84: LT04 | E84: Lập trình quản lý | F84: =G84+H84 -> 4 | G84: 3 | H84: 1
C85: 5 | D85: LT05 | E85: Phân tích và thiết kế hệ thống | F85: =G85+H85 -> 3 | G85: 3
C86: 6 | D86: LT06 | E86: Mạng máy tính và quản trị mạng | F86: =G86+H86 -> 3 | G86: 2 | H86: 1
C87: 7 | D87: LT07 | F87: =G87+H87 -> 0
C88: 8 | D88: LT08 | F88: =G88+H88 -> 0
C89: 9 | D89: LT09 | F89: =G89+H89 -> 0
C90: 10 | D90: TH01 | F90: =G90+H90 -> 0
C91: 11 | D91: TH02 | F91: =G91+H91 -> 0
B93: Nơi nhận: | E93: HIỆU TRƯỞNG
B94: * BGH để báo cáo;
B95: * Các Khoa để thực hiện;
B96: * P.Đào tạo để theo dõi.

Sheet LOP-MON
A1: TT | B1: STT | C1: Lớp | D1: LT01 | E1: LT02 | F1: LT03 | G1: LT04 | H1: LT05 | I1: LT06 | J1: LT07 | K1: LT08 | L1: LT09 | M1: TH01 | N1: TH02
A2: 1 | B2: 1 | C2: 13CĐ-ĐT1 | D2: =VLOOKUP(D$1,'TEN HOC PHAN HKI'!$D$4:$F$14,2,0) -> Anh văn 2 | E2: =VLOOKUP(E$1,'TEN HOC PHAN HKI'!$D$4:$F$14,2,0) -> Những NLCB của CNMLN 2 | F2: =VLOOKUP(F$1,'TEN HOC PHAN HKI'!$D$4:$F$14,2,0) -> Khí cụ điện và máy điện | G2: =VLOOKUP(G$1,'TEN HOC PHAN HKI'!$D$4:$F$14,2,0) -> Kỹ thuật số | H2: =VLOOKUP(H$1,'TEN HOC PHAN HKI'!$D$4:$F$14,2,0) -> Điện tử công suất | I2: =VLOOKUP(I$1,'TEN HOC PHAN HKI'!$D$4:$F$14,2,0) -> Kỹ thuật truyền số liệu | J2: =VLOOKUP(J$1,'TEN HOC PHAN HKI'!$D$4:$F$14,2,0) -> 0 | K2: =VLOOKUP(K$1,'TEN HOC PHAN HKI'!$D$4:$F$14,2,0) -> 0 | ... N2: =VLOOKUP(N$1,'TEN HOC PHAN HKI'!$D$4:$F$14,2,0) -> Thực tập Điện tử cơ bản
C3: TC13CĐĐT1 | D3: =VLOOKUP(D$1,'TEN HOC PHAN HKI'!$D$4:$F$14,3,0) -> 3 | E3: =VLOOKUP(E$1,'TEN HOC PHAN HKI'!$D$4:$F$14,3,0) -> 3 | F3: =VLOOKUP(F$1,'TEN HOC PHAN HKI'!$D$4:$F$14,3,0) -> 2 | G3: =VLOOKUP(G$1,'TEN HOC PHAN HKI'!$D$4:$F$14,3,0) -> 2 | H3: =VLOOKUP(H$1,'TEN HOC PHAN HKI'!$D$4:$F$14,3,0) -> 2 | I3: =VLOOKUP(I$1,'TEN HOC PHAN HKI'!$D$4:$F$14,3,0) -> 5 | J3: =VLOOKUP(J$1,'TEN HOC PHAN HKI'!$D$4:$F$14,3,0) -> 0 | K3: =VLOOKUP(K$1,'TEN HOC PHAN HKI'!$D$4:$F$14,3,0) -> 0 | ... N3: =VLOOKUP(N$1,'TEN HOC PHAN HKI'!$D$4:$F$14,3,0) -> 2
A4: 2 | B4: 2 | C4: 13CĐ-ĐT2 | D4: =VLOOKUP(D$1,'TEN HOC PHAN HKI'!$D$4:$F$14,2,0) -> Anh văn 2 | E4: =VLOOKUP(E$1,'TEN HOC PHAN HKI'!$D$4:$F$14,2,0) -> Những NLCB của CNMLN 2 | F4: =VLOOKUP(F$1,'TEN HOC PHAN HKI'!$D$4:$F$14,2,0) -> Khí cụ điện và máy điện | G4: =VLOOKUP(G$1,'TEN HOC PHAN HKI'!$D$4:$F$14,2,0) -> Kỹ thuật số | H4: =VLOOKUP(H$1,'TEN HOC PHAN HKI'!$D$4:$F$14,2,0) -> Điện tử công suất | I4: =VLOOKUP(I$1,'TEN HOC PHAN HKI'!$D$4:$F$14,2,0) -> Kỹ thuật truyền số liệu | J4: =VLOOKUP(J$1,'TEN HOC PHAN HKI'!$D$4:$F$14,2,0) -> 0 | K4: =VLOOKUP(K$1,'TEN HOC PHAN HKI'!$D$4:$F$14,2,0) -> 0 | ... N4: =VLOOKUP(N$1,'TEN HOC PHAN HKI'!$D$4:$F$14,2,0) -> Thực tập Điện tử cơ bản
C5: TC13CĐĐT2 | D5: =VLOOKUP(D$1,'TEN HOC PHAN HKI'!$D$4:$F$14,3,0) -> 3 | E5: =VLOOKUP(E$1,'TEN HOC PHAN HKI'!$D$4:$F$14,3,0) -> 3 | F5: =VLOOKUP(F$1,'TEN HOC PHAN HKI'!$D$4:$F$14,3,0) -> 2 | G5: =VLOOKUP(G$1,'TEN HOC PHAN HKI'!$D$4:$F$14,3,0) -> 2 | H5: =VLOOKUP(H$1,'TEN HOC PHAN HKI'!$D$4:$F$14,3,0) -> 2 | I5: =VLOOKUP(I$1,'TEN HOC PHAN HKI'!$D$4:$F$14,3,0) -> 5 | J5: =VLOOKUP(J$1,'TEN HOC PHAN HKI'!$D$4:$F$14,3,0) -> 0 | K5: =VLOOKUP(K$1,'TEN HOC PHAN HKI'!$D$4:$F$14,3,0) -> 0 | ... N5: =VLOOKUP(N$1,'TEN HOC PHAN HKI'!$D$4:$F$14,3,0) -> 2
A6: 3 | B6: 3 | C6: 13CĐ-ĐT3 | D6: =VLOOKUP(D$1,'TEN HOC PHAN HKI'!$D$4:$F$14,2,0) -> Anh văn 2 | E6: =VLOOKUP(E$1,'TEN HOC PHAN HKI'!$D$4:$F$14,2,0) -> Những NLCB của CNMLN 2 | F6: =VLOOKUP(F$1,'TEN HOC PHAN HKI'!$D$4:$F$14,2,0) -> Khí cụ điện và máy điện | G6: =VLOOKUP(G$1,'TEN HOC PHAN HKI'!$D$4:$F$14,2,0) -> Kỹ thuật số | H6: =VLOOKUP(H$1,'TEN HOC PHAN HKI'!$D$4:$F$14,2,0) -> Điện tử công suất | I6: =VLOOKUP(I$1,'TEN HOC PHAN HKI'!$D$4:$F$14,2,0) -> Kỹ thuật truyền số liệu | J6: =VLOOKUP(J$1,'TEN HOC PHAN HKI'!$D$4:$F$14,2,0) -> 0 | K6: =VLOOKUP(K$1,'TEN HOC PHAN HKI'!$D$4:$F$14,2,0) -> 0 | ... N6: =VLOOKUP(N$1,'TEN HOC PHAN HKI'!$D$4:$F$14,2,0) -> Thực tập Điện tử cơ bản
C7: TC13CĐĐT3 | D7: =VLOOKUP(D$1,'TEN HOC PHAN HKI'!$D$4:$F$14,3,0) -> 3 | E7: =VLOOKUP(E$1,'TEN HOC PHAN HKI'!$D$4:$F$14,3,0) -> 3 | F7: =VLOOKUP(F$1,'TEN HOC PHAN HKI'!$D$4:$F$14,3,0) -> 2 | G7: =VLOOKUP(G$1,'TEN HOC PHAN HKI'!$D$4:$F$14,3,0) -> 2 | H7: =VLOOKUP(H$1,'TEN HOC PHAN HKI'!$D$4:$F$14,3,0) -> 2 | I7: =VLOOKUP(I$1,'TEN HOC PHAN HKI'!$D$4:$F$14,3,0) -> 5 | J7: =VLOOKUP(J$1,'TEN HOC PHAN HKI'!$D$4:$F$14,3,0) -> 0 | K7: =VLOOKUP(K$1,'TEN HOC PHAN HKI'!$D$4:$F$14,3,0) -> 0 | ... N7: =VLOOKUP(N$1,'TEN HOC PHAN HKI'!$D$4:$F$14,3,0) -> 2
A8: 4 | B8: 4 | C8: 13CĐ-ĐT4 | D8: =VLOOKUP(D$1,'TEN HOC PHAN HKI'!$D$4:$F$14,2,0) -> Anh văn 2 | E8: =VLOOKUP(E$1,'TEN HOC PHAN HKI'!$D$4:$F$14,2,0) -> Những NLCB của CNMLN 2 | F8: =VLOOKUP(F$1,'TEN HOC PHAN HKI'!$D$4:$F$14,2,0) -> Khí cụ điện và máy điện | G8: =VLOOKUP(G$1,'TEN HOC PHAN HKI'!$D$4:$F$14,2,0) -> Kỹ thuật số | H8: =VLOOKUP(H$1,'TEN HOC PHAN HKI'!$D$4:$F$14,2,0) -> Điện tử công suất | I8: =VLOOKUP(I$1,'TEN HOC PHAN HKI'!$D$4:$F$14,2,0) -> Kỹ thuật truyền số liệu | J8: =VLOOKUP(J$1,'TEN HOC PHAN HKI'!$D$4:$F$14,2,0) -> 0 | K8: =VLOOKUP(K$1,'TEN HOC PHAN HKI'!$D$4:$F$14,2,0) -> 0 | ... N8: =VLOOKUP(N$1,'TEN HOC PHAN HKI'!$D$4:$F$14,2,0) -> Thực tập Điện tử cơ bản
C9: TC13CĐĐT4 | D9: =VLOOKUP(D$1,'TEN HOC PHAN HKI'!$D$4:$F$14,3,0) -> 3 | E9: =VLOOKUP(E$1,'TEN HOC PHAN HKI'!$D$4:$F$14,3,0) -> 3 | F9: =VLOOKUP(F$1,'TEN HOC PHAN HKI'!$D$4:$F$14,3,0) -> 2 | G9: =VLOOKUP(G$1,'TEN HOC PHAN HKI'!$D$4:$F$14,3,0) -> 2 | H9: =VLOOKUP(H$1,'TEN HOC PHAN HKI'!$D$4:$F$14,3,0) -> 2 | I9: =VLOOKUP(I$1,'TEN HOC PHAN HKI'!$D$4:$F$14,3,0) -> 5 | J9: =VLOOKUP(J$1,'TEN HOC PHAN HKI'!$D$4:$F$14,3,0) -> 0 | K9: =VLOOKUP(K$1,'TEN HOC PHAN HKI'!$D$4:$F$14,3,0) -> 0 | ... N9: =VLOOKUP(N$1,'TEN HOC PHAN HKI'!$D$4:$F$14,3,0) -> 2
A10: 5 | B10: 1 | C10: 13CĐ-Đ1 | D10: =VLOOKUP(D$1,'TEN HOC PHAN HKI'!$D$15:$F$25,2,0) -> Anh văn 2 | E10: =VLOOKUP(E$1,'TEN HOC PHAN HKI'!$D$15:$F$25,2,0) -> Những NLCB của CNMLN 2 | F10: =VLOOKUP(F$1,'TEN HOC PHAN HKI'!$D$15:$F$25,2,0) -> Khí cụ điện và máy điện | G10: =VLOOKUP(G$1,'TEN HOC PHAN HKI'!$D$15:$F$25,2,0) -> Kỹ thuật số | H10: =VLOOKUP(H$1,'TEN HOC PHAN HKI'!$D$15:$F$25,2,0) -> Điện tử công suất | I10: =VLOOKUP(I$1,'TEN HOC PHAN HKI'!$D$15:$F$25,2,0) -> Kỹ thuật truyền số liệu | J10: =VLOOKUP(J$1,'TEN HOC PHAN HKI'!$D$15:$F$25,2,0) -> 0 | K10: =VLOOKUP(K$1,'TEN HOC PHAN HKI'!$D$15:$F$25,2,0) -> 0 | ... N10: =VLOOKUP(N$1,'TEN HOC PHAN HKI'!$D$15:$F$25,2,0) -> Thực tập Đo lường và mạch điện
C11: TC13CĐĐ1 | D11: =VLOOKUP(D$1,'TEN HOC PHAN HKI'!$D$15:$F$25,3,0) -> 2 | E11: =VLOOKUP(E$1,'TEN HOC PHAN HKI'!$D$15:$F$25,3,0) -> 3 | F11: =VLOOKUP(F$1,'TEN HOC PHAN HKI'!$D$15:$F$25,3,0) -> 3 | G11: =VLOOKUP(G$1,'TEN HOC PHAN HKI'!$D$15:$F$25,3,0) -> 2 | H11: =VLOOKUP(H$1,'TEN HOC PHAN HKI'!$D$15:$F$25,3,0) -> 2 | I11: =VLOOKUP(I$1,'TEN HOC PHAN HKI'!$D$15:$F$25,3,0) -> 2 | J11: =VLOOKUP(J$1,'TEN HOC PHAN HKI'!$D$15:$F$25,3,0) -> 0 | K11: =VLOOKUP(K$1,'TEN HOC PHAN HKI'!$D$15:$F$25,3,0) -> 0 | ... N11: =VLOOKUP(N$1,'TEN HOC PHAN HKI'!$D$15:$F$25,3,0) -> 2
A12: 6 | B12: 2 | C12: 13CĐ-Đ2 | D12: =VLOOKUP(D$1,'TEN HOC PHAN HKI'!$D$15:$F$25,2,0) -> Anh văn 2 | E12: =VLOOKUP(E$1,'TEN HOC PHAN HKI'!$D$15:$F$25,2,0) -> Những NLCB của CNMLN 2 | F12: =VLOOKUP(F$1,'TEN HOC PHAN HKI'!$D$15:$F$25,2,0) -> Khí cụ điện và máy điện | G12: =VLOOKUP(G$1,'TEN HOC PHAN HKI'!$D$15:$F$25,2,0) -> Kỹ thuật số | H12: =VLOOKUP(H$1,'TEN HOC PHAN HKI'!$D$15:$F$25,2,0) -> Điện tử công suất | I12: =VLOOKUP(I$1,'TEN HOC PHAN HKI'!$D$15:$F$25,2,0) -> Kỹ thuật truyền số liệu | J12: =VLOOKUP(J$1,'TEN HOC PHAN HKI'!$D$15:$F$25,2,0) -> 0 | K12: =VLOOKUP(K$1,'TEN HOC PHAN HKI'!$D$15:$F$25,2,0) -> 0 | ... N12: =VLOOKUP(N$1,'TEN HOC PHAN HKI'!$D$15:$F$25,2,0) -> Thực tập Đo lường và mạch điện
C13: TC13CĐĐ2 | D13: =VLOOKUP(D$1,'TEN HOC PHAN HKI'!$D$15:$F$25,3,0) -> 2 | E13: =VLOOKUP(E$1,'TEN HOC PHAN HKI'!$D$15:$F$25,3,0) -> 3 | F13: =VLOOKUP(F$1,'TEN HOC PHAN HKI'!$D$15:$F$25,3,0) -> 3 | G13: =VLOOKUP(G$1,'TEN HOC PHAN HKI'!$D$15:$F$25,3,0) -> 2 | H13: =VLOOKUP(H$1,'TEN HOC PHAN HKI'!$D$15:$F$25,3,0) -> 2 | I13: =VLOOKUP(I$1,'TEN HOC PHAN HKI'!$D$15:$F$25,3,0) -> 2 | J13: =VLOOKUP(J$1,'TEN HOC PHAN HKI'!$D$15:$F$25,3,0) -> 0 | K13: =VLOOKUP(K$1,'TEN HOC PHAN HKI'!$D$15:$F$25,3,0) -> 0 | ... N13: =VLOOKUP(N$1,'TEN HOC PHAN HKI'!$D$15:$F$25,3,0) -> 2
A14: 7 | B14: 3 | C14: 13CĐ-Đ3 | D14: =VLOOKUP(D$1,'TEN HOC PHAN HKI'!$D$15:$F$25,2,0) -> Anh văn 2 | E14: =VLOOKUP(E$1,'TEN HOC PHAN HKI'!$D$15:$F$25,2,0) -> Những NLCB của CNMLN 2 | F14: =VLOOKUP(F$1,'TEN HOC PHAN HKI'!$D$15:$F$25,2,0) -> Khí cụ điện và máy điện | G14: =VLOOKUP(G$1,'TEN HOC PHAN HKI'!$D$15:$F$25,2,0) -> Kỹ thuật số | H14: =VLOOKUP(H$1,'TEN HOC PHAN HKI'!$D$15:$F$25,2,0) -> Điện tử công suất | I14: =VLOOKUP(I$1,'TEN HOC PHAN HKI'!$D$15:$F$25,2,0) -> Kỹ thuật truyền số liệu | J14: =VLOOKUP(J$1,'TEN HOC PHAN HKI'!$D$15:$F$25,2,0) -> 0 | K14: =VLOOKUP(K$1,'TEN HOC PHAN HKI'!$D$15:$F$25,2,0) -> 0 | ... N14: =VLOOKUP(N$1,'TEN HOC PHAN HKI'!$D$15:$F$25,2,0) -> Thực tập Đo lường và mạch điện
C15: TC13CĐĐ3 | D15: =VLOOKUP(D$1,'TEN HOC PHAN HKI'!$D$15:$F$25,3,0) -> 2 | E15: =VLOOKUP(E$1,'TEN HOC PHAN HKI'!$D$15:$F$25,3,0) -> 3 | F15: =VLOOKUP(F$1,'TEN HOC PHAN HKI'!$D$15:$F$25,3,0) -> 3 | G15: =VLOOKUP(G$1,'TEN HOC PHAN HKI'!$D$15:$F$25,3,0) -> 2 | H15: =VLOOKUP(H$1,'TEN HOC PHAN HKI'!$D$15:$F$25,3,0) -> 2 | I15: =VLOOKUP(I$1,'TEN HOC PHAN HKI'!$D$15:$F$25,3,0) -> 2 | J15: =VLOOKUP(J$1,'TEN HOC PHAN HKI'!$D$15:$F$25,3,0) -> 0 | K15: =VLOOKUP(K$1,'TEN HOC PHAN HKI'!$D$15:$F$25,3,0) -> 0 | ... N15: =VLOOKUP(N$1,'TEN HOC PHAN HKI'!$D$15:$F$25,3,0) -> 2
A16: 8 | B16: 4 | C16: 13CĐ-Đ4 | D16: =VLOOKUP(D$1,'TEN HOC PHAN HKI'!$D$15:$F$25,2,0) -> Anh văn 2 | E16: =VLOOKUP(E$1,'TEN HOC PHAN HKI'!$D$15:$F$25,2,0) -> Những NLCB của CNMLN 2 | F16: =VLOOKUP(F$1,'TEN HOC PHAN HKI'!$D$15:$F$25,2,0) -> Khí cụ điện và máy điện | G16: =VLOOKUP(G$1,'TEN HOC PHAN HKI'!$D$15:$F$25,2,0) -> Kỹ thuật số | H16: =VLOOKUP(H$1,'TEN HOC PHAN HKI'!$D$15:$F$25,2,0) -> Điện tử công suất | I16: =VLOOKUP(I$1,'TEN HOC PHAN HKI'!$D$15:$F$25,2,0) -> Kỹ thuật truyền số liệu | J16: =VLOOKUP(J$1,'TEN HOC PHAN HKI'!$D$15:$F$25,2,0) -> 0 | K16: =VLOOKUP(K$1,'TEN HOC PHAN HKI'!$D$15:$F$25,2,0) -> 0 | ... N16: =VLOOKUP(N$1,'TEN HOC PHAN HKI'!$D$15:$F$25,2,0) -> Thực tập Đo lường và mạch điện
C17: TC13CĐĐ4 | D17: =VLOOKUP(D$1,'TEN HOC PHAN HKI'!$D$15:$F$25,3,0) -> 2 | E17: =VLOOKUP(E$1,'TEN HOC PHAN HKI'!$D$15:$F$25,3,0) -> 3 | F17: =VLOOKUP(F$1,'TEN HOC PHAN HKI'!$D$15:$F$25,3,0) -> 3 | G17: =VLOOKUP(G$1,'TEN HOC PHAN HKI'!$D$15:$F$25,3,0) -> 2 | H17: =VLOOKUP(H$1,'TEN HOC PHAN HKI'!$D$15:$F$25,3,0) -> 2 | I17: =VLOOKUP(I$1,'TEN HOC PHAN HKI'!$D$15:$F$25,3,0) -> 2 | J17: =VLOOKUP(J$1,'TEN HOC PHAN HKI'!$D$15:$F$25,3,0) -> 0 | K17: =VLOOKUP(K$1,'TEN HOC PHAN HKI'!$D$15:$F$25,3,0) -> 0 | ... N17: =VLOOKUP(N$1,'TEN HOC PHAN HKI'!$D$15:$F$25,3,0) -> 2
A18: 9 | B18: 1 | C18: 13CĐ-CK1 | D18: =VLOOKUP(D$1,'TEN HOC PHAN HKI'!$D$26:$F$36,2,0) -> Anh văn chuyên ngành | E18: =VLOOKUP(E$1,'TEN HOC PHAN HKI'!$D$26:$F$36,2,0) -> Tư tưởng Hồ Chí Minh | F18: =VLOOKUP(F$1,'TEN HOC PHAN HKI'!$D$26:$F$36,2,0) -> Cơ ứng dụng | G18: =VLOOKUP(G$1,'TEN HOC PHAN HKI'!$D$26:$F$36,2,0) -> Vật liệu học | H18: =VLOOKUP(H$1,'TEN HOC PHAN HKI'!$D$26:$F$36,2,0) -> Autocad (2D) | I18: =VLOOKUP(I$1,'TEN HOC PHAN HKI'!$D$26:$F$36,2,0) -> 0 | J18: =VLOOKUP(J$1,'TEN HOC PHAN HKI'!$D$26:$F$36,2,0) -> 0 | K18: =VLOOKUP(K$1,'TEN HOC PHAN HKI'!$D$26:$F$36,2,0) -> 0 | ... N18: =VLOOKUP(N$1,'TEN HOC PHAN HKI'!$D$26:$F$36,2,0) -> Thực tập Tiện 1
C19: TC13CĐCK1 | D19: =VLOOKUP(D$1,'TEN HOC PHAN HKI'!$D$26:$F$36,3,0) -> 2 | E19: =VLOOKUP(E$1,'TEN HOC PHAN HKI'!$D$26:$F$36,3,0) -> 2 | F19: =VLOOKUP(F$1,'TEN HOC PHAN HKI'!$D$26:$F$36,3,0) -> 3 | G19: =VLOOKUP(G$1,'TEN HOC PHAN HKI'!$D$26:$F$36,3,0) -> 2 | H19: =VLOOKUP(H$1,'TEN HOC PHAN HKI'!$D$26:$F$36,3,0) -> 2 | I19: =VLOOKUP(I$1,'TEN HOC PHAN HKI'!$D$26:$F$36,3,0) -> 0 | J19: =VLOOKUP(J$1,'TEN HOC PHAN HKI'!$D$26:$F$36,3,0) -> 0 | K19: =VLOOKUP(K$1,'TEN HOC PHAN HKI'!$D$26:$F$36,3,0) -> 0 | ... N19: =VLOOKUP(N$1,'TEN HOC PHAN HKI'!$D$26:$F$36,3,0) -> 2
A20: 10 | B20: 2 | C20: 13CĐ-CK2 | D20: =VLOOKUP(D$1,'TEN HOC PHAN HKI'!$D$26:$F$36,2,0) -> Anh văn chuyên ngành | E20: =VLOOKUP(E$1,'TEN HOC PHAN HKI'!$D$26:$F$36,2,0) -> Tư tưởng Hồ Chí Minh | F20: =VLOOKUP(F$1,'TEN HOC PHAN HKI'!$D$26:$F$36,2,0) -> Cơ ứng dụng | G20: =VLOOKUP(G$1,'TEN HOC PHAN HKI'!$D$26:$F$36,2,0) -> Vật liệu học | H20: =VLOOKUP(H$1,'TEN HOC PHAN HKI'!$D$26:$F$36,2,0) -> Autocad (2D) | I20: =VLOOKUP(I$1,'TEN HOC PHAN HKI'!$D$26:$F$36,2,0) -> 0 | J20: =VLOOKUP(J$1,'TEN HOC PHAN HKI'!$D$26:$F$36,2,0) -> 0 | K20: =VLOOKUP(K$1,'TEN HOC PHAN HKI'!$D$26:$F$36,2,0) -> 0 | ... N20: =VLOOKUP(N$1,'TEN HOC PHAN HKI'!$D$26:$F$36,2,0) -> Thực tập Tiện 1
C21: TC13CĐCK2 | D21: =VLOOKUP(D$1,'TEN HOC PHAN HKI'!$D$26:$F$36,3,0) -> 2 | E21: =VLOOKUP(E$1,'TEN HOC PHAN HKI'!$D$26:$F$36,3,0) -> 2 | F21: =VLOOKUP(F$1,'TEN HOC PHAN HKI'!$D$26:$F$36,3,0) -> 3 | G21: =VLOOKUP(G$1,'TEN HOC PHAN HKI'!$D$26:$F$36,3,0) -> 2 | H21: =VLOOKUP(H$1,'TEN HOC PHAN HKI'!$D$26:$F$36,3,0) -> 2 | I21: =VLOOKUP(I$1,'TEN HOC PHAN HKI'!$D$26:$F$36,3,0) -> 0 | J21: =VLOOKUP(J$1,'TEN HOC PHAN HKI'!$D$26:$F$36,3,0) -> 0 | K21: =VLOOKUP(K$1,'TEN HOC PHAN HKI'!$D$26:$F$36,3,0) -> 0 | ... N21: =VLOOKUP(N$1,'TEN HOC PHAN HKI'!$D$26:$F$36,3,0) -> 2
A22: 11 | B22: 3 | C22: 13CĐ-CK3 | D22: =VLOOKUP(D$1,'TEN HOC PHAN HKI'!$D$26:$F$36,2,0) -> Anh văn chuyên ngành | E22: =VLOOKUP(E$1,'TEN HOC PHAN HKI'!$D$26:$F$36,2,0) -> Tư tưởng Hồ Chí Minh | F22: =VLOOKUP(F$1,'TEN HOC PHAN HKI'!$D$26:$F$36,2,0) -> Cơ ứng dụng | G22: =VLOOKUP(G$1,'TEN HOC PHAN HKI'!$D$26:$F$36,2,0) -> Vật liệu học | H22: =VLOOKUP(H$1,'TEN HOC PHAN HKI'!$D$26:$F$36,2,0) -> Autocad (2D) | I22: =VLOOKUP(I$1,'TEN HOC PHAN HKI'!$D$26:$F$36,2,0) -> 0 | J22: =VLOOKUP(J$1,'TEN HOC PHAN HKI'!$D$26:$F$36,2,0) -> 0 | K22: =VLOOKUP(K$1,'TEN HOC PHAN HKI'!$D$26:$F$36,2,0) -> 0 | ... N22: =VLOOKUP(N$1,'TEN HOC PHAN HKI'!$D$26:$F$36,2,0) -> Thực tập Tiện 1
C23: TC13CĐCK3 | D23: =VLOOKUP(D$1,'TEN HOC PHAN HKI'!$D$26:$F$36,3,0) -> 2 | E23: =VLOOKUP(E$1,'TEN HOC PHAN HKI'!$D$26:$F$36,3,0) -> 2 | F23: =VLOOKUP(F$1,'TEN HOC PHAN HKI'!$D$26:$F$36,3,0) -> 3 | G23: =VLOOKUP(G$1,'TEN HOC PHAN HKI'!$D$26:$F$36,3,0) -> 2 | H23: =VLOOKUP(H$1,'TEN HOC PHAN HKI'!$D$26:$F$36,3,0) -> 2 | I23: =VLOOKUP(I$1,'TEN HOC PHAN HKI'!$D$26:$F$36,3,0) -> 0 | J23: =VLOOKUP(J$1,'TEN HOC PHAN HKI'!$D$26:$F$36,3,0) -> 0 | K23: =VLOOKUP(K$1,'TEN HOC PHAN HKI'!$D$26:$F$36,3,0) -> 0 | ... N23: =VLOOKUP(N$1,'TEN HOC PHAN HKI'!$D$26:$F$36,3,0) -> 2
A24: 12 | B24: 4 | C24: 13CĐ-CK4 | D24: =VLOOKUP(D$1,'TEN HOC PHAN HKI'!$D$26:$F$36,2,0) -> Anh văn chuyên ngành | E24: =VLOOKUP(E$1,'TEN HOC PHAN HKI'!$D$26:$F$36,2,0) -> Tư tưởng Hồ Chí Minh | F24: =VLOOKUP(F$1,'TEN HOC PHAN HKI'!$D$26:$F$36,2,0) -> Cơ ứng dụng | G24: =VLOOKUP(G$1,'TEN HOC PHAN HKI'!$D$26:$F$36,2,0) -> Vật liệu học | H24: =VLOOKUP(H$1,'TEN HOC PHAN HKI'!$D$26:$F$36,2,0) -> Autocad (2D) | I24: =VLOOKUP(I$1,'TEN HOC PHAN HKI'!$D$26:$F$36,2,0) -> 0 | J24: =VLOOKUP(J$1,'TEN HOC PHAN HKI'!$D$26:$F$36,2,0) -> 0 | K24: =VLOOKUP(K$1,'TEN HOC PHAN HKI'!$D$26:$F$36,2,0) -> 0 | ... N24: =VLOOKUP(N$1,'TEN HOC PHAN HKI'!$D$26:$F$36,2,0) -> Thực tập Tiện 1
C25: TC13CĐCK4 | D25: =VLOOKUP(D$1,'TEN HOC PHAN HKI'!$D$26:$F$36,3,0) -> 2 | E25: =VLOOKUP(E$1,'TEN HOC PHAN HKI'!$D$26:$F$36,3,0) -> 2 | F25: =VLOOKUP(F$1,'TEN HOC PHAN HKI'!$D$26:$F$36,3,0) -> 3 | G25: =VLOOKUP(G$1,'TEN HOC PHAN HKI'!$D$26:$F$36,3,0) -> 2 | H25: =VLOOKUP(H$1,'TEN HOC PHAN HKI'!$D$26:$F$36,3,0) -> 2 | I25: =VLOOKUP(I$1,'TEN HOC PHAN HKI'!$D$26:$F$36,3,0) -> 0 | J25: =VLOOKUP(J$1,'TEN HOC PHAN HKI'!$D$26:$F$36,3,0) -> 0 | K25: =VLOOKUP(K$1,'TEN HOC PHAN HKI'!$D$26:$F$36,3,0) -> 0 | ... N25: =VLOOKUP(N$1,'TEN HOC PHAN HKI'!$D$26:$F$36,3,0) -> 2
A26: 13 | B26: 5 | C26: 13CĐ-CK5 | D26: =VLOOKUP(D$1,'TEN HOC PHAN HKI'!$D$26:$F$36,2,0) -> Anh văn chuyên ngành | E26: =VLOOKUP(E$1,'TEN HOC PHAN HKI'!$D$26:$F$36,2,0) -> Tư tưởng Hồ Chí Minh | F26: =VLOOKUP(F$1,'TEN HOC PHAN HKI'!$D$26:$F$36,2,0) -> Cơ ứng dụng | G26: =VLOOKUP(G$1,'TEN HOC PHAN HKI'!$D$26:$F$36,2,0) -> Vật liệu học | H26: =VLOOKUP(H$1,'TEN HOC PHAN HKI'!$D$26:$F$36,2,0) -> Autocad (2D) | I26: =VLOOKUP(I$1,'TEN HOC PHAN HKI'!$D$26:$F$36,2,0) -> 0 | J26: =VLOOKUP(J$1,'TEN HOC PHAN HKI'!$D$26:$F$36,2,0) -> 0 | K26: =VLOOKUP(K$1,'TEN HOC PHAN HKI'!$D$26:$F$36,2,0) -> 0 | ... N26: =VLOOKUP(N$1,'TEN HOC PHAN HKI'!$D$26:$F$36,2,0) -> Thực tập Tiện 1
C27: TC13CĐCK5 | D27: =VLOOKUP(D$1,'TEN HOC PHAN HKI'!$D$26:$F$36,3,0) -> 2 | E27: =VLOOKUP(E$1,'TEN HOC PHAN HKI'!$D$26:$F$36,3,0) -> 2 | F27: =VLOOKUP(F$1,'TEN HOC PHAN HKI'!$D$26:$F$36,3,0) -> 3 | G27: =VLOOKUP(G$1,'TEN HOC PHAN HKI'!$D$26:$F$36,3,0) -> 2 | H27: =VLOOKUP(H$1,'TEN HOC PHAN HKI'!$D$26:$F$36,3,0) -> 2 | I27: =VLOOKUP(I$1,'TEN HOC PHAN HKI'!$D$26:$F$36,3,0) -> 0 | J27: =VLOOKUP(J$1,'TEN HOC PHAN HKI'!$D$26:$F$36,3,0) -> 0 | K27: =VLOOKUP(K$1,'TEN HOC PHAN HKI'!$D$26:$F$36,3,0) -> 0 | ... N27: =VLOOKUP(N$1,'TEN HOC PHAN HKI'!$D$26:$F$36,3,0) -> 2
A28: 14 | B28: 6 | C28: 13CĐ-CK6 | D28: =VLOOKUP(D$1,'TEN HOC PHAN HKI'!$D$26:$F$36,2,0) -> Anh văn chuyên ngành | E28: =VLOOKUP(E$1,'TEN HOC PHAN HKI'!$D$26:$F$36,2,0) -> Tư tưởng Hồ Chí Minh | F28: =VLOOKUP(F$1,'TEN HOC PHAN HKI'!$D$26:$F$36,2,0) -> Cơ ứng dụng | G28: =VLOOKUP(G$1,'TEN HOC PHAN HKI'!$D$26:$F$36,2,0) -> Vật liệu học | H28: =VLOOKUP(H$1,'TEN HOC PHAN HKI'!$D$26:$F$36,2,0) -> Autocad (2D) | I28: =VLOOKUP(I$1,'TEN HOC PHAN HKI'!$D$26:$F$36,2,0) -> 0 | J28: =VLOOKUP(J$1,'TEN HOC PHAN HKI'!$D$26:$F$36,2,0) -> 0 | K28: =VLOOKUP(K$1,'TEN HOC PHAN HKI'!$D$26:$F$36,2,0) -> 0 | ... N28: =VLOOKUP(N$1,'TEN HOC PHAN HKI'!$D$26:$F$36,2,0) -> Thực tập Tiện 1
C29: TC13CĐCK6 | D29: =VLOOKUP(D$1,'TEN HOC PHAN HKI'!$D$26:$F$36,3,0) -> 2 | E29: =VLOOKUP(E$1,'TEN HOC PHAN HKI'!$D$26:$F$36,3,0) -> 2 | F29: =VLOOKUP(F$1,'TEN HOC PHAN HKI'!$D$26:$F$36,3,0) -> 3 | G29: =VLOOKUP(G$1,'TEN HOC PHAN HKI'!$D$26:$F$36,3,0) -> 2 | H29: =VLOOKUP(H$1,'TEN HOC PHAN HKI'!$D$26:$F$36,3,0) -> 2 | I29: =VLOOKUP(I$1,'TEN HOC PHAN HKI'!$D$26:$F$36,3,0) -> 0 | J29: =VLOOKUP(J$1,'TEN HOC PHAN HKI'!$D$26:$F$36,3,0) -> 0 | K29: =VLOOKUP(K$1,'TEN HOC PHAN HKI'!$D$26:$F$36,3,0) -> 0 | ... N29: =VLOOKUP(N$1,'TEN HOC PHAN HKI'!$D$26:$F$36,3,0) -> 2
A30: 15 | B30: 1 | C30: 13CĐ-Ô1 | D30: =VLOOKUP(D$1,'TEN HOC PHAN HKI'!$D$37:$F$47,2,0) -> Anh văn chuyên ngành | E30: =VLOOKUP(E$1,'TEN HOC PHAN HKI'!$D$37:$F$47,2,0) -> Tư tưởng Hồ Chí Minh | F30: =VLOOKUP(F$1,'TEN HOC PHAN HKI'!$D$37:$F$47,2,0) -> Vật liệu học | G30: =VLOOKUP(G$1,'TEN HOC PHAN HKI'!$D$37:$F$47,2,0) -> Công nghệ kim loại | H30: =VLOOKUP(H$1,'TEN HOC PHAN HKI'!$D$37:$F$47,2,0) -> Cơ lý thuyết | I30: =VLOOKUP(I$1,'TEN HOC PHAN HKI'!$D$37:$F$47,2,0) -> Sức bền vật liệu | J30: =VLOOKUP(J$1,'TEN HOC PHAN HKI'!$D$37:$F$47,2,0) -> Kỹ thuật điện - điện tử | K30: =VLOOKUP(K$1,'TEN HOC PHAN HKI'!$D$37:$F$47,2,0) -> An toàn và môi trường CN | ... N30: =VLOOKUP(N$1,'TEN HOC PHAN HKI'!$D$37:$F$47,2,0) -> 0
C31: TC13CĐÔ1 | D31: =VLOOKUP(D$1,'TEN HOC PHAN HKI'!$D$37:$F$47,3,0) -> 2 | E31: =VLOOKUP(E$1,'TEN HOC PHAN HKI'!$D$37:$F$47,3,0) -> 2 | F31: =VLOOKUP(F$1,'TEN HOC PHAN HKI'!$D$37:$F$47,3,0) -> 2 | G31: =VLOOKUP(G$1,'TEN HOC PHAN HKI'!$D$37:$F$47,3,0) -> 2 | H31: =VLOOKUP(H$1,'TEN HOC PHAN HKI'!$D$37:$F$47,3,0) -> 2 | I31: =VLOOKUP(I$1,'TEN HOC PHAN HKI'!$D$37:$F$47,3,0) -> 2 | J31: =VLOOKUP(J$1,'TEN HOC PHAN HKI'!$D$37:$F$47,3,0) -> 3 | K31: =VLOOKUP(K$1,'TEN HOC PHAN HKI'!$D$37:$F$47,3,0) -> 2 | ... N31: =VLOOKUP(N$1,'TEN HOC PHAN HKI'!$D$37:$F$47,3,0) -> 0
A32: 16 | B32: 2 | C32: 13CĐ-Ô2 | D32: =VLOOKUP(D$1,'TEN HOC PHAN HKI'!$D$37:$F$47,2,0) -> Anh văn chuyên ngành | E32: =VLOOKUP(E$1,'TEN HOC PHAN HKI'!$D$37:$F$47,2,0) -> Tư tưởng Hồ Chí Minh | F32: =VLOOKUP(F$1,'TEN HOC PHAN HKI'!$D$37:$F$47,2,0) -> Vật liệu học | G32: =VLOOKUP(G$1,'TEN HOC PHAN HKI'!$D$37:$F$47,2,0) -> Công nghệ kim loại | H32: =VLOOKUP(H$1,'TEN HOC PHAN HKI'!$D$37:$F$47,2,0) -> Cơ lý thuyết | I32: =VLOOKUP(I$1,'TEN HOC PHAN HKI'!$D$37:$F$47,2,0) -> Sức bền vật liệu | J32: =VLOOKUP(J$1,'TEN HOC PHAN HKI'!$D$37:$F$47,2,0) -> Kỹ thuật điện - điện tử | K32: =VLOOKUP(K$1,'TEN HOC PHAN HKI'!$D$37:$F$47,2,0) -> An toàn và môi trường CN | ... N32: =VLOOKUP(N$1,'TEN HOC PHAN HKI'!$D$37:$F$47,2,0) -> 0
C33: TC13CĐÔ2 | D33: =VLOOKUP(D$1,'TEN HOC PHAN HKI'!$D$37:$F$47,3,0) -> 2 | E33: =VLOOKUP(E$1,'TEN HOC PHAN HKI'!$D$37:$F$47,3,0) -> 2 | F33: =VLOOKUP(F$1,'TEN HOC PHAN HKI'!$D$37:$F$47,3,0) -> 2 | G33: =VLOOKUP(G$1,'TEN HOC PHAN HKI'!$D$37:$F$47,3,0) -> 2 | H33: =VLOOKUP(H$1,'TEN HOC PHAN HKI'!$D$37:$F$47,3,0) -> 2 | I33: =VLOOKUP(I$1,'TEN HOC PHAN HKI'!$D$37:$F$47,3,0) -> 2 | J33: =VLOOKUP(J$1,'TEN HOC PHAN HKI'!$D$37:$F$47,3,0) -> 3 | K33: =VLOOKUP(K$1,'TEN HOC PHAN HKI'!$D$37:$F$47,3,0) -> 2 | ... N33: =VLOOKUP(N$1,'TEN HOC PHAN HKI'!$D$37:$F$47,3,0) -> 0
A34: 17 | B34: 3 | C34: 13CĐ-Ô3 | D34: =VLOOKUP(D$1,'TEN HOC PHAN HKI'!$D$37:$F$47,2,0) -> Anh văn chuyên ngành | E34: =VLOOKUP(E$1,'TEN HOC PHAN HKI'!$D$37:$F$47,2,0) -> Tư tưởng Hồ Chí Minh | F34: =VLOOKUP(F$1,'TEN HOC PHAN HKI'!$D$37:$F$47,2,0) -> Vật liệu học | G34: =VLOOKUP(G$1,'TEN HOC PHAN HKI'!$D$37:$F$47,2,0) -> Công nghệ kim loại | H34: =VLOOKUP(H$1,'TEN HOC PHAN HKI'!$D$37:$F$47,2,0) -> Cơ lý thuyết | I34: =VLOOKUP(I$1,'TEN HOC PHAN HKI'!$D$37:$F$47,2,0) -> Sức bền vật liệu | J34: =VLOOKUP(J$1,'TEN HOC PHAN HKI'!$D$37:$F$47,2,0) -> Kỹ thuật điện - điện tử | K34: =VLOOKUP(K$1,'TEN HOC PHAN HKI'!$D$37:$F$47,2,0) -> An toàn và môi trường CN | ... N34: =VLOOKUP(N$1,'TEN HOC PHAN HKI'!$D$37:$F$47,2,0) -> 0
C35: TC13CĐÔ3 | D35: =VLOOKUP(D$1,'TEN HOC PHAN HKI'!$D$37:$F$47,3,0) -> 2 | E35: =VLOOKUP(E$1,'TEN HOC PHAN HKI'!$D$37:$F$47,3,0) -> 2 | F35: =VLOOKUP(F$1,'TEN HOC PHAN HKI'!$D$37:$F$47,3,0) -> 2 | G35: =VLOOKUP(G$1,'TEN HOC PHAN HKI'!$D$37:$F$47,3,0) -> 2 | H35: =VLOOKUP(H$1,'TEN HOC PHAN HKI'!$D$37:$F$47,3,0) -> 2 | I35: =VLOOKUP(I$1,'TEN HOC PHAN HKI'!$D$37:$F$47,3,0) -> 2 | J35: =VLOOKUP(J$1,'TEN HOC PHAN HKI'!$D$37:$F$47,3,0) -> 3 | K35: =VLOOKUP(K$1,'TEN HOC PHAN HKI'!$D$37:$F$47,3,0) -> 2 | ... N35: =VLOOKUP(N$1,'TEN HOC PHAN HKI'!$D$37:$F$47,3,0) -> 0
A36: 18 | B36: 4 | C36: 13CĐ-Ô4 | D36: =VLOOKUP(D$1,'TEN HOC PHAN HKI'!$D$37:$F$47,2,0) -> Anh văn chuyên ngành | E36: =VLOOKUP(E$1,'TEN HOC PHAN HKI'!$D$37:$F$47,2,0) -> Tư tưởng Hồ Chí Minh | F36: =VLOOKUP(F$1,'TEN HOC PHAN HKI'!$D$37:$F$47,2,0) -> Vật liệu học | G36: =VLOOKUP(G$1,'TEN HOC PHAN HKI'!$D$37:$F$47,2,0) -> Công nghệ kim loại | H36: =VLOOKUP(H$1,'TEN HOC PHAN HKI'!$D$37:$F$47,2,0) -> Cơ lý thuyết | I36: =VLOOKUP(I$1,'TEN HOC PHAN HKI'!$D$37:$F$47,2,0) -> Sức bền vật liệu | J36: =VLOOKUP(J$1,'TEN HOC PHAN HKI'!$D$37:$F$47,2,0) -> Kỹ thuật điện - điện tử | K36: =VLOOKUP(K$1,'TEN HOC PHAN HKI'!$D$37:$F$47,2,0) -> An toàn và môi trường CN | ... N36: =VLOOKUP(N$1,'TEN HOC PHAN HKI'!$D$37:$F$47,2,0) -> 0
C37: TC13CĐÔ4 | D37: =VLOOKUP(D$1,'TEN HOC PHAN HKI'!$D$37:$F$47,3,0) -> 2 | E37: =VLOOKUP(E$1,'TEN HOC PHAN HKI'!$D$37:$F$47,3,0) -> 2 | F37: =VLOOKUP(F$1,'TEN HOC PHAN HKI'!$D$37:$F$47,3,0) -> 2 | G37: =VLOOKUP(G$1,'TEN HOC PHAN HKI'!$D$37:$F$47,3,0) -> 2 | H37: =VLOOKUP(H$1,'TEN HOC PHAN HKI'!$D$37:$F$47,3,0) -> 2 | I37: =VLOOKUP(I$1,'TEN HOC PHAN HKI'!$D$37:$F$47,3,0) -> 2 | J37: =VLOOKUP(J$1,'TEN HOC PHAN HKI'!$D$37:$F$47,3,0) -> 3 | K37: =VLOOKUP(K$1,'TEN HOC PHAN HKI'!$D$37:$F$47,3,0) -> 2 | ... N37: =VLOOKUP(N$1,'TEN HOC PHAN HKI'!$D$37:$F$47,3,0) -> 0
A38: 19 | B38: 5 | C38: 13CĐ-Ô5 | D38: =VLOOKUP(D$1,'TEN HOC PHAN HKI'!$D$37:$F$47,2,0) -> Anh văn chuyên ngành | E38: =VLOOKUP(E$1,'TEN HOC PHAN HKI'!$D$37:$F$47,2,0) -> Tư tưởng Hồ Chí Minh | F38: =VLOOKUP(F$1,'TEN HOC PHAN HKI'!$D$37:$F$47,2,0) -> Vật liệu học | G38: =VLOOKUP(G$1,'TEN HOC PHAN HKI'!$D$37:$F$47,2,0) -> Công nghệ kim loại | H38: =VLOOKUP(H$1,'TEN HOC PHAN HKI'!$D$37:$F$47,2,0) -> Cơ lý thuyết | I38: =VLOOKUP(I$1,'TEN HOC PHAN HKI'!$D$37:$F$47,2,0) -> Sức bền vật liệu | J38: =VLOOKUP(J$1,'TEN HOC PHAN HKI'!$D$37:$F$47,2,0) -> Kỹ thuật điện - điện tử | K38: =VLOOKUP(K$1,'TEN HOC PHAN HKI'!$D$37:$F$47,2,0) -> An toàn và môi trường CN | ... N38: =VLOOKUP(N$1,'TEN HOC PHAN HKI'!$D$37:$F$47,2,0) -> 0
C39: TC13CĐÔ5 | D39: =VLOOKUP(D$1,'TEN HOC PHAN HKI'!$D$37:$F$47,3,0) -> 2 | E39: =VLOOKUP(E$1,'TEN HOC PHAN HKI'!$D$37:$F$47,3,0) -> 2 | F39: =VLOOKUP(F$1,'TEN HOC PHAN HKI'!$D$37:$F$47,3,0) -> 2 | G39: =VLOOKUP(G$1,'TEN HOC PHAN HKI'!$D$37:$F$47,3,0) -> 2 | H39: =VLOOKUP(H$1,'TEN HOC PHAN HKI'!$D$37:$F$47,3,0) -> 2 | I39: =VLOOKUP(I$1,'TEN HOC PHAN HKI'!$D$37:$F$47,3,0) -> 2 | J39: =VLOOKUP(J$1,'TEN HOC PHAN HKI'!$D$37:$F$47,3,0) -> 3 | K39: =VLOOKUP(K$1,'TEN HOC PHAN HKI'!$D$37:$F$47,3,0) -> 2 | ... N39: =VLOOKUP(N$1,'TEN HOC PHAN HKI'!$D$37:$F$47,3,0) -> 0
A40: 20 | B40: 1 | C40: 13CĐ-NL1 | D40: =VLOOKUP(D$1,'TEN HOC PHAN HKI'!$D$48:$F$58,2,0) -> Anh văn chuyên ngành | E40: =VLOOKUP(E$1,'TEN HOC PHAN HKI'!$D$48:$F$58,2,0) -> Tư tưởng Hồ Chí Minh | F40: =VLOOKUP(F$1,'TEN HOC PHAN HKI'!$D$48:$F$58,2,0) -> Kỹ thuật điện | G40: =VLOOKUP(G$1,'TEN HOC PHAN HKI'!$D$48:$F$58,2,0) -> Kỹ thuật điện tử | H40: =VLOOKUP(H$1,'TEN HOC PHAN HKI'!$D$48:$F$58,2,0) -> Nhiệt động kỹ thuật | I40: =VLOOKUP(I$1,'TEN HOC PHAN HKI'!$D$48:$F$58,2,0) -> Truyền nhiệt | J40: =VLOOKUP(J$1,'TEN HOC PHAN HKI'!$D$48:$F$58,2,0) -> Bơm quạt máy nén | K40: =VLOOKUP(K$1,'TEN HOC PHAN HKI'!$D$48:$F$58,2,0) -> 0 | ... N40: =VLOOKUP(N$1,'TEN HOC PHAN HKI'!$D$48:$F$58,2,0) -> 0
C41: TC13CĐNL1 | D41: =VLOOKUP(D$1,'TEN HOC PHAN HKI'!$D$48:$F$58,3,0) -> 2 | E41: =VLOOKUP(E$1,'TEN HOC PHAN HKI'!$D$48:$F$58,3,0) -> 2 | F41: =VLOOKUP(F$1,'TEN HOC PHAN HKI'!$D$48:$F$58,3,0) -> 3 | G41: =VLOOKUP(G$1,'TEN HOC PHAN HKI'!$D$48:$F$58,3,0) -> 2 | H41: =VLOOKUP(H$1,'TEN HOC PHAN HKI'!$D$48:$F$58,3,0) -> 3 | I41: =VLOOKUP(I$1,'TEN HOC PHAN HKI'!$D$48:$F$58,3,0) -> 3 | J41: =VLOOKUP(J$1,'TEN HOC PHAN HKI'!$D$48:$F$58,3,0) -> 2 | K41: =VLOOKUP(K$1,'TEN HOC PHAN HKI'!$D$48:$F$58,3,0) -> 0 | ... N41: =VLOOKUP(N$1,'TEN HOC PHAN HKI'!$D$48:$F$58,3,0) -> 0
A42: 21 | B42: 2 | C42: 13CĐ-NL2 | D42: =VLOOKUP(D$1,'TEN HOC PHAN HKI'!$D$48:$F$58,2,0) -> Anh văn chuyên ngành | E42: =VLOOKUP(E$1,'TEN HOC PHAN HKI'!$D$48:$F$58,2,0) -> Tư tưởng Hồ Chí Minh | F42: =VLOOKUP(F$1,'TEN HOC PHAN HKI'!$D$48:$F$58,2,0) -> Kỹ thuật điện | G42: =VLOOKUP(G$1,'TEN HOC PHAN HKI'!$D$48:$F$58,2,0) -> Kỹ thuật điện tử | H42: =VLOOKUP(H$1,'TEN HOC PHAN HKI'!$D$48:$F$58,2,0) -> Nhiệt động kỹ thuật | I42: =VLOOKUP(I$1,'TEN HOC PHAN HKI'!$D$48:$F$58,2,0) -> Truyền nhiệt | J42: =VLOOKUP(J$1,'TEN HOC PHAN HKI'!$D$48:$F$58,2,0) -> Bơm quạt máy nén | K42: =VLOOKUP(K$1,'TEN HOC PHAN HKI'!$D$48:$F$58,2,0) -> 0 | ... N42: =VLOOKUP(N$1,'TEN HOC PHAN HKI'!$D$48:$F$58,2,0) -> 0
C43: TC13CĐNL2 | D43: =VLOOKUP(D$1,'TEN HOC PHAN HKI'!$D$48:$F$58,3,0) -> 2 | E43: =VLOOKUP(E$1,'TEN HOC PHAN HKI'!$D$48:$F$58,3,0) -> 2 | F43: =VLOOKUP(F$1,'TEN HOC PHAN HKI'!$D$48:$F$58,3,0) -> 3 | G43: =VLOOKUP(G$1,'TEN HOC PHAN HKI'!$D$48:$F$58,3,0) -> 2 | H43: =VLOOKUP(H$1,'TEN HOC PHAN HKI'!$D$48:$F$58,3,0) -> 3 | I43: =VLOOKUP(I$1,'TEN HOC PHAN HKI'!$D$48:$F$58,3,0) -> 3 | J43: =VLOOKUP(J$1,'TEN HOC PHAN HKI'!$D$48:$F$58,3,0) -> 2 | K43: =VLOOKUP(K$1,'TEN HOC PHAN HKI'!$D$48:$F$58,3,0) -> 0 | ... N43: =VLOOKUP(N$1,'TEN HOC PHAN HKI'!$D$48:$F$58,3,0) -> 0
A44: 22 | B44: 1 | C44: 13CĐ-M | D44: =VLOOKUP(D$1,'TEN HOC PHAN HKI'!$D$59:$F$69,2,0) -> Anh văn chuyên ngành | E44: =VLOOKUP(E$1,'TEN HOC PHAN HKI'!$D$59:$F$69,2,0) -> Kỹ năng giao tiếp | F44: =VLOOKUP(F$1,'TEN HOC PHAN HKI'!$D$59:$F$69,2,0) -> Tư tưởng Hồ Chí Minh | G44: =VLOOKUP(G$1,'TEN HOC PHAN HKI'!$D$59:$F$69,2,0) -> Nguyên phụ liệu dệt may | H44: =VLOOKUP(H$1,'TEN HOC PHAN HKI'!$D$59:$F$69,2,0) -> An toàn điện CN và môi trường | I44: =VLOOKUP(I$1,'TEN HOC PHAN HKI'!$D$59:$F$69,2,0) -> Thiết kế trang phục 2 | J44: =VLOOKUP(J$1,'TEN HOC PHAN HKI'!$D$59:$F$69,2,0) -> Công nghệ may trang phục 2 | K44: =VLOOKUP(K$1,'TEN HOC PHAN HKI'!$D$59:$F$69,2,0) -> Tin học ứng dụng ngành may | ... N44: =VLOOKUP(N$1,'TEN HOC PHAN HKI'!$D$59:$F$69,2,0) -> 0
C45: TC13CĐM | D45: =VLOOKUP(D$1,'TEN HOC PHAN HKI'!$D$59:$F$69,3,0) -> 2 | E45: =VLOOKUP(E$1,'TEN HOC PHAN HKI'!$D$59:$F$69,3,0) -> 2 | F45: =VLOOKUP(F$1,'TEN HOC PHAN HKI'!$D$59:$F$69,3,0) -> 2 | G45: =VLOOKUP(G$1,'TEN HOC PHAN HKI'!$D$59:$F$69,3,0) -> 2 | H45: =VLOOKUP(H$1,'TEN HOC PHAN HKI'!$D$59:$F$69,3,0) -> 2 | I45: =VLOOKUP(I$1,'TEN HOC PHAN HKI'!$D$59:$F$69,3,0) -> 2 | J45: =VLOOKUP(J$1,'TEN HOC PHAN HKI'!$D$59:$F$69,3,0) -> 2 | K45: =VLOOKUP(K$1,'TEN HOC PHAN HKI'!$D$59:$F$69,3,0) -> 2 | ... N45: =VLOOKUP(N$1,'TEN HOC PHAN HKI'!$D$59:$F$69,3,0) -> 0
A46: 23 | B46: 1 | C46: 13CĐ-TP1 | D46: =VLOOKUP(D$1,'TEN HOC PHAN HKI'!$D$70:$F$80,2,0) -> Anh văn chuyên ngành | E46: =VLOOKUP(E$1,'TEN HOC PHAN HKI'!$D$70:$F$80,2,0) -> Tư tưởng Hồ Chí Minh | F46: =VLOOKUP(F$1,'TEN HOC PHAN HKI'!$D$70:$F$80,2,0) -> Cấu trúc dữ liệu | G46: =VLOOKUP(G$1,'TEN HOC PHAN HKI'!$D$70:$F$80,2,0) -> Lập trình quản lý | H46: =VLOOKUP(H$1,'TEN HOC PHAN HKI'!$D$70:$F$80,2,0) -> Phân tích và thiết kế hệ thống | I46: =VLOOKUP(I$1,'TEN HOC PHAN HKI'!$D$70:$F$80,2,0) -> Lập trình hướng đối tượng | J46: =VLOOKUP(J$1,'TEN HOC PHAN HKI'!$D$70:$F$80,2,0) -> 0 | K46: =VLOOKUP(K$1,'TEN HOC PHAN HKI'!$D$70:$F$80,2,0) -> 0 | ... N46: =VLOOKUP(N$1,'TEN HOC PHAN HKI'!$D$70:$F$80,2,0) -> 0
C47: TC13CĐTP1 | D47: =VLOOKUP(D$1,'TEN HOC PHAN HKI'!$D$70:$F$80,3,0) -> 2 | E47: =VLOOKUP(E$1,'TEN HOC PHAN HKI'!$D$70:$F$80,3,0) -> 2 | F47: =VLOOKUP(F$1,'TEN HOC PHAN HKI'!$D$70:$F$80,3,0) -> 4 | G47: =VLOOKUP(G$1,'TEN HOC PHAN HKI'!$D$70:$F$80,3,0) -> 4 | H47: =VLOOKUP(H$1,'TEN HOC PHAN HKI'!$D$70:$F$80,3,0) -> 3 | I47: =VLOOKUP(I$1,'TEN HOC PHAN HKI'!$D$70:$F$80,3,0) -> 3 | J47: =VLOOKUP(J$1,'TEN HOC PHAN HKI'!$D$70:$F$80,3,0) -> 0 | K47: =VLOOKUP(K$1,'TEN HOC PHAN HKI'!$D$70:$F$80,3,0) -> 0 | ... N47: =VLOOKUP(N$1,'TEN HOC PHAN HKI'!$D$70:$F$80,3,0) -> 0
A48: 24 | B48: 2 | C48: 13CĐ-TP2 | D48: =VLOOKUP(D$1,'TEN HOC PHAN HKI'!$D$70:$F$80,2,0) -> Anh văn chuyên ngành | E48: =VLOOKUP(E$1,'TEN HOC PHAN HKI'!$D$70:$F$80,2,0) -> Tư tưởng Hồ Chí Minh | F48: =VLOOKUP(F$1,'TEN HOC PHAN HKI'!$D$70:$F$80,2,0) -> Cấu trúc dữ liệu | G48: =VLOOKUP(G$1,'TEN HOC PHAN HKI'!$D$70:$F$80,2,0) -> Lập trình quản lý | H48: =VLOOKUP(H$1,'TEN HOC PHAN HKI'!$D$70:$F$80,2,0) -> Phân tích và thiết kế hệ thống | I48: =VLOOKUP(I$1,'TEN HOC PHAN HKI'!$D$70:$F$80,2,0) -> Lập trình hướng đối tượng | J48: =VLOOKUP(J$1,'TEN HOC PHAN HKI'!$D$70:$F$80,2,0) -> 0 | K48: =VLOOKUP(K$1,'TEN HOC PHAN HKI'!$D$70:$F$80,2,0) -> 0 | ... N48: =VLOOKUP(N$1,'TEN HOC PHAN HKI'!$D$70:$F$80,2,0) -> 0
C49: TC13CĐTP2 | D49: =VLOOKUP(D$1,'TEN HOC PHAN HKI'!$D$70:$F$80,3,0) -> 2 | E49: =VLOOKUP(E$1,'TEN HOC PHAN HKI'!$D$70:$F$80,3,0) -> 2 | F49: =VLOOKUP(F$1,'TEN HOC PHAN HKI'!$D$70:$F$80,3,0) -> 4 | G49: =VLOOKUP(G$1,'TEN HOC PHAN HKI'!$D$70:$F$80,3,0) -> 4 | H49: =VLOOKUP(H$1,'TEN HOC PHAN HKI'!$D$70:$F$80,3,0) -> 3 | I49: =VLOOKUP(I$1,'TEN HOC PHAN HKI'!$D$70:$F$80,3,0) -> 3 | J49: =VLOOKUP(J$1,'TEN HOC PHAN HKI'!$D$70:$F$80,3,0) -> 0 | K49: =VLOOKUP(K$1,'TEN HOC PHAN HKI'!$D$70:$F$80,3,0) -> 0 | ... N49: =VLOOKUP(N$1,'TEN HOC PHAN HKI'!$D$70:$F$80,3,0) -> 0
A50: 25 | B50: 3 | C50: 13CĐ-TP3 | D50: =VLOOKUP(D$1,'TEN HOC PHAN HKI'!$D$70:$F$80,2,0) -> Anh văn chuyên ngành | E50: =VLOOKUP(E$1,'TEN HOC PHAN HKI'!$D$70:$F$80,2,0) -> Tư tưởng Hồ Chí Minh | F50: =VLOOKUP(F$1,'TEN HOC PHAN HKI'!$D$70:$F$80,2,0) -> Cấu trúc dữ liệu | G50: =VLOOKUP(G$1,'TEN HOC PHAN HKI'!$D$70:$F$80,2,0) -> Lập trình quản lý | H50: =VLOOKUP(H$1,'TEN HOC PHAN HKI'!$D$70:$F$80,2,0) -> Phân tích và thiết kế hệ thống | I50: =VLOOKUP(I$1,'TEN HOC PHAN HKI'!$D$70:$F$80,2,0) -> Lập trình hướng đối tượng | J50: =VLOOKUP(J$1,'TEN HOC PHAN HKI'!$D$70:$F$80,2,0) -> 0 | K50: =VLOOKUP(K$1,'TEN HOC PHAN HKI'!$D$70:$F$80,2,0) -> 0 | ... N50: =VLOOKUP(N$1,'TEN HOC PHAN HKI'!$D$70:$F$80,2,0) -> 0
C51: TC13CĐTP3 | D51: =VLOOKUP(D$1,'TEN HOC PHAN HKI'!$D$70:$F$80,3,0) -> 2 | E51: =VLOOKUP(E$1,'TEN HOC PHAN HKI'!$D$70:$F$80,3,0) -> 2 | F51: =VLOOKUP(F$1,'TEN HOC PHAN HKI'!$D$70:$F$80,3,0) -> 4 | G51: =VLOOKUP(G$1,'TEN HOC PHAN HKI'!$D$70:$F$80,3,0) -> 4 | H51: =VLOOKUP(H$1,'TEN HOC PHAN HKI'!$D$70:$F$80,3,0) -> 3 | I51: =VLOOKUP(I$1,'TEN HOC PHAN HKI'!$D$70:$F$80,3,0) -> 3 | J51: =VLOOKUP(J$1,'TEN HOC PHAN HKI'!$D$70:$F$80,3,0) -> 0 | K51: =VLOOKUP(K$1,'TEN HOC PHAN HKI'!$D$70:$F$80,3,0) -> 0 | ... N51: =VLOOKUP(N$1,'TEN HOC PHAN HKI'!$D$70:$F$80,3,0) -> 0
A52: 26 | B52: 1 | C52: 13CĐ-TM1 | D52: =VLOOKUP(D$1,'TEN HOC PHAN HKI'!$D$81:$F$91,2,0) -> Anh văn chuyên ngành | E52: =VLOOKUP(E$1,'TEN HOC PHAN HKI'!$D$81:$F$91,2,0) -> Tư tưởng Hồ Chí Minh | F52: =VLOOKUP(F$1,'TEN HOC PHAN HKI'!$D$81:$F$91,2,0) -> Cấu trúc dữ liệu | G52: =VLOOKUP(G$1,'TEN HOC PHAN HKI'!$D$81:$F$91,2,0) -> Lập trình quản lý | H52: =VLOOKUP(H$1,'TEN HOC PHAN HKI'!$D$81:$F$91,2,0) -> Phân tích và thiết kế hệ thống | I52: =VLOOKUP(I$1,'TEN HOC PHAN HKI'!$D$81:$F$91,2,0) -> Mạng máy tính và quản trị mạng | J52: =VLOOKUP(J$1,'TEN HOC PHAN HKI'!$D$81:$F$91,2,0) -> 0 | K52: =VLOOKUP(K$1,'TEN HOC PHAN HKI'!$D$81:$F$91,2,0) -> 0 | ... N52: =VLOOKUP(N$1,'TEN HOC PHAN HKI'!$D$81:$F$91,2,0) -> 0
C53: TC13CĐTM1 | D53: =VLOOKUP(D$1,'TEN HOC PHAN HKI'!$D$81:$F$91,3,0) -> 2 | E53: =VLOOKUP(E$1,'TEN HOC PHAN HKI'!$D$81:$F$91,3,0) -> 2 | F53: =VLOOKUP(F$1,'TEN HOC PHAN HKI'!$D$81:$F$91,3,0) -> 4 | G53: =VLOOKUP(G$1,'TEN HOC PHAN HKI'!$D$81:$F$91,3,0) -> 4 | H53: =VLOOKUP(H$1,'TEN HOC PHAN HKI'!$D$81:$F$91,3,0) -> 3 | I53: =VLOOKUP(I$1,'TEN HOC PHAN HKI'!$D$81:$F$91,3,0) -> 3 | J53: =VLOOKUP(J$1,'TEN HOC PHAN HKI'!$D$81:$F$91,3,0) -> 0 | K53: =VLOOKUP(K$1,'TEN HOC PHAN HKI'!$D$81:$F$91,3,0) -> 0 | ... N53: =VLOOKUP(N$1,'TEN HOC PHAN HKI'!$D$81:$F$91,3,0) -> 0
A54: 27 | B54: 2 | C54: 13CĐ-TM2 | D54: =VLOOKUP(D$1,'TEN HOC PHAN HKI'!$D$81:$F$91,2,0) -> Anh văn chuyên ngành | E54: =VLOOKUP(E$1,'TEN HOC PHAN HKI'!$D$81:$F$91,2,0) -> Tư tưởng Hồ Chí Minh | F54: =VLOOKUP(F$1,'TEN HOC PHAN HKI'!$D$81:$F$91,2,0) -> Cấu trúc dữ liệu | G54: =VLOOKUP(G$1,'TEN HOC PHAN HKI'!$D$81:$F$91,2,0) -> Lập trình quản lý | H54: =VLOOKUP(H$1,'TEN HOC PHAN HKI'!$D$81:$F$91,2,0) -> Phân tích và thiết kế hệ thống | I54: =VLOOKUP(I$1,'TEN HOC PHAN HKI'!$D$81:$F$91,2,0) -> Mạng máy tính và quản trị mạng | J54: =VLOOKUP(J$1,'TEN HOC PHAN HKI'!$D$81:$F$91,2,0) -> 0 | K54: =VLOOKUP(K$1,'TEN HOC PHAN HKI'!$D$81:$F$91,2,0) -> 0 | ... N54: =VLOOKUP(N$1,'TEN HOC PHAN HKI'!$D$81:$F$91,2,0) -> 0
C55: TC13CĐTM2 | D55: =VLOOKUP(D$1,'TEN HOC PHAN HKI'!$D$81:$F$91,3,0) -> 2 | E55: =VLOOKUP(E$1,'TEN HOC PHAN HKI'!$D$81:$F$91,3,0) -> 2 | F55: =VLOOKUP(F$1,'TEN HOC PHAN HKI'!$D$81:$F$91,3,0) -> 4 | G55: =VLOOKUP(G$1,'TEN HOC PHAN HKI'!$D$81:$F$91,3,0) -> 4 | H55: =VLOOKUP(H$1,'TEN HOC PHAN HKI'!$D$81:$F$91,3,0) -> 3 | I55: =VLOOKUP(I$1,'TEN HOC PHAN HKI'!$D$81:$F$91,3,0) -> 3 | J55: =VLOOKUP(J$1,'TEN HOC PHAN HKI'!$D$81:$F$91,3,0) -> 0 | K55: =VLOOKUP(K$1,'TEN HOC PHAN HKI'!$D$81:$F$91,3,0) -> 0 | ... N55: =VLOOKUP(N$1,'TEN HOC PHAN HKI'!$D$81:$F$91,3,0) -> 0

Sheet DS LOP HKI
A1: STT | B1: MSSV | C1: Họ | D1: Tên | E1: Ngày sinh | F1: Lớp | G1: Phái | H1: Hệ | I1: ="Khoá 13CĐ = "&COUNTIF(J:J,"13") -> Khoá 13CĐ = 943 | K1: DS ngày 08/12/2014 | L1: =MAX(A:A) -> 57
A2: 1 | B2: 13D3010005 | C2: Nguyễn Thành | D2: Chung | E2: 10.02.94 | F2: 13CĐ-ĐT1 | H2: B | J2: =LEFT(F2,2) -> 13
A3: 2 | B3: 13D3010010 | C3: Bùi Thanh | D3: Diễn | E3: 12.05.95 | F3: 13CĐ-ĐT1 | H3: B | J3: =LEFT(F3,2) -> 13
A4: 3 | B4: 13D3010014 | C4: Nguyễn Khánh | D4: Duy | E4: 26.09.95 | F4: 13CĐ-ĐT1 | H4: B | J4: =LEFT(F4,2) -> 13
A5: 4 | B5: 13D3010018 | C5: Nguyễn Hải | D5: Đăng | E5: 19.05.95 | F5: 13CĐ-ĐT1 | H5: B | J5: =LEFT(F5,2) -> 13
A6: 5 | B6: 13D3010022 | C6: Nguyễn Trung | D6: Đức | E6: 15.02.95 | F6: 13CĐ-ĐT1 | H6: A | J6: =LEFT(F6,2) -> 13
A7: 6 | B7: 13D3010026 | C7: Phạm Giang | D7: Hải | E7: 20.05.95 | F7: 13CĐ-ĐT1 | H7: B | I7: CL.T.Minh | J7: =LEFT(F7,2) -> 13
A8: 7 | B8: 13D3010027 | C8: Trần Văn | D8: Hạnh | E8: 14.02.95 | F8: 13CĐ-ĐT1 | H8: B | J8: =LEFT(F8,2) -> 13
A9: 8 | B9: 13D3010039 | C9: Nguyễn Văn | D9: Hoanh | E9: 14.10.95 | F9: 13CĐ-ĐT1 | H9: B | J9: =LEFT(F9,2) -> 13
A10: 9 | B10: 13D3010045 | C10: Lê Thành | D10: Huy | E10: 25.04.95 | F10: 13CĐ-ĐT1 | H10: B | J10: =LEFT(F10,2) -> 13
A11: 10 | B11: 13D3010051 | C11: Huỳnh Duy | D11: Khánh | E11: 09.10.95 | F11: 13CĐ-ĐT1 | H11: B | J11: =LEFT(F11,2) -> 13
A12: 11 | B12: 12D3010064 | C12: Nguyễn Văn | D12: Khương | E12: 30.06.94 | F12: 13CĐ-ĐT1 | H12: B | I12: VPNQ07/10/14CC2 | J12: =LEFT(F12,2) -> 13
A13: 12 | B13: 13D3010057 | C13: Trần Văn | D13: Kiệt | E13: 10.05.95 | F13: 13CĐ-ĐT1 | H13: B | J13: =LEFT(F13,2) -> 13
A14: 13 | B14: 13D3010063 | C14: Trần Văn | D14: Linh | E14: 08.10.94 | F14: 13CĐ-ĐT1 | H14: B | J14: =LEFT(F14,2) -> 13
A15: 14 | B15: 13D3010073 | C15: Trịnh Phương | D15: Nam | E15: 21.02.95 | F15: 13CĐ-ĐT1 | H15: A | J15: =LEFT(F15,2) -> 13
A16: 15 | B16: 13D3010077 | C16: Lâm Trọng | D16: Nhân | E16: 04.09.95 | F16: 13CĐ-ĐT1 | G16: LT | H16: B | J16: =LEFT(F16,2) -> 13
A17: 16 | B17: 13D3010042 | C17: Nguyễn Sinh | D17: Nhật | E17: 12.01.95 | F17: 13CĐ-ĐT1 | H17: B | J17: =LEFT(F17,2) -> 13
A18: 17 | B18: 13D3010086 | C18: Viên Ngọc | D18: Phú | E18: 09.11.95 | F18: 13CĐ-ĐT1 | H18: B | J18: =LEFT(F18,2) -> 13
A19: 18 | B19: 13D3010092 | C19: Nguyễn Anh | D19: Phụng | E19: 19.05.95 | F19: 13CĐ-ĐT1 | H19: B | J19: =LEFT(F19,2) -> 13
A20: 19 | B20: 13D3010095 | C20: Trịnh Ngọc | D20: Phước | E20: 12.12.95 | F20: 13CĐ-ĐT1 | H20: B | I20: VPNQ07/10/14CC2 | J20: =LEFT(F20,2) -> 13
A21: 20 | B21: 13D3010098 | C21: Nguyễn Minh | D21: Phương | E21: 20.03.94 | F21: 13CĐ-ĐT1 | G21: Nữ | H21: B | J21: =LEFT(F21,2) -> 13
A22: 21 | B22: 13D3010099 | C22: Trương Thái | D22: Quốc | E22: 11.01.95 | F22: 13CĐ-ĐT1 | H22: B | J22: =LEFT(F22,2) -> 13
A23: 22 | B23: 13D3010102 | C23: Nguyễn Đức | D23: Quynh | E23: 15.10.94 | F23: 13CĐ-ĐT1 | H23: B | J23: =LEFT(F23,2) -> 13
A24: 23 | B24: 13D3010105 | C24: Nguyễn Công | D24: Sơn | E24: 05.04.95 | F24: 13CĐ-ĐT1 | H24: B | J24: =LEFT(F24,2) -> 13
A25: 24 | B25: 13D3010117 | C25: Lê Chí Hoàng | D25: Thắng | E25: 18.04.95 | F25: 13CĐ-ĐT1 | G25: LPHT | H25: A | J25: =LEFT(F25,2) -> 13
A26: 25 | B26: 13D3010120 | C26: Bùi Văn | D26: Thành | E26: 08.09.93 | F26: 13CĐ-ĐT1 | H26: B | J26: =LEFT(F26,2) -> 13
A27: 26 | B27: 13D3010123 | C27: Phạm Văn | D27: Thể | E27: 20.09.95 | F27: 13CĐ-ĐT1 | H27: B | J27: =LEFT(F27,2) -> 13
A28: 27 | B28: 13D3010129 | C28: Ngô Công | D28: Thuật | E28: 09.06.94 | F28: 13CĐ-ĐT1 | H28: B | J28: =LEFT(F28,2) -> 13
A29: 28 | B29: 13D3010135 | C29: Nguyễn Minh | D29: Toàn | E29: 30.09.95 | F29: 13CĐ-ĐT1 | H29: B | J29: =LEFT(F29,2) -> 13
A30: 29 | B30: 13D3010138 | C30: Lê Quang | D30: Trãi | E30: 15.01.95 | F30: 13CĐ-ĐT1 | H30: B | J30: =LEFT(F30,2) -> 13
A31: 30 | B31: 13D3010144 | C31: Trần Nhựt | D31: Trường | E31: 30.07.95 | F31: 13CĐ-ĐT1 | G31: LPKL | H31: B | J31: =LEFT(F31,2) -> 13
A32: 31 | B32: 13D3010031 | C32: Lê Thanh | D32: Tùng | E32: 19.01.94 | F32: 13CĐ-ĐT1 | H32: B | J32: =LEFT(F32,2) -> 13
A33: 32 | B33: 13D3010155 | C33: Lâm Xuân | D33: Vũ | E33: 01.05.95 | F33: 13CĐ-ĐT1 | H33: B | J33: =LEFT(F33,2) -> 13
A34: 1 | B34: 13D3010002 | C34: Đinh Khắc | D34: Bình | E34: 15.03.95 | F34: 13CĐ-ĐT2 | H34: B | J34: =LEFT(F34,2) -> 13
A35: 2 | B35: 13D3010011 | C35: Nguyễn Đình | D35: Dũng | E35: 26.11.93 | F35: 13CĐ-ĐT2 | G35: LPHT | H35: B | J35: =LEFT(F35,2) -> 13
A36: 3 | B36: 13D3010023 | C36: Nguyễn Trường | D36: Giang | E36: 07.08.93 | F36: 13CĐ-ĐT2 | H36: A | J36: =LEFT(F36,2) -> 13
A37: 4 | B37: 13D3010036 | C37: Đinh Khải | D37: Hoàn | E37: 19.11.94 | F37: 13CĐ-ĐT2 | G37: LPKL | H37: B | J37: =LEFT(F37,2) -> 13
A38: 5 | B38: 13D3010040 | C38: Nguyễn Ngọc | D38: Huấn | E38: 17.04.95 | F38: 13CĐ-ĐT2 | H38: B | J38: =LEFT(F38,2) -> 13
A39: 6 | B39: 13D3010046 | C39: Mai Ngọc | D39: Huy | E39: 27.04.94 | F39: 13CĐ-ĐT2 | H39: B | J39: =LEFT(F39,2) -> 13
A40: 7 | B40: 13D3010049 | C40: Bùi Văn | D40: Huỳnh | E40: 04.10.94 | F40: 13CĐ-ĐT2 | H40: B | J40: =LEFT(F40,2) -> 13
A41: 8 | B41: 13D3010052 | C41: Nguyễn Quang | D41: Khánh | E41: 09.11.95 | F41: 13CĐ-ĐT2 | H41: B | J41: =LEFT(F41,2) -> 13
A42: 9 | B42: 13D3010058 | C42: Nguyễn Ngọc | D42: Lâm | E42: 10.02.95 | F42: 13CĐ-ĐT2 | H42: B | J42: =LEFT(F42,2) -> 13
A43: 10 | B43: 13D3010061 | C43: Nguyễn Quang | D43: Lành | E43: 20.07.94 | F43: 13CĐ-ĐT2 | H43: B | J43: =LEFT(F43,2) -> 13
A44: 11 | B44: 13D3010070 | C44: Trần Chí | D44: Mỹ | E44: 16.06.93 | F44: 13CĐ-ĐT2 | H44: B | J44: =LEFT(F44,2) -> 13
A45: 12 | B45: 13D3010071 | C45: Nguyễn Thành | D45: Nam | E45: 11.06.94 | F45: 13CĐ-ĐT2 | H45: B | J45: =LEFT(F45,2) -> 13
A46: 13 | B46: 13D3010074 | C46: Huỳnh Trọng | D46: Nghĩa | E46: 20.07.95 | F46: 13CĐ-ĐT2 | H46: B | J46: =LEFT(F46,2) -> 13
A47: 14 | B47: 13D3010078 | C47: Võ Phước | D47: Nhân | E47: 12.05.95 | F47: 13CĐ-ĐT2 | H47: B | I47: VPNQ05/12/14KT | J47: =LEFT(F47,2) -> 13
A48: 15 | B48: 13D3010081 | C48: Huỳnh Tấn | D48: Phát | E48: 20.02.95 | F48: 13CĐ-ĐT2 | H48: B | J48: =LEFT(F48,2) -> 13
A49: 16 | B49: 13D3010084 | C49: Võ Trần Vũ | D49: Phong | E49: 23.10.95 | F49: 13CĐ-ĐT2 | H49: B | J49: =LEFT(F49,2) -> 13
A50: 17 | B50: 13D3010090 | C50: Trịnh Hoàng | D50: Phúc | E50: 09.03.95 | F50: 13CĐ-ĐT2 | H50: A | J50: =LEFT(F50,2) -> 13
A51: 18 | B51: 13D3010162 | C51: Võ Trường | D51: Phúc | E51: 08.09.95 | F51: 13CĐ-ĐT2 | G51: LT | H51: A | J51: =LEFT(F51,2) -> 13
A52: 19 | B52: 13D3010093 | C52: Nguyễn Đại | D52: Phước | E52: 15.03.95 | F52: 13CĐ-ĐT2 | H52: B | J52: =LEFT(F52,2) -> 13
A53: 20 | B53: 13D3010096 | C53: Hoàng Minh | D53: Phương | E53: 14.09.93 | F53: 13CĐ-ĐT2 | H53: B | J53: =LEFT(F53,2) -> 13
A54: 21 | B54: 13D3010100 | C54: Phạm Duy | D54: Quý | E54: 23.02.95 | F54: 13CĐ-ĐT2 | H54: B | J54: =LEFT(F54,2) -> 13
A55: 22 | B55: 13D3010103 | C55: Trần Quang | D55: Sáng | E55: 05.12.95 | F55: 13CĐ-ĐT2 | H55: B | J55: =LEFT(F55,2) -> 13
A56: 23 | B56: 13D3010109 | C56: Nguyễn Chí | D56: Tài | E56: 22.09.94 | F56: 13CĐ-ĐT2 | H56: B | J56: =LEFT(F56,2) -> 13
A57: 24 | B57: 13D3010112 | C57: Nguyễn Thành | D57: Tâm | E57: 12.04.95 | F57: 13CĐ-ĐT2 | H57: B | J57: =LEFT(F57,2) -> 13
A58: 25 | B58: 13D3010115 | C58: Nguyễn Minh | D58: Tân | E58: 11.12.95 | F58: 13CĐ-ĐT2 | H58: B | J58: =LEFT(F58,2) -> 13
A59: 26 | B59: 13D3010118 | C59: Nguyễn Công | D59: Thắng | E59: 11.03.94 | F59: 13CĐ-ĐT2 | H59: B | J59: =LEFT(F59,2) -> 13
A60: 27 | B60: 13D3010121 | C60: Đặng Xuân | D60: Thành | E60: 16.02.95 | F60: 13CĐ-ĐT2 | H60: B | J60: =LEFT(F60,2) -> 13
A61: 28 | B61: 13D3010127 | C61: Nguyễn Ngọc | D61: Thuận | E61: 31.01.95 | F61: 13CĐ-ĐT2 | H61: A | I61: con TB 3/4 | J61: =LEFT(F61,2) -> 13
A62: 29 | B62: 13D3010130 | C62: Huỳnh Văn | D62: Thưởng | E62: 08.08.95 | F62: 13CĐ-ĐT2 | H62: B | J62: =LEFT(F62,2) -> 13
A63: 30 | B63: 13D3010133 | C63: Nguyễn Trung | D63: Tín | E63: 10.05.95 | F63: 13CĐ-ĐT2 | H63: B | J63: =LEFT(F63,2) -> 13
A64: 31 | B64: 13D3010142 | C64: Nguyễn Văn | D64: Trình | E64: 07.03.95 | F64: 13CĐ-ĐT2 | H64: B | J64: =LEFT(F64,2) -> 13
A65: 32 | B65: 13D3010145 | C65: Nguyễn Anh | D65: Tú | E65: 20.09.95 | F65: 13CĐ-ĐT2 | H65: A | J65: =LEFT(F65,2) -> 13
A66: 33 | B66: 13D3010151 | C66: Ngô Phi | D66: Tường | E66: 20.12.95 | F66: 13CĐ-ĐT2 | H66: B | J66: =LEFT(F66,2) -> 13
A67: 34 | B67: 13D3010153 | C67: Huỳnh Ngọc | D67: Vĩ | E67: 19.02.95 | F67: 13CĐ-ĐT2 | H67: B | J67: =LEFT(F67,2) -> 13
A68: 1 | B68: 13D3010008 | C68: Nguyễn Quốc | D68: Cường | E68: 09.04.95 | F68: 13CĐ-ĐT3 | H68: A | J68: =LEFT(F68,2) -> 13
A69: 2 | B69: 13D3010012 | C69: Phạm Văn | D69: Dũng | E69: 03.08.94 | F69: 13CĐ-ĐT3 | H69: B | J69: =LEFT(F69,2) -> 13
A70: 3 | B70: 13D3010076 | C70: Lữ Đình | D70: Đạt | E70: 01.05.95 | F70: 13CĐ-ĐT3 | H70: B | J70: =LEFT(F70,2) -> 13
A71: 4 | B71: 13D3010024 | C71: Hồ Thanh | D71: Hải | E71: 03.12.95 | F71: 13CĐ-ĐT3 | H71: A | J71: =LEFT(F71,2) -> 13
A72: 5 | B72: 13D3010029 | C72: Nguyễn Tấn Anh | D72: Hào | E72: 05.04.95 | F72: 13CĐ-ĐT3 | H72: A | J72: =LEFT(F72,2) -> 13
A73: 6 | B73: 13D3010041 | C73: Nguyễn Minh | D73: Hùng | E73: 08.05.94 | F73: 13CĐ-ĐT3 | H73: B | J73: =LEFT(F73,2) -> 13
A74: 7 | B74: 13D3010047 | C74: Nguyễn Thái | D74: Huy | E74: 14.04.95 | F74: 13CĐ-ĐT3 | H74: B | I74: con TB 4/4 | J74: =LEFT(F74,2) -> 13
A75: 8 | B75: 13D3010053 | C75: Đỗ Đăng | D75: Khoa | E75: 01.01.94 | F75: 13CĐ-ĐT3 | H75: B | J75: =LEFT(F75,2) -> 13
A76: 9 | B76: 13D3010056 | C76: Phan Trung | D76: Kiên | E76: 13.03.95 | F76: 13CĐ-ĐT3 | H76: B | J76: =LEFT(F76,2) -> 13
A77: 10 | B77: 13D3010069 | C77: Nguyễn Công | D77: Minh | E77: 10.01.95 | F77: 13CĐ-ĐT3 | G77: LPKL | H77: B | J77: =LEFT(F77,2) -> 13
A78: 11 | B78: 13D3010079 | C78: Hồ Đình | D78: Nhựt | E78: 07.02.95 | F78: 13CĐ-ĐT3 | H78: B | J78: =LEFT(F78,2) -> 13
A79: 12 | B79: 13D3010091 | C79: Võ Thế | D79: Phúc | E79: 18.03.95 | F79: 13CĐ-ĐT3 | H79: B | J79: =LEFT(F79,2) -> 13
A80: 13 | B80: 13D3010094 | C80: Phạm Hữu | D80: Phước | E80: 18.11.95 | F80: 13CĐ-ĐT3 | H80: B | I80: VPNQ21/11/14CC | J80: =LEFT(F80,2) -> 13
A81: 14 | B81: 13D3010101 | C81: Vòng Đông | D81: Quý | E81: 09.02.94 | F81: 13CĐ-ĐT3 | H81: B | I81: DT.Hoa | J81: =LEFT(F81,2) -> 13
A82: 15 | B82: 13D3010104 | C82: Đặng Kỳ | D82: Sơn | E82: 16.07.95 | F82: 13CĐ-ĐT3 | H82: B | I82: VPNQ21/11/14CC | J82: =LEFT(F82,2) -> 13
A83: 16 | B83: 13D3010107 | C83: Ngô Văn | D83: Tạc | E83: 26.01.95 | F83: 13CĐ-ĐT3 | G83: LPHT | H83: B | J83: =LEFT(F83,2) -> 13
A84: 17 | B84: 13D3010110 | C84: Phan Chí | D84: Tài | E84: 15.02.95 | F84: 13CĐ-ĐT3 | H84: B | J84: =LEFT(F84,2) -> 13
A85: 18 | B85: 13D3010116 | C85: Vũ Hứa Minh | D85: Tân | E85: 21.10.95 | F85: 13CĐ-ĐT3 | H85: A | J85: =LEFT(F85,2) -> 13
A86: 19 | B86: 13D3010119 | C86: Bạch Ngọc | D86: Thành | E86: 15.01.95 | F86: 13CĐ-ĐT3 | H86: B | J86: =LEFT(F86,2) -> 13
A87: 20 | B87: 13D3010122 | C87: Nguyễn Thạch | D87: Thảo | E87: 08.08.95 | F87: 13CĐ-ĐT3 | H87: B | J87: =LEFT(F87,2) -> 13
A88: 21 | B88: 13D3010125 | C88: Nguyễn Ngọc Huy | D88: Thịnh | E88: 09.05.93 | F88: 13CĐ-ĐT3 | H88: A | J88: =LEFT(F88,2) -> 13
A89: 22 | B89: 13D3010128 | C89: Vũ Duy | D89: Thuận | E89: 12.03.93 | F89: 13CĐ-ĐT3 | G89: LT | H89: B | J89: =LEFT(F89,2) -> 13
A90: 23 | B90: 13D3010131 | C90: Nguyễn Duy | D90: Tiên | E90: 02.01.95 | F90: 13CĐ-ĐT3 | H90: B | J90: =LEFT(F90,2) -> 13
A91: 24 | B91: 13D3010134 | C91: Đào Hữu | D91: Toàn | E91: 18.11.95 | F91: 13CĐ-ĐT3 | H91: B | J91: =LEFT(F91,2) -> 13
A92: 25 | B92: 13D3010137 | C92: Phan Tấn | D92: Tới | E92: 19.05.95 | F92: 13CĐ-ĐT3 | H92: B | J92: =LEFT(F92,2) -> 13
A93: 26 | B93: 13D3010140 | C93: Nguyễn Minh | D93: Trí | E93: 01.02.95 | F93: 13CĐ-ĐT3 | H93: B | J93: =LEFT(F93,2) -> 13
A94: 27 | B94: 13D3010143 | C94: Trần Quang | D94: Trung | E94: 21.10.95 | F94: 13CĐ-ĐT3 | H94: B | J94: =LEFT(F94,2) -> 13
A95: 28 | B95: 13D3010146 | C95: Võ Duy | D95: Tú | E95: 16.02.95 | F95: 13CĐ-ĐT3 | H95: B | J95: =LEFT(F95,2) -> 13
A96: 29 | B96: 13D3010150 | C96: Trần Ngọc | D96: Tuấn | E96: 15.01.91 | F96: 13CĐ-ĐT3 | H96: B | I96: con TB 4/4 | J96: =LEFT(F96,2) -> 13
A97: 30 | B97: 13D3010154 | C97: Lâm Hoài | D97: Vĩ | E97: 13.05.95 | F97: 13CĐ-ĐT3 | H97: A | J97: =LEFT(F97,2) -> 13
A98: 31 | B98: 13D3010159 | C98: Phạm Văn | D98: Xuân | E98: 27.06.95 | F98: 13CĐ-ĐT3 | H98: B | J98: =LEFT(F98,2) -> 13
A99: 1 | B99: 13D3010160 | C99: Nguyễn Viết | D99: Ấn | E99: 06.08.95 | F99: 13CĐ-ĐT4 | H99: B | I99: VPNQ21/11/14KT | J99: =LEFT(F99,2) -> 13
A100: 2 | B100: 13D3010176 | C100: Đặng Thanh | D100: Bình | E100: 22.03.95 | F100: 13CĐ-ĐT4 | H100: B | J100: =LEFT(F100,2) -> 13
...

Sheet TK NỢ HP
A1: ỦY BAN NHÂN DÂN THÀNH PHỐ HỒ CHÍ MINH
A2: TRƯỜNG CĐKT LÝ TỰ TRỌNG THÀNH PHỐ HỒ CHÍ MINH
B3: LỚP: | C3: =IF($B8="","",IF(ISNA(VLOOKUP($B8,'DS LOP HKI'!$B$2:$F$1873,5,FALSE))=TRUE,"",VLOOKUP($B8,'DS LOP HKI'!$B$2:$F$1873,5,FALSE))) -> 13CĐ-Đ1 | D3: SS: | E3: =IF(B8="",0,MAX($A$8:$A$73)) -> 35
A4: BẢNG THỐNG KÊ NỢ HỌC PHẦN KỲ THI CHÍNH
C5: HỌC KỲ: | D5: I | G5: NĂM HỌC: | I5: 2014-2015
A6: STT | B6: MSSV | C6: Họ tên sinh viên | E6: Số HP nợ | F6: Số TC nợ | G6: =IF('LT01'!$C$6="","",'LT01'!$C$6) -> Anh văn 2 | H6: =IF('LT02'!$C$6="","",'LT02'!$C$6) -> Những NLCB của CNMLN 2 | I6: =IF('LT03'!$C$6="","",'LT03'!$C$6) -> Khí cụ điện và máy điện | J6: =IF('LT04'!$C$6="","",'LT04'!$C$6) -> Kỹ thuật số | K6: =IF('LT05'!$C$6="","",'LT05'!$C$6) -> Điện tử công suất | L6: =IF('LT06'!$C$6="","",'LT06'!$C$6) -> Kỹ thuật truyền số liệu | M6: =IF('LT07'!$C$6="","",'LT07'!$C$6) | N6: =IF('LT08'!$C$6="","",'LT08'!$C$6) | O6: =IF('LT09'!$C$6="","",'LT09'!$C$6) | P6: =IF('TH01'!$C$6="","",'TH01'!$C$6) -> Thực tập Điện tử cơ bản | Q6: =IF('TH02'!$C$6="","",'TH02'!$C$6) -> Thực tập Đo lường và mạch điện
A7: Số tín chỉ | G7: =IF('LT01'!$J$6="","",'LT01'!$J$6) -> 2 | H7: =IF('LT02'!$J$6="","",'LT02'!$J$6) -> 3 | I7: =IF('LT03'!$J$6="","",'LT03'!$J$6) -> 3 | J7: =IF('LT04'!$J$6="","",'LT04'!$J$6) -> 2 | K7: =IF('LT05'!$J$6="","",'LT05'!$J$6) -> 2 | L7: =IF('LT06'!$J$6="","",'LT06'!$J$6) -> 2 | M7: =IF('LT07'!$J$6="","",'LT07'!$J$6) | N7: =IF('LT08'!$J$6="","",'LT08'!$J$6) | O7: =IF('LT09'!$J$6="","",'LT09'!$J$6) | P7: =IF('TH01'!$J$6="","",'TH01'!$J$6) -> 2 | Q7: =IF('TH02'!$J$6="","",'TH02'!$J$6) -> 2
A8: =IF(B8="",1,SUBTOTAL(3,$B$8:B8)) -> 1 | B8: =IF(HKI!$B11="","",HKI!B11) -> 13D301Đ001 | C8: =IF(HKI!$B11="","",HKI!C11) -> Lương Hoàng Thuận | D8: =IF(HKI!$B11="","",HKI!D11) -> An | E8: =IF(COUNTIF(G8:P8,"X")>0,COUNTIF(G8:P8,"X"),"") | F8: =IF(COUNTIF(G8:P8,"X")=0,"",SUMIF(G8:P8,"X",$G$7:$P$7)) | G8: =IF(HKI!I11<4,"X","") | H8: =IF(HKI!M11<4,"X","") | I8: =IF(HKI!Q11<4,"X","") | J8: =IF(HKI!U11<4,"X","") | K8: =IF(HKI!Y11<4,"X","") | L8: =IF(HKI!AC11<4,"X","") | M8: =IF(HKI!AG11<4,"X","") | N8: =IF(HKI!AK11<4,"X","") | O8: =IF(HKI!AO11<4,"X","") | P8: =IF(HKI!AS11<4,"X","") | Q8: =IF(HKI!AW11<4,"X","")
A9: =IF(B9="","",SUBTOTAL(3,$B$8:B9)) -> 2 | B9: =IF(HKI!$B12="","",HKI!B12) -> 13D301Đ009 | C9: =IF(HKI!$B12="","",HKI!C12) -> Võ Thành | D9: =IF(HKI!$B12="","",HKI!D12) -> Bảo | E9: =IF(COUNTIF(G9:P9,"X")>0,COUNTIF(G9:P9,"X"),"") -> 1 | F9: =IF(COUNTIF(G9:P9,"X")=0,"",SUMIF(G9:P9,"X",$G$7:$P$7)) -> 3 | G9: =IF(HKI!I12<4,"X","") | H9: =IF(HKI!M12<4,"X","") | I9: =IF(HKI!Q12<4,"X","") -> X | J9: =IF(HKI!U12<4,"X","") | K9: =IF(HKI!Y12<4,"X","") | L9: =IF(HKI!AC12<4,"X","") | M9: =IF(HKI!AG12<4,"X","") | N9: =IF(HKI!AK12<4,"X","") | O9: =IF(HKI!AO12<4,"X","") | P9: =IF(HKI!AS12<4,"X","") | Q9: =IF(HKI!AW12<4,"X","")
A10: =IF(B10="","",SUBTOTAL(3,$B$8:B10)) -> 3 | B10: =IF(HKI!$B13="","",HKI!B13) -> 13D301Đ013 | C10: =IF(HKI!$B13="","",HKI!C13) -> Nguyễn Chí | D10: =IF(HKI!$B13="","",HKI!D13) -> Bình | E10: =IF(COUNTIF(G10:P10,"X")>0,COUNTIF(G10:P10,"X"),"") | F10: =IF(COUNTIF(G10:P10,"X")=0,"",SUMIF(G10:P10,"X",$G$7:$P$7)) | G10: =IF(HKI!I13<4,"X","") | H10: =IF(HKI!M13<4,"X","") | I10: =IF(HKI!Q13<4,"X","") | J10: =IF(HKI!U13<4,"X","") | K10: =IF(HKI!Y13<4,"X","") | L10: =IF(HKI!AC13<4,"X","") | M10: =IF(HKI!AG13<4,"X","") | N10: =IF(HKI!AK13<4,"X","") | O10: =IF(HKI!AO13<4,"X","") | P10: =IF(HKI!AS13<4,"X","") | Q10: =IF(HKI!AW13<4,"X","")
A11: =IF(B11="","",SUBTOTAL(3,$B$8:B11)) -> 4 | B11: =IF(HKI!$B14="","",HKI!B14) -> 13D301Đ017 | C11: =IF(HKI!$B14="","",HKI!C14) -> Trần Văn | D11: =IF(HKI!$B14="","",HKI!D14) -> Chinh | E11: =IF(COUNTIF(G11:P11,"X")>0,COUNTIF(G11:P11,"X"),"") | F11: =IF(COUNTIF(G11:P11,"X")=0,"",SUMIF(G11:P11,"X",$G$7:$P$7)) | G11: =IF(HKI!I14<4,"X","") | H11: =IF(HKI!M14<4,"X","") | I11: =IF(HKI!Q14<4,"X","") | J11: =IF(HKI!U14<4,"X","") | K11: =IF(HKI!Y14<4,"X","") | L11: =IF(HKI!AC14<4,"X","") | M11: =IF(HKI!AG14<4,"X","") | N11: =IF(HKI!AK14<4,"X","") | O11: =IF(HKI!AO14<4,"X","") | P11: =IF(HKI!AS14<4,"X","") | Q11: =IF(HKI!AW14<4,"X","")
A12: =IF(B12="","",SUBTOTAL(3,$B$8:B12)) -> 5 | B12: =IF(HKI!$B15="","",HKI!B15) -> 13D301Đ021 | C12: =IF(HKI!$B15="","",HKI!C15) -> Nguyễn Chí | D12: =IF(HKI!$B15="","",HKI!D15) -> Cường | E12: =IF(COUNTIF(G12:P12,"X")>0,COUNTIF(G12:P12,"X"),"") -> 2 | F12: =IF(COUNTIF(G12:P12,"X")=0,"",SUMIF(G12:P12,"X",$G$7:$P$7)) -> 4 | G12: =IF(HKI!I15<4,"X","") | H12: =IF(HKI!M15<4,"X","") | I12: =IF(HKI!Q15<4,"X","") | J12: =IF(HKI!U15<4,"X","") -> X | K12: =IF(HKI!Y15<4,"X","") | L12: =IF(HKI!AC15<4,"X","") -> X | M12: =IF(HKI!AG15<4,"X","") | N12: =IF(HKI!AK15<4,"X","") | O12: =IF(HKI!AO15<4,"X","") | P12: =IF(HKI!AS15<4,"X","") | Q12: =IF(HKI!AW15<4,"X","")
A13: =IF(B13="","",SUBTOTAL(3,$B$8:B13)) -> 6 | B13: =IF(HKI!$B16="","",HKI!B16) -> 13D301Đ025 | C13: =IF(HKI!$B16="","",HKI!C16) -> Nguyễn Ngọc | D13: =IF(HKI!$B16="","",HKI!D16) -> Dũng | E13: =IF(COUNTIF(G13:P13,"X")>0,COUNTIF(G13:P13,"X"),"") -> 1 | F13: =IF(COUNTIF(G13:P13,"X")=0,"",SUMIF(G13:P13,"X",$G$7:$P$7)) -> 2 | G13: =IF(HKI!I16<4,"X","") | H13: =IF(HKI!M16<4,"X","") | I13: =IF(HKI!Q16<4,"X","") | J13: =IF(HKI!U16<4,"X","") -> X | K13: =IF(HKI!Y16<4,"X","") | L13: =IF(HKI!AC16<4,"X","") | M13: =IF(HKI!AG16<4,"X","") | N13: =IF(HKI!AK16<4,"X","") | O13: =IF(HKI!AO16<4,"X","") | P13: =IF(HKI!AS16<4,"X","") | Q13: =IF(HKI!AW16<4,"X","")
A14: =IF(B14="","",SUBTOTAL(3,$B$8:B14)) -> 7 | B14: =IF(HKI!$B17="","",HKI!B17) -> 13D301Đ033 | C14: =IF(HKI!$B17="","",HKI!C17) -> Trương Văn | D14: =IF(HKI!$B17="","",HKI!D17) -> Đạt | E14: =IF(COUNTIF(G14:P14,"X")>0,COUNTIF(G14:P14,"X"),"") | F14: =IF(COUNTIF(G14:P14,"X")=0,"",SUMIF(G14:P14,"X",$G$7:$P$7)) | G14: =IF(HKI!I17<4,"X","") | H14: =IF(HKI!M17<4,"X","") | I14: =IF(HKI!Q17<4,"X","") | J14: =IF(HKI!U17<4,"X","") | K14: =IF(HKI!Y17<4,"X","") | L14: =IF(HKI!AC17<4,"X","") | M14: =IF(HKI!AG17<4,"X","") | N14: =IF(HKI!AK17<4,"X","") | O14: =IF(HKI!AO17<4,"X","") | P14: =IF(HKI!AS17<4,"X","") | Q14: =IF(HKI!AW17<4,"X","")
A15: =IF(B15="","",SUBTOTAL(3,$B$8:B15)) -> 8 | B15: =IF(HKI!$B18="","",HKI!B18) -> 13D301Đ037 | C15: =IF(HKI!$B18="","",HKI!C18) -> Nguyễn Thành | D15: =IF(HKI!$B18="","",HKI!D18) -> Đông | E15: =IF(COUNTIF(G15:P15,"X")>0,COUNTIF(G15:P15,"X"),"") | F15: =IF(COUNTIF(G15:P15,"X")=0,"",SUMIF(G15:P15,"X",$G$7:$P$7)) | G15: =IF(HKI!I18<4,"X","") | H15: =IF(HKI!M18<4,"X","") | I15: =IF(HKI!Q18<4,"X","") | J15: =IF(HKI!U18<4,"X","") | K15: =IF(HKI!Y18<4,"X","") | L15: =IF(HKI!AC18<4,"X","") | M15: =IF(HKI!AG18<4,"X","") | N15: =IF(HKI!AK18<4,"X","") | O15: =IF(HKI!AO18<4,"X","") | P15: =IF(HKI!AS18<4,"X","") | Q15: =IF(HKI!AW18<4,"X","")
A16: =IF(B16="","",SUBTOTAL(3,$B$8:B16)) -> 9 | B16: =IF(HKI!$B19="","",HKI!B19) -> 13D301Đ041 | C16: =IF(HKI!$B19="","",HKI!C19) -> Lê Hoàng | D16: =IF(HKI!$B19="","",HKI!D19) -> Giang | E16: =IF(COUNTIF(G16:P16,"X")>0,COUNTIF(G16:P16,"X"),"") -> 1 | F16: =IF(COUNTIF(G16:P16,"X")=0,"",SUMIF(G16:P16,"X",$G$7:$P$7)) -> 2 | G16: =IF(HKI!I19<4,"X","") | H16: =IF(HKI!M19<4,"X","") | I16: =IF(HKI!Q19<4,"X","") | J16: =IF(HKI!U19<4,"X","") | K16: =IF(HKI!Y19<4,"X","") | L16: =IF(HKI!AC19<4,"X","") -> X | M16: =IF(HKI!AG19<4,"X","") | N16: =IF(HKI!AK19<4,"X","") | O16: =IF(HKI!AO19<4,"X","") | P16: =IF(HKI!AS19<4,"X","") | Q16: =IF(HKI!AW19<4,"X","")
A17: =IF(B17="","",SUBTOTAL(3,$B$8:B17)) -> 10 | B17: =IF(HKI!$B20="","",HKI!B20) -> 13D301Đ045 | C17: =IF(HKI!$B20="","",HKI!C20) -> Lê Công | D17: =IF(HKI!$B20="","",HKI!D20) -> Hậu | E17: =IF(COUNTIF(G17:P17,"X")>0,COUNTIF(G17:P17,"X"),"") -> 2 | F17: =IF(COUNTIF(G17:P17,"X")=0,"",SUMIF(G17:P17,"X",$G$7:$P$7)) -> 5 | G17: =IF(HKI!I20<4,"X","") | H17: =IF(HKI!M20<4,"X","") | I17: =IF(HKI!Q20<4,"X","") -> X | J17: =IF(HKI!U20<4,"X","") | K17: =IF(HKI!Y20<4,"X","") | L17: =IF(HKI!AC20<4,"X","") -> X | M17: =IF(HKI!AG20<4,"X","") | N17: =IF(HKI!AK20<4,"X","") | O17: =IF(HKI!AO20<4,"X","") | P17: =IF(HKI!AS20<4,"X","") | Q17: =IF(HKI!AW20<4,"X","")
A18: =IF(B18="","",SUBTOTAL(3,$B$8:B18)) -> 11 | B18: =IF(HKI!$B21="","",HKI!B21) -> 13D301Đ049 | C18: =IF(HKI!$B21="","",HKI!C21) -> Lê Minh | D18: =IF(HKI!$B21="","",HKI!D21) -> Hiếu | E18: =IF(COUNTIF(G18:P18,"X")>0,COUNTIF(G18:P18,"X"),"") | F18: =IF(COUNTIF(G18:P18,"X")=0,"",SUMIF(G18:P18,"X",$G$7:$P$7)) | G18: =IF(HKI!I21<4,"X","") | H18: =IF(HKI!M21<4,"X","") | I18: =IF(HKI!Q21<4,"X","") | J18: =IF(HKI!U21<4,"X","") | K18: =IF(HKI!Y21<4,"X","") | L18: =IF(HKI!AC21<4,"X","") | M18: =IF(HKI!AG21<4,"X","") | N18: =IF(HKI!AK21<4,"X","") | O18: =IF(HKI!AO21<4,"X","") | P18: =IF(HKI!AS21<4,"X","") | Q18: =IF(HKI!AW21<4,"X","")
A19: =IF(B19="","",SUBTOTAL(3,$B$8:B19)) -> 12 | B19: =IF(HKI!$B22="","",HKI!B22) -> 13D301Đ053 | C19: =IF(HKI!$B22="","",HKI!C22) -> Nguyễn Ngọc | D19: =IF(HKI!$B22="","",HKI!D22) -> Hoài | E19: =IF(COUNTIF(G19:P19,"X")>0,COUNTIF(G19:P19,"X"),"") | F19: =IF(COUNTIF(G19:P19,"X")=0,"",SUMIF(G19:P19,"X",$G$7:$P$7)) | G19: =IF(HKI!I22<4,"X","") | H19: =IF(HKI!M22<4,"X","") | I19: =IF(HKI!Q22<4,"X","") | J19: =IF(HKI!U22<4,"X","") | K19: =IF(HKI!Y22<4,"X","") | L19: =IF(HKI!AC22<4,"X","") | M19: =IF(HKI!AG22<4,"X","") | N19: =IF(HKI!AK22<4,"X","") | O19: =IF(HKI!AO22<4,"X","") | P19: =IF(HKI!AS22<4,"X","") | Q19: =IF(HKI!AW22<4,"X","")
A20: =IF(B20="","",SUBTOTAL(3,$B$8:B20)) -> 13 | B20: =IF(HKI!$B23="","",HKI!B23) -> 13D301Đ057 | C20: =IF(HKI!$B23="","",HKI!C23) -> Trịnh Thanh | D20: =IF(HKI!$B23="","",HKI!D23) -> Hoàng | E20: =IF(COUNTIF(G20:P20,"X")>0,COUNTIF(G20:P20,"X"),"") | F20: =IF(COUNTIF(G20:P20,"X")=0,"",SUMIF(G20:P20,"X",$G$7:$P$7)) | G20: =IF(HKI!I23<4,"X","") | H20: =IF(HKI!M23<4,"X","") | I20: =IF(HKI!Q23<4,"X","") | J20: =IF(HKI!U23<4,"X","") | K20: =IF(HKI!Y23<4,"X","") | L20: =IF(HKI!AC23<4,"X","") | M20: =IF(HKI!AG23<4,"X","") | N20: =IF(HKI!AK23<4,"X","") | O20: =IF(HKI!AO23<4,"X","") | P20: =IF(HKI!AS23<4,"X","") | Q20: =IF(HKI!AW23<4,"X","")
... A72: =IF(B72="","",SUBTOTAL(3,$B$8:B72)) | B72: =IF(HKI!$B75="","",HKI!B75) | C72: =IF(HKI!$B75="","",HKI!C75) | D72: =IF(HKI!$B75="","",HKI!D75) | E72: =IF(COUNTIF(G72:P72,"X")>0,COUNTIF(G72:P72,"X"),"") | F72: =IF(COUNTIF(G72:P72,"X")=0,"",SUMIF(G72:P72,"X",$G$7:$P$7)) | G72: =IF(HKI!I75<4,"X","") | H72: =IF(HKI!M75<4,"X","") | I72: =IF(HKI!Q75<4,"X","") | J72: =IF(HKI!U75<4,"X","") | K72: =IF(HKI!Y75<4,"X","") | L72: =IF(HKI!AC75<4,"X","") | M72: =IF(HKI!AG75<4,"X","") | N72: =IF(HKI!AK75<4,"X","") | O72: =IF(HKI!AO75<4,"X","") | P72: =IF(HKI!AS75<4,"X","") | Q72: =IF(HKI!AW75<4,"X","")
A73: Số lượng Sinh viên nợ theo học phần | G73: =COUNTIF(G8:G72,"X") -> 1 | H73: =COUNTIF(H8:H72,"X") -> 1 | I73: =COUNTIF(I8:I72,"X") -> 4 | J73: =COUNTIF(J8:J72,"X") -> 12 | K73: =COUNTIF(K8:K72,"X") -> 4 | L73: =COUNTIF(L8:L72,"X") -> 16 | M73: =COUNTIF(M8:M72,"X") -> 0 | N73: =COUNTIF(N8:N72,"X") -> 0 | ... Q73: =COUNTIF(Q8:Q72,"X") -> 0

Sheet NH13-14
A1: ỦY BAN NHÂN DÂN THÀNH PHỐ HỒ CHÍ MINH | AP1: CỘNG HOÀ XÃ HỘI CHỦ NGHĨA VIỆT NAM
A2: TRƯỜNG CĐKT LÝ TỰ TRỌNG THÀNH PHỐ HỒ CHÍ MINH | AP2: Độc lập - Tự do - Hạnh phúc
C3: LỚP: | D3: 13CĐ-Đ1 | G3: SĨ SỐ: | I3: 42
A4: BẢNG TỔNG KẾT HỌC TẬP NĂM HỌC 2013 - 2014
A6: Số thứ tự | B6: HỌC PHẦN | H6: Toán cao cấp 1 | J6: Vật lý đại cương 1 | L6: Hóa học đại cương 1 | N6: Pháp luật đại cương | P6: Nhập môn Tin học | R6: Đo lường và mạch điện | T6: Mạng cung cấp điện | Z6: Toán cao cấp 2 | AB6: Anh văn 1 | AD6: Xác suất thống kê | AF6: Vật lý đại cương 2 | AH6: Hoá học đại cương 2 | AJ6: Kỹ năng giao tiếp | AL6: Những NLCB của CNMLN 1 | AN6: Điện tử cơ bản | AP6: An toàn điện | AX6: Thực tập Điện cơ bản | BB6: TBC HỌC TẬP | BD6: KẾT QUẢ RÈN LUYỆN | BE6: XẾP LOẠI HT | BG6: KHEN THƯỞNG | BH6: CẢNH BÁO HỌC TẬP | BI6: TỔNG SỐ TÍN CHỈ ĐÃ HỌC | BJ6: SỐ TC ĐÃ TÍCH LUỸ SAU KỲ THI CHÍNH | BK6: SỐ TC NỢ SAU KỲ THI CHÍNH | BL6: SỐ TC ĐÃ TÍCH LUỸ SAU KỲ THI PHỤ | BM6: SỐ TC NỢSAU KỲ THI PHỤ | BN6: ĐIỂM TBC TÍCH LUỸ SAU KỲ THI CHÍNH | BO6: HẠNG HỌC LỰC SAU KỲ THI CHÍNH | BP6: ĐIỂM TBC TÍCH LUỸ SAU KỲ THI PHỤ | BQ6: HẠNG HỌC LỰC SAU KỲ THI PHỤ | BR6: HẠNG NĂM ĐÀO TẠO | BS6: GHI CHÚ | BT6: Toán cao cấp 1 | BU6: Vật lý đại cương 1 | BV6: Hóa học đại cương 1 | BW6: Pháp luật đại cương | BX6: Nhập môn Tin học | BY6: Đo lường và mạch điện | BZ6: Mạng cung cấp điện | CC6: Toán cao cấp 2 | CD6: Anh văn 1 | CE6: Xác suất thống kê | CF6: Vật lý đại cương 2 | CG6: Hoá học đại cương 2 | CH6: Kỹ năng giao tiếp | CI6: Những NLCB của CNMLN 1 | CJ6: Điện tử cơ bản | CK6: An toàn điện | CO6: Thực tập Điện cơ bản | CR6: Toán cao cấp 1 | CS6: Vật lý đại cương 1 | CT6: Hóa học đại cương 1 | CU6: Pháp luật đại cương | CV6: Nhập môn Tin học | CW6: Đo lường và mạch điện | CX6: Mạng cung cấp điện | DA6: Toán cao cấp 2 | DB6: Anh văn 1 | DC6: Xác suất thống kê | DD6: Vật lý đại cương 2 | DE6: Hoá học đại cương 2 | DF6: Kỹ năng giao tiếp | DG6: Những NLCB của CNMLN 1 | DH6: Điện tử cơ bản | DI6: An toàn điện | DM6: Thực tập Điện cơ bản | DP6: Toán cao cấp 1 | DQ6: Vật lý đại cương 1 | DR6: Hóa học đại cương 1 | DS6: Pháp luật đại cương | DT6: Nhập môn Tin học | DU6: Đo lường và mạch điện | DV6: Mạng cung cấp điện | DY6: Toán cao cấp 2 | DZ6: Anh văn 1 | EA6: Xác suất thống kê | EB6: Vật lý đại cương 2 | EC6: Hoá học đại cương 2 | ED6: Kỹ năng giao tiếp | EE6: Những NLCB của CNMLN 1 | EF6: Điện tử cơ bản | EG6: An toàn điện | EK6: Thực tập Điện cơ bản | EN6: Toán cao cấp 1 | EO6: Vật lý đại cương 1 | EP6: Hóa học đại cương 1 | EQ6: Pháp luật đại cương | ER6: Nhập môn Tin học | ES6: Đo lường và mạch điện | ET6: Mạng cung cấp điện | EW6: Toán cao cấp 2 | EX6: Anh văn 1 | EY6: Xác suất thống kê | EZ6: Vật lý đại cương 2 | FA6: Hoá học đại cương 2 | FB6: Kỹ năng giao tiếp | FC6: Những NLCB của CNMLN 1 | FD6: Điện tử cơ bản | FE6: An toàn điện | FI6: Thực tập Điện cơ bản
B7: SỐ ĐVHT | H7: 3 | J7: 3 | L7: 2 | N7: 2 | P7: 3 | R7: 5 | T7: 2 | Z7: 2 | AB7: 3 | AD7: 2 | AF7: 2 | AH7: 2 | AJ7: 2 | AL7: 2 | AN7: 2 | AP7: 2 | AX7: 2 | BB7: 41 | BT7: 3 | BU7: 3 | BV7: 2 | BW7: 2 | BX7: 3 | BY7: 5 | BZ7: 2 | CC7: 2 | CD7: 3 | CE7: 2 | CF7: 2 | CG7: 2 | CH7: 2 | CI7: 2 | CJ7: 2 | CK7: 2 | CO7: 2 | CQ7: 41 | CR7: 3 | CS7: 3 | CT7: 2 | CU7: 2 | CV7: 3 | CW7: 5 | CX7: 2 | DA7: 2 | DB7: 3 | DC7: 2 | DD7: 2 | DE7: 2 | DF7: 2 | DG7: 2 | DH7: 2 | DI7: 2 | DM7: 2 | DO7: 41 | DP7: 3 | DQ7: 3 | DR7: 2 | DS7: 2 | DT7: 3 | DU7: 5 | DV7: 2 | DY7: 2 | DZ7: 3 | EA7: 2 | EB7: 2 | EC7: 2 | ED7: 2 | EE7: 2 | EF7: 2 | EG7: 2 | EK7: 2 | EM7: 41 | EN7: 3 | EO7: 3 | EP7: 2 | EQ7: 2 | ER7: 3 | ES7: 5 | ET7: 2 | EW7: 2 | EX7: 3 | EY7: 2 | EZ7: 2 | FA7: 2 | FB7: 2 | FC7: 2 | FD7: 2 | FE7: 2 | FI7: 2 | FK7: 41
B8: MSSV | C8: Họ tên sinh viên | E8: HỆ CHUẨN | F8: NGÀY NGHỈ | H8: TKHP Chính | I8: TKHP Phụ | J8: TKHP Chính | K8: TKHP Phụ | L8: TKHP Chính | M8: TKHP Phụ | N8: TKHP Chính | O8: TKHP Phụ | P8: TKHP Chính | Q8: TKHP Phụ | R8: TKHP Chính | S8: TKHP Phụ | T8: TKHP Chính | U8: TKHP Phụ | V8: TKHP Chính | W8: TKHP Phụ | X8: TKHP Chính | Y8: TKHP Phụ | Z8: TKHP Chính | AA8: TKHP Phụ | AB8: TKHP Chính | AC8: TKHP Phụ | AD8: TKHP Chính | AE8: TKHP Phụ | AF8: TKHP Chính | AG8: TKHP Phụ | AH8: TKHP Chính | AI8: TKHP Phụ | AJ8: TKHP Chính | AK8: TKHP Phụ | AL8: TKHP Chính | AM8: TKHP Phụ | AN8: TKHP Chính | AO8: TKHP Phụ | AP8: TKHP Chính | AQ8: TKHP Phụ | AR8: TKHP Chính | AS8: TKHP Phụ | AT8: TKHP Chính | AU8: TKHP Phụ | AV8: TKHP Chính | AW8: TKHP Phụ | AX8: TKHP Chính | AY8: TKHP Phụ | AZ8: TKHP Chính | BA8: TKHP Phụ | BB8: Kỳ thi Chính | BC8: Kỳ thi Phụ | BE8: Kỳ thi Chính | BF8: Kỳ thi Phụ | BT8: TỔNG KẾT HỌC PHẦN CHÍNH | CR8: TỔNG KẾT TRUNG BÌNH CHUNG TÍCH LUỸ KỲ THI CHÍNH | DP8: THAY THẾ ĐIỂM THI PHỤ ĐỂ TÍNH HỌC PHẦN PHỤ | EN8: TỔNG KẾT TRUNG BÌNH CHUNG TÍCH LUỸ KỲ THI PHỤ
F9: P | G9: K
A10: (1) | B10: (2) | C10: (3) | E10: (4) | F10: (5) | G10: (6) | H10: (7) | J10: (8) | L10: (9) | N10: (10) | P10: (11) | R10: (12) | T10: (13) | V10: (14) | X10: (15) | Z10: (16) | AB10: (17) | AD10: (18) | AF10: (19) | AH10: (20) | AJ10: (20) | AL10: (21) | AN10: (22) | AP10: (23) | AR10: (24) | AT10: (26) | AV10: (26) | AX10: (27) | AZ10: (28) | BB10: (29) | BC10: (30) | BD10: (31) | BE10: (32) | BF10: (33) | BG10: (34) | BH10: (35) | BI10: (36) | BJ10: (37) | BK10: (38) | BL10: (39) | BM10: (40) | BN10: (41) | BO10: (42) | BP10: (43) | BQ10: (44) | BR10: (45) | BS10: (46)
A11: 1 | B11: 13D301Đ001 | C11: Lương Hoàng Thuận | D11: An | F11: 2 | G11: 2 | H11: 5.2 | J11: 9.3 | L11: 7.2 | N11: 5.8 | P11: 6.3 | R11: 7.2 | T11: 8.3 | Z11: 8.1 | AB11: 5.5 | AF11: 9.8 | AH11: 9.1 | AJ11: 8 | AL11: 8.1 | AN11: 6 | AP11: 8 | AX11: 7 | BB11: 7.33 | BC11: 7.33 | BD11: 71.5 | BE11: Khá | BF11: Khá | BI11: 39 | BJ11: 39 | BK11: 0 | BL11: 39 | BM11: 0 | BN11: 7.33 | BO11: BT | BP11: 7.33 | BQ11: BT | BR11: SV năm 2 | BT11: 5.2 | BU11: 9.3 | BV11: 7.2 | BW11: 5.8 | BX11: 6.3 | BY11: 7.2 | BZ11: 8.3 | CC11: 8.1 | CD11: 5.5 | CF11: 9.8 | CG11: 9.1 | CH11: 8 | CI11: 8.1 | CJ11: 6 | CK11: 8 | CO11: 7 | CQ11: 7.33 | CR11: 5.2 | CS11: 9.3 | CT11: 7.2 | CU11: 5.8 | CV11: 6.3 | CW11: 7.2 | CX11: 8.3 | DA11: 8.1 | DB11: 5.5 | DD11: 9.8 | DE11: 9.1 | DF11: 8 | DG11: 8.1 | DH11: 6 | DI11: 8 | DM11: 7 | DO11: 7.33 | DP11: 5.2 | DQ11: 9.3 | DR11: 7.2 | DS11: 5.8 | DT11: 6.3 | DU11: 7.2 | DV11: 8.3 | DY11: 8.1 | DZ11: 5.5 | EB11: 9.8 | EC11: 9.1 | ED11: 8 | EE11: 8.1 | EF11: 6 | EG11: 8 | EK11: 7 | EM11: 7.33 | EN11: 5.2 | EO11: 9.3 | EP11: 7.2 | EQ11: 5.8 | ER11: 6.3 | ES11: 7.2 | ET11: 8.3 | EW11: 8.1 | EX11: 5.5 | EZ11: 9.8 | FA11: 9.1 | FB11: 8 | FC11: 8.1 | FD11: 6 | FE11: 8 | FI11: 7 | FK11: 7.33
A12: 2 | B12: 13D301Đ009 | C12: Võ Thành | D12: Bảo | F12: 0 | G12: 11 | H12: 4.5 | I12: 4.6 | J12: 5.7 | L12: 4.6 | M12: 6.1 | N12: 6.3 | P12: 5.6 | R12: 6.4 | T12: 5.9 | Z12: 6.1 | AB12: 4.2 | AC12: 4.2 | AD12: 5.5 | AH12: 4.9 | AI12: 6 | AJ12: 6.3 | AL12: 5.8 | AN12: 2.4 | AP12: 7.4 | AX12: 5.6 | BB12: 5.48 | BC12: 5.62 | BD12: 58.5 | BE12: TB | BF12: TB | BI12: 39 | BJ12: 27 | BK12: 12 | BL12: 31 | BM12: 8 | BN12: 6.06 | BO12: BT | BP12: 6.06 | BQ12: BT | BR12: SV năm 1 | BT12: 4.5 | BU12: 5.7 | BV12: 4.6 | BW12: 6.3 | BX12: 5.6 | BY12: 6.4 | BZ12: 5.9 | CC12: 6.1 | CD12: 4.2 | CE12: 5.5 | CG12: 4.9 | CH12: 6.3 | CI12: 5.8 | CJ12: 2.4 | CK12: 7.4 | CO12: 5.6 | CQ12: 5.48 | CS12: 5.7 | CU12: 6.3 | CV12: 5.6 | CW12: 6.4 | CX12: 5.9 | DA12: 6.1 | DC12: 5.5 | DF12: 6.3 | DG12: 5.8 | DI12: 7.4 | DM12: 5.6 | DO12: 6.06 | DP12: 4.6 | DQ12: 5.7 | DR12: 6.1 | DS12: 6.3 | DT12: 5.6 | DU12: 6.4 | DV12: 5.9 | DY12: 6.1 | DZ12: 4.2 | EA12: 5.5 | EC12: 6 | ED12: 6.3 | EE12: 5.8 | EF12: 2.4 | EG12: 7.4 | EK12: 5.6 | EM12: 5.62 | EO12: 5.7 | EP12: 6.1 | EQ12: 6.3 | ER12: 5.6 | ES12: 6.4 | ET12: 5.9 | EW12: 6.1 | EY12: 5.5 | FA12: 6 | FB12: 6.3 | FC12: 5.8 | FE12: 7.4 | FI12: 5.6 | FK12: 6.06
A13: 3 | B13: 13D301Đ013 | C13: Nguyễn Chí | D13: Bình | F13: 16 | G13: 34 | H13: 3.7 | I13: 4.3 | J13: 4.6 | K13: 4.6 | L13: 4.5 | M13: 6 | N13: 5.1 | P13: 5 | R13: 6.4 | T13: 6.1 | Z13: 4.2 | AB13: 1.9 | AF13: 5.3 | AH13: 0.8 | AJ13: 5.7 | AL13: 6.1 | AN13: 0.9 | AP13: 5.9 | AX13: 5 | BB13: 4.53 | BC13: 4.66 | BD13: 52 | BE13: Yếu | BF13: Yếu | BI13: 39 | BJ13: 22 | BK13: 17 | BL13: 24 | BM13: 15 | BN13: 5.7 | BO13: BT | BP13: 5.73 | BQ13: BT | BR13: SV năm 1 | BT13: 3.7 | BU13: 4.6 | BV13: 4.5 | BW13: 5.1 | BX13: 5 | BY13: 6.4 | BZ13: 6.1 | CC13: 4.2 | CD13: 1.9 | CF13: 5.3 | CG13: 0.8 | CH13: 5.7 | CI13: 6.1 | CJ13: 0.9 | CK13: 5.9 | CO13: 5 | CQ13: 4.53 | CU13: 5.1 | CV13: 5 | CW13: 6.4 | CX13: 6.1 | DD13: 5.3 | DF13: 5.7 | DG13: 6.1 | DI13: 5.9 | DM13: 5 | DO13: 5.7 | DP13: 4.3 | DQ13: 4.6 | DR13: 6 | DS13: 5.1 | DT13: 5 | DU13: 6.4 | DV13: 6.1 | DY13: 4.2 | DZ13: 1.9 | EB13: 5.3 | EC13: 0.8 | ED13: 5.7 | EE13: 6.1 | EF13: 0.9 | EG13: 5.9 | EK13: 5 | EM13: 4.66 | EP13: 6 | EQ13: 5.1 | ER13: 5 | ES13: 6.4 | ET13: 6.1 | EZ13: 5.3 | FB13: 5.7 | FC13: 6.1 | FE13: 5.9 | FI13: 5 | FK13: 5.73
A14: 4 | B14: 13D301Đ014 | C14: Trịnh Thanh | D14: Bình | F14: 4 | G14: 31 | H14: 4.1 | I14: 6.8 | J14: 6.8 | L14: 4.8 | M14: 5.8 | N14: 4.7 | O14: 4.7 | P14: 5 | R14: 4.8 | S14: 4.8 | T14: 5.7 | Z14: 4.9 | AA14: 6.3 | AB14: 4.2 | AC14: 4.2 | AF14: 7.4 | AH14: 3.4 | AI14: 4.4 | AJ14: 6.7 | AL14: 5.3 | AN14: 3.5 | AP14: 6.4 | AX14: 6 | BB14: 5.18 | BC14: 5.56 | BD14: 50.5 | BE14: TB | BF14: TB | BI14: 39 | BJ14: 18 | BK14: 21 | BL14: 25 | BM14: 14 | BN14: 6.13 | BO14: BT | BP14: 6.2 | BQ14: BT | BR14: SV năm 1 | BT14: 4.1 | BU14: 6.8 | BV14: 4.8 | BW14: 4.7 | BX14: 5 | BY14: 4.8 | BZ14: 5.7 | CC14: 4.9 | CD14: 4.2 | CF14: 7.4 | CG14: 3.4 | CH14: 6.7 | CI14: 5.3 | CJ14: 3.5 | CK14: 6.4 | CO14: 6 | CQ14: 5.18 | CS14: 6.8 | CV14: 5 | CX14: 5.7 | DD14: 7.4 | DF14: 6.7 | DG14: 5.3 | DI14: 6.4 | DM14: 6 | DO14: 6.13 | DP14: 6.8 | DQ14: 6.8 | DR14: 5.8 | DS14: 4.7 | DT14: 5 | DU14: 4.8 | DV14: 5.7 | DY14: 6.3 | DZ14: 4.2 | EB14: 7.4 | EC14: 4.4 | ED14: 6.7 | EE14: 5.3 | EF14: 3.5 | EG14: 6.4 | EK14: 6 | EM14: 5.56 | EN14: 6.8 | EO14: 6.8 | EP14: 5.8 | ER14: 5 | ET14: 5.7 | EW14: 6.3 | EZ14: 7.4 | FB14: 6.7 | FC14: 5.3 | FE14: 6.4 | FI14: 6 | FK14: 6.2
A15: 5 | B15: 13D301Đ017 | C15: Trần Văn | D15: Chinh | F15: 0 | G15: 8 | H15: 3.7 | I15: 5.5 | J15: 6.4 | L15: 4.8 | M15: 6 | N15: 5.8 | P15: 5.4 | R15: 6.5 | T15: 5.7 | Z15: 5.6 | AB15: 4.8 | AC15: 4.8 | AF15: 6 | AH15: 4.5 | AI15: 5.4 | AJ15: 6.8 | AL15: 6.9 | AN15: 3.2 | AO15: 3.3 | AP15: 6 | AX15: 5.7 | BB15: 5.52 | BC15: 5.77 | BD15: 56 | BE15: TB | BF15: TB | BI15: 39 | BJ15: 27 | BK15: 12 | BL15: 34 | BM15: 5 | BN15: 6.11 | BO15: BT | BP15: 6.01 | BQ15: BT | BR15: SV năm 1 | BT15: 3.7 | BU15: 6.4 | BV15: 4.8 | BW15: 5.8 | BX15: 5.4 | BY15: 6.5 | BZ15: 5.7 | CC15: 5.6 | CD15: 4.8 | CF15: 6 | CG15: 4.5 | CH15: 6.8 | CI15: 6.9 | CJ15: 3.2 | CK15: 6 | CO15: 5.7 | CQ15: 5.52 | CS15: 6.4 | CU15: 5.8 | CV15: 5.4 | CW15: 6.5 | CX15: 5.7 | DA15: 5.6 | DD15: 6 | DF15: 6.8 | DG15: 6.9 | DI15: 6 | DM15: 5.7 | DO15: 6.11 | DP15: 5.5 | DQ15: 6.4 | DR15: 6 | DS15: 5.8 | DT15: 5.4 | DU15: 6.5 | DV15: 5.7 | DY15: 5.6 | DZ15: 4.8 | EB15: 6 | EC15: 5.4 | ED15: 6.8 | EE15: 6.9 | EF15: 3.3 | EG15: 6 | EK15: 5.7 | EM15: 5.77 | EN15: 5.5 | EO15: 6.4 | EP15: 6 | EQ15: 5.8 | ER15: 5.4 | ES15: 6.5 | ET15: 5.7 | EW15: 5.6 | EZ15: 6 | FA15: 5.4 | FB15: 6.8 | FC15: 6.9 | FE15: 6 | FI15: 5.7 | FK15: 6.01
A16: 6 | B16: 13D301Đ021 | C16: Nguyễn Chí | D16: Cường | F16: 0 | G16: 5 | H16: 4.6 | I16: 4.6 | J16: 6.5 | L16: 5.6 | N16: 6.9 | P16: 5.8 | R16: 5.9 | T16: 5 | Z16: 7.1 | AB16: 5.7 | AF16: 6.8 | AH16: 6.1 | AJ16: 7 | AL16: 7.4 | AN16: 3.6 | AO16: 5.3 | AP16: 7.3 | AX16: 5.8 | BB16: 6.01 | BC16: 6.1 | BD16: 55.5 | BE16: TBKhá | BF16: TBKhá | BI16: 39 | BJ16: 34 | BK16: 5 | BL16: 36 | BM16: 3 | BN16: 6.28 | BO16: BT | BP16: 6.23 | BQ16: BT | BR16: SV năm 2 | BT16: 4.6 | BU16: 6.5 | BV16: 5.6 | BW16: 6.9 | BX16: 5.8 | BY16: 5.9 | BZ16: 5 | CC16: 7.1 | CD16: 5.7 | CF16: 6.8 | CG16: 6.1 | CH16: 7 | CI16: 7.4 | CJ16: 3.6 | CK16: 7.3 | CO16: 5.8 | CQ16: 6.01 | CS16: 6.5 | CT16: 5.6 | CU16: 6.9 | CV16: 5.8 | CW16: 5.9 | CX16: 5 | DA16: 7.1 | DB16: 5.7 | DD16: 6.8 | DE16: 6.1 | DF16: 7 | DG16: 7.4 | DI16: 7.3 | DM16: 5.8 | DO16: 6.28 | DP16: 4.6 | DQ16: 6.5 | DR16: 5.6 | DS16: 6.9 | DT16: 5.8 | DU16: 5.9 | DV16: 5 | DY16: 7.1 | DZ16: 5.7 | EB16: 6.8 | EC16: 6.1 | ED16: 7 | EE16: 7.4 | EF16: 5.3 | EG16: 7.3 | EK16: 5.8 | EM16: 6.1 | EO16: 6.5 | EP16: 5.6 | EQ16: 6.9 | ER16: 5.8 | ES16: 5.9 | ET16: 5 | EW16: 7.1 | EX16: 5.7 | EZ16: 6.8 | FA16: 6.1 | FB16: 7 | FC16: 7.4 | FD16: 5.3 | FE16: 7.3 | FI16: 5.8 | FK16: 6.23
A17: 7 | B17: 13D301Đ025 | C17: Nguyễn Ngọc | D17: Dũng | F17: 6 | G17: 5 | H17: 5.4 | J17: 4.7 | K17: 5.4 | L17: 4.2 | M17: 5.5 | N17: 4.6 | O17: 5.3 | P17: 5.1 | R17: 4.3 | S17: 4.9 | T17: 5.1 | Z17: 4.8 | AA17: 5.7 | AB17: 5.7 | AF17: 5.5 | AH17: 4.7 | AI17: 4.9 | AJ17: 5.5 | AL17: 5.9 | AN17: 4.2 | AO17: 4.2 | AP17: 7 | AX17: 5.7 | BB17: 5.09 | BC17: 5.38 | BD17: 51 | BE17: TB | BF17: TB | BI17: 39 | BJ17: 21 | BK17: 18 | BL17: 30 | BM17: 9 | BN17: 5.62 | BO17: BT | BP17: 5.57 | BQ17: BT | BR17: SV năm 1 | BT17: 5.4 | BU17: 4.7 | BV17: 4.2 | BW17: 4.6 | BX17: 5.1 | BY17: 4.3 | BZ17: 5.1 | CC17: 4.8 | CD17: 5.7 | CF17: 5.5 | CG17: 4.7 | CH17: 5.5 | CI17: 5.9 | CJ17: 4.2 | CK17: 7 | CO17: 5.7 | CQ17: 5.09 | CR17: 5.4 | CV17: 5.1 | CX17: 5.1 | DB17: 5.7 | DD17: 5.5 | DF17: 5.5 | DG17: 5.9 | DI17: 7 | DM17: 5.7 | DO17: 5.62 | DP17: 5.4 | DQ17: 5.4 | DR17: 5.5 | DS17: 5.3 | DT17: 5.1 | DU17: 4.9 | DV17: 5.1 | DY17: 5.7 | DZ17: 5.7 | EB17: 5.5 | EC17: 4.9 | ED17: 5.5 | EE17: 5.9 | EF17: 4.2 | EG17: 7 | EK17: 5.7 | EM17: 5.38 | EN17: 5.4 | EO17: 5.4 | EP17: 5.5 | EQ17: 5.3 | ER17: 5.1 | ET17: 5.1 | EW17: 5.7 | EX17: 5.7 | EZ17: 5.5 | FB17: 5.5 | FC17: 5.9 | FE17: 7 | FI17: 5.7 | FK17: 5.57
A18: 8 | B18: 13D301Đ033 | C18: Trương Văn | D18: Đạt | F18: 0 | G18: 15 | H18: 5.4 | J18: 8.1 | L18: 5.4 | N18: 6.1 | P18: 5.9 | R18: 5.3 | T18: 6.6 | Z18: 6.8 | AB18: 5.6 | AD18: 6.8 | AF18: 6.1 | AJ18: 6.8 | AL18: 5.7 | AN18: 5.4 | AP18: 6.1 | AX18: 6.6 | BB18: 6.11 | BC18: 6.11 | BD18: 58.5 | BE18: TBKhá | BF18: TBKhá | BI18: 39 | BJ18: 39 | BK18: 0 | BL18: 39 | BM18: 0 | BN18: 6.11 | BO18: BT | BP18: 6.11 | BQ18: BT | BR18: SV năm 2 | BT18: 5.4 | BU18: 8.1 | BV18: 5.4 | BW18: 6.1 | BX18: 5.9 | BY18: 5.3 | BZ18: 6.6 | CC18: 6.8 | CD18: 5.6 | CE18: 6.8 | CF18: 6.1 | CH18: 6.8 | CI18: 5.7 | CJ18: 5.4 | CK18: 6.1 | CO18: 6.6 | CQ18: 6.11 | CR18: 5.4 | CS18: 8.1 | CT18: 5.4 | CU18: 6.1 | CV18: 5.9 | CW18: 5.3 | CX18: 6.6 | DA18: 6.8 | DB18: 5.6 | DC18: 6.8 | DD18: 6.1 | DF18: 6.8 | DG18: 5.7 | DH18: 5.4 | DI18: 6.1 | DM18: 6.6 | DO18: 6.11 | DP18: 5.4 | DQ18: 8.1 | DR18: 5.4 | DS18: 6.1 | DT18: 5.9 | DU18: 5.3 | DV18: 6.6 | DY18: 6.8 | DZ18: 5.6 | EA18: 6.8 | EB18: 6.1 | ED18: 6.8 | EE18: 5.7 | EF18: 5.4 | EG18: 6.1 | EK18: 6.6 | EM18: 6.11 | EN18: 5.4 | EO18: 8.1 | EP18: 5.4 | EQ18: 6.1 | ER18: 5.9 | ES18: 5.3 | ET18: 6.6 | EW18: 6.8 | EX18: 5.6 | EY18: 6.8 | EZ18: 6.1 | FB18: 6.8 | FC18: 5.7 | FD18: 5.4 | FE18: 6.1 | FI18: 6.6 | FK18: 6.11
A19: 9 | B19: 13D301Đ037 | C19: Nguyễn Thành | D19: Đông | F19: 0 | G19: 3 | H19: 6 | J19: 6.1 | L19: 7.3 | N19: 5.5 | P19: 5.4 | R19: 5 | T19: 6.2 | Z19: 6.1 | AB19: 6.2 | AD19: 5.9 | AH19: 6.5 | AJ19: 6.1 | AL19: 6.2 | AN19: 3.8 | AO19: 4.2 | AP19: 5.2 | AX19: 5.7 | BB19: 5.77 | BC19: 5.79 | BD19: 60 | BE19: TB | BF19: TB | BI19: 39 | BJ19: 37 | BK19: 2 | BL19: 37 | BM19: 2 | BN19: 5.88 | BO19: BT | BP19: 5.88 | BQ19: BT | BR19: SV năm 2 | BT19: 6 | BU19: 6.1 | BV19: 7.3 | BW19: 5.5 | BX19: 5.4 | BY19: 5 | BZ19: 6.2 | CC19: 6.1 | CD19: 6.2 | CE19: 5.9 | CG19: 6.5 | CH19: 6.1 | CI19: 6.2 | CJ19: 3.8 | CK19: 5.2 | CO19: 5.7 | CQ19: 5.77 | CR19: 6 | CS19: 6.1 | CT19: 7.3 | CU19: 5.5 | CV19: 5.4 | CW19: 5 | CX19: 6.2 | DA19: 6.1 | DB19: 6.2 | DC19: 5.9 | DE19: 6.5 | DF19: 6.1 | DG19: 6.2 | DI19: 5.2 | DM19: 5.7 | DO19: 5.88 | DP19: 6 | DQ19: 6.1 | DR19: 7.3 | DS19: 5.5 | DT19: 5.4 | DU19: 5 | DV19: 6.2 | DY19: 6.1 | DZ19: 6.2 | EA19: 5.9 | EC19: 6.5 | ED19: 6.1 | EE19: 6.2 | EF19: 4.2 | EG19: 5.2 | EK19: 5.7 | EM19: 5.79 | EN19: 6 | EO19: 6.1 | EP19: 7.3 | EQ19: 5.5 | ER19: 5.4 | ES19: 5 | ET19: 6.2 | EW19: 6.1 | EX19: 6.2 | EY19: 5.9 | FA19: 6.5 | FB19: 6.1 | FC19: 6.2 | FE19: 5.2 | FI19: 5.7 | FK19: 5.88
A20: 10 | B20: 13D301Đ041 | C20: Lê Hoàng | D20: Giang | F20: 3 | G20: 19 | H20: 5.9 | J20: 5.8 | L20: 5 | N20: 5.5 | P20: 5.2 | R20: 6.7 | T20: 6.6 | Z20: 3.5 | AA20: 3.5 | AB20: 4.7 | AC20: 4.7 | AF20: 4.4 | AG20: 5.8 | AH20: 4.5 | AI20: 4.5 | AJ20: 5.8 | AL20: 5.6 | AN20: 2 | AO20: 3.2 | AP20: 5.9 | AX20: 6.3 | BB20: 5.35 | BC20: 5.48 | BD20: 57 | BE20: TB | BF20: TB | BI20: 39 | BJ20: 28 | BK20: 11 | BL20: 30 | BM20: 9 | BN20: 5.91 | BO20: BT | BP20: 5.91 | BQ20: BT | BR20: SV năm 1 | BT20: 5.9 | BU20: 5.8 | BV20: 5 | BW20: 5.5 | BX20: 5.2 | BY20: 6.7 | BZ20: 6.6 | CC20: 3.5 | CD20: 4.7 | CF20: 4.4 | CG20: 4.5 | CH20: 5.8 | CI20: 5.6 | CJ20: 2 | CK20: 5.9 | CO20: 6.3 | CQ20: 5.35 | CR20: 5.9 | CS20: 5.8 | CT20: 5 | CU20: 5.5 | CV20: 5.2 | CW20: 6.7 | CX20: 6.6 | DF20: 5.8 | DG20: 5.6 | DI20: 5.9 | DM20: 6.3 | DO20: 5.91 | DP20: 5.9 | DQ20: 5.8 | DR20: 5 | DS20: 5.5 | DT20: 5.2 | DU20: 6.7 | DV20: 6.6 | DY20: 3.5 | DZ20: 4.7 | EB20: 5.8 | EC20: 4.5 | ED20: 5.8 | EE20: 5.6 | EF20: 3.2 | EG20: 5.9 | EK20: 6.3 | EM20: 5.48 | EN20: 5.9 | EO20: 5.8 | EP20: 5 | EQ20: 5.5 | ER20: 5.2 | ES20: 6.7 | ET20: 6.6 | EZ20: 5.8 | FB20: 5.8 | FC20: 5.6 | FE20: 5.9 | FI20: 6.3 | FK20: 5.91
A21: 11 | B21: 13D301Đ045 | C21: Lê Công | D21: Hậu | F21: 0 | G21: 14 | H21: 5 | J21: 5.5 | L21: 5 | N21: 5.2 | P21: 5.9 | R21: 6.8 | T21: 6.4 | Z21: 5.5 | AB21: 5.4 | AF21: 4.8 | AG21: 6.1 | AH21: 3.2 | AI21: 5.7 | AJ21: 7.1 | AL21: 6 | AN21: 1.7 | AP21: 6.4 | AX21: 6.8 | BB21: 5.53 | BC21: 5.72 | BD21: 59.5 | BE21: TB | BF21: TB | BI21: 39 | BJ21: 33 | BK21: 6 | BL21: 37 | BM21: 2 | BN21: 5.95 | BO21: BT | BP21: 5.94 | BQ21: BT | BR21: SV năm 2 | BT21: 5 | BU21: 5.5 | BV21: 5 | BW21: 5.2 | BX21: 5.9 | BY21: 6.8 | BZ21: 6.4 | CC21: 5.5 | CD21: 5.4 | CF21: 4.8 | CG21: 3.2 | CH21: 7.1 | CI21: 6 | CJ21: 1.7 | CK21: 6.4 | CO21: 6.8 | CQ21: 5.53 | CR21: 5 | CS21: 5.5 | CT21: 5 | CU21: 5.2 | CV21: 5.9 | CW21: 6.8 | CX21: 6.4 | DA21: 5.5 | DB21: 5.4 | DF21: 7.1 | DG21: 6 | DI21: 6.4 | DM21: 6.8 | DO21: 5.95 | DP21: 5 | DQ21: 5.5 | DR21: 5 | DS21: 5.2 | DT21: 5.9 | DU21: 6.8 | DV21: 6.4 | DY21: 5.5 | DZ21: 5.4 | EB21: 6.1 | EC21: 5.7 | ED21: 7.1 | EE21: 6 | EF21: 1.7 | EG21: 6.4 | EK21: 6.8 | EM21: 5.72 | EN21: 5 | EO21: 5.5 | EP21: 5 | EQ21: 5.2 | ER21: 5.9 | ES21: 6.8 | ET21: 6.4 | EW21: 5.5 | EX21: 5.4 | EZ21: 6.1 | FA21: 5.7 | FB21: 7.1 | FC21: 6 | FE21: 6.4 | FI21: 6.8 | FK21: 5.94
A22: 12 | B22: 13D301Đ049 | C22: Lê Minh | D22: Hiếu | F22: 0 | G22: 14 | H22: 5.2 | J22: 6.8 | L22: 6.1 | N22: 5.9 | P22: 5 | R22: 5.5 | T22: 3.8 | U22: 3.9 | Z22: 5.5 | AB22: 4.8 | AC22: 4.8 | AF22: 8.7 | AH22: 4 | AI22: 5.4 | AJ22: 6 | AL22: 6.3 | AN22: 3.2 | AO22: 4.5 | AP22: 6.2 | AX22: 5 | BB22: 5.49 | BC22: 5.64 | BD22: 62.5 | BE22: TB | BF22: TB | BI22: 39 | BJ22: 30 | BK22: 9 | BL22: 32 | BM22: 7 | BN22: 5.93 | BO22: BT | BP22: 5.9 | BQ22: BT | BR22: SV năm 1 | BT22: 5.2 | BU22: 6.8 | BV22: 6.1 | BW22: 5.9 | BX22: 5 | BY22: 5.5 | BZ22: 3.8 | CC22: 5.5 | CD22: 4.8 | CF22: 8.7 | CG22: 4 | CH22: 6 | CI22: 6.3 | CJ22: 3.2 | CK22: 6.2 | CO22: 5 | CQ22: 5.49 | CR22: 5.2 | CS22: 6.8 | CT22: 6.1 | CU22: 5.9 | CV22: 5 | CW22: 5.5 | DA22: 5.5 | DD22: 8.7 | DF22: 6 | DG22: 6.3 | DI22: 6.2 | DM22: 5 | DO22: 5.93 | DP22: 5.2 | DQ22: 6.8 | DR22: 6.1 | DS22: 5.9 | DT22: 5 | DU22: 5.5 | DV22: 3.9 | DY22: 5.5 | DZ22: 4.8 | EB22: 8.7 | EC22: 5.4 | ED22: 6 | EE22: 6.3 | EF22: 4.5 | EG22: 6.2 | EK22: 5 | EM22: 5.64 | EN22: 5.2 | EO22: 6.8 | EP22: 6.1 | EQ22: 5.9 | ER22: 5 | ES22: 5.5 | EW22: 5.5 | EZ22: 8.7 | FA22: 5.4 | FB22: 6 | FC22: 6.3 | FE22: 6.2 | FI22: 5 | FK22: 5.9
A23: 13 | B23: 13D301Đ053 | C23: Nguyễn Ngọc | D23: Hoài | F23: 0 | G23: 8 | H23: 6.3 | J23: 6.2 | L23: 5.7 | N23: 6 | P23: 5.9 | R23: 6.7 | T23: 6.8 | Z23: 4.9 | AA23: 6.9 | AB23: 5.2 | AD23: 7.9 | AH23: 6.4 | AJ23: 7.2 | AL23: 6.5 | AN23: 7.2 | AP23: 6.9 | AX23: 8.6 | BB23: 6.47 | BC23: 6.58 | BD23: 65.5 | BE23: TBKhá | BF23: TBKhá | BI23: 39 | BJ23: 37 | BK23: 2 | BL23: 39 | BM23: 0 | BN23: 6.56 | BO23: BT | BP23: 6.58 | BQ23: BT | BR23: SV năm 2 | BT23: 6.3 | BU23: 6.2 | BV23: 5.7 | BW23: 6 | BX23: 5.9 | BY23: 6.7 | BZ23: 6.8 | CC23: 4.9 | CD23: 5.2 | CE23: 7.9 | CG23: 6.4 | CH23: 7.2 | CI23: 6.5 | CJ23: 7.2 | CK23: 6.9 | CO23: 8.6 | CQ23: 6.47 | CR23: 6.3 | CS23: 6.2 | CT23: 5.7 | CU23: 6 | CV23: 5.9 | CW23: 6.7 | CX23: 6.8 | DB23: 5.2 | DC23: 7.9 | DE23: 6.4 | DF23: 7.2 | DG23: 6.5 | DH23: 7.2 | DI23: 6.9 | DM23: 8.6 | DO23: 6.56 | DP23: 6.3 | DQ23: 6.2 | DR23: 5.7 | DS23: 6 | DT23: 5.9 | DU23: 6.7 | DV23: 6.8 | DY23: 6.9 | DZ23: 5.2 | EA23: 7.9 | EC23: 6.4 | ED23: 7.2 | EE23: 6.5 | EF23: 7.2 | EG23: 6.9 | EK23: 8.6 | EM23: 6.58 | EN23: 6.3 | EO23: 6.2 | EP23: 5.7 | EQ23: 6 | ER23: 5.9 | ES23: 6.7 | ET23: 6.8 | EW23: 6.9 | EX23: 5.2 | EY23: 7.9 | FA23: 6.4 | FB23: 7.2 | FC23: 6.5 | FD23: 7.2 | FE23: 6.9 | FI23: 8.6 | FK23: 6.58
A24: 14 | B24: 13D301Đ057 | C24: Trịnh Thanh | D24: Hoàng | F24: 0 | G24: 2 | H24: 6.2 | J24: 8.4 | L24: 7.7 | N24: 6.9 | P24: 6.2 | R24: 7 | T24: 8.1 | Z24: 6.5 | AB24: 5.7 | AF24: 8.4 | AH24: 8.2 | AJ24: 7.9 | AL24: 7.3 | AN24: 5.4 | AP24: 6.8 | AX24: 6.2 | BB24: 7.01 | BC24: 7.01 | BD24: 64 | BE24: Khá | BF24: Khá | BI24: 39 | BJ24: 39 | BK24: 0 | BL24: 39 | BM24: 0 | BN24: 7.01 | BO24: BT | BP24: 7.01 | BQ24: BT | BR24: SV năm 2 | BT24: 6.2 | BU24: 8.4 | BV24: 7.7 | BW24: 6.9 | BX24: 6.2 | BY24: 7 | BZ24: 8.1 | CC24: 6.5 | CD24: 5.7 | CF24: 8.4 | CG24: 8.2 | CH24: 7.9 | CI24: 7.3 | CJ24: 5.4 | CK24: 6.8 | CO24: 6.2 | CQ24: 7.01 | CR24: 6.2 | CS24: 8.4 | CT24: 7.7 | CU24: 6.9 | CV24: 6.2 | CW24: 7 | CX24: 8.1 | DA24: 6.5 | DB24: 5.7 | DD24: 8.4 | DE24: 8.2 | DF24: 7.9 | DG24: 7.3 | DH24: 5.4 | DI24: 6.8 | DM24: 6.2 | DO24: 7.01 | DP24: 6.2 | DQ24: 8.4 | DR24: 7.7 | DS24: 6.9 | DT24: 6.2 | DU24: 7 | DV24: 8.1 | DY24: 6.5 | DZ24: 5.7 | EB24: 8.4 | EC24: 8.2 | ED24: 7.9 | EE24: 7.3 | EF24: 5.4 | EG24: 6.8 | EK24: 6.2 | EM24: 7.01 | EN24: 6.2 | EO24: 8.4 | EP24: 7.7 | EQ24: 6.9 | ER24: 6.2 | ES24: 7 | ET24: 8.1 | EW24: 6.5 | EX24: 5.7 | EZ24: 8.4 | FA24: 8.2 | FB24: 7.9 | FC24: 7.3 | FD24: 5.4 | FE24: 6.8 | FI24: 6.2 | FK24: 7.01
A25: 15 | B25: 13D301Đ061 | C25: Huỳnh Thanh | D25: Hùng | F25: 0 | G25: 31 | H25: 4.6 | I25: 4.8 | J25: 5.4 | L25: 5.1 | N25: 4.6 | O25: 4.6 | P25: 4.2 | Q25: 4.5 | R25: 5 | T25: 4.2 | U25: 5.8 | Z25: 4.7 | AA25: 4.7 | AB25: 4.9 | AF25: 5.5 | AH25: 2 | AJ25: 5.9 | AL25: 6 | AN25: 3.8 | AO25: 4.3 | AP25: 5.9 | AX25: 5.6 | BB25: 4.84 | BC25: 4.99 | BD25: 44.5 | BE25: Yếu | BF25: Yếu | BI25: 39 | BJ25: 20 | BK25: 19 | BL25: 22 | BM25: 17 | BN25: 5.46 | BO25: Y | BP25: 5.49 | BQ25: Y | BR25: SV năm 1 | BT25: 4.6 | BU25: 5.4 | BV25: 5.1 | BW25: 4.6 | BX25: 4.2 | BY25: 5 | BZ25: 4.2 | CC25: 4.7 | CD25: 4.9 | CF25: 5.5 | CG25: 2 | CH25: 5.9 | CI25: 6 | CJ25: 3.8 | CK25: 5.9 | CO25: 5.6 | CQ25: 4.84 | CS25: 5.4 | CT25: 5.1 | CW25: 5 | DD25: 5.5 | DF25: 5.9 | DG25: 6 | DI25: 5.9 | DM25: 5.6 | DO25: 5.46 | DP25: 4.8 | DQ25: 5.4 | DR25: 5.1 | DS25: 4.6 | DT25: 4.5 | DU25: 5 | DV25: 5.8 | DY25: 4.7 | DZ25: 4.9 | EB25: 5.5 | EC25: 2 | ED25: 5.9 | EE25: 6 | EF25: 4.3 | EG25: 5.9 | EK25: 5.6 | EM25: 4.99 | EO25: 5.4 | EP25: 5.1 | ES25: 5 | ET25: 5.8 | EZ25: 5.5 | FB25: 5.9 | FC25: 6 | FE25: 5.9 | FI25: 5.6 | FK25: 5.49
A26: 16 | B26: 13D301Đ065 | C26: Đoàn Lê Xuân | D26: Huy | F26: 0 | G26: 59 | H26: 5.2 | J26: 6.1 | L26: 5 | N26: 5.7 | P26: 5.8 | R26: 4.5 | T26: 5.4 | Z26: 2.9 | AA26: 4.1 | AB26: 4.2 | AD26: 3.6 | AF26: 7.3 | AJ26: 6.7 | AL26: 5.8 | AN26: 0.8 | AP26: 6.3 | AX26: 6.3 | BB26: 5.08 | BC26: 5.14 | BD26: 46.5 | BE26: TB | BF26: TB | BI26: 39 | BJ26: 25 | BK26: 14 | BL26: 25 | BM26: 14 | BN26: 5.93 | BO26: BT | BP26: 5.93 | BQ26: BT | BR26: SV năm 1 | BT26: 5.2 | BU26: 6.1 | BV26: 5 | BW26: 5.7 | BX26: 5.8 | BY26: 4.5 | BZ26: 5.4 | CC26: 2.9 | CD26: 4.2 | CE26: 3.6 | CF26: 7.3 | CH26: 6.7 | CI26: 5.8 | CJ26: 0.8 | CK26: 6.3 | CO26: 6.3 | CQ26: 5.08 | CR26: 5.2 | CS26: 6.1 | CT26: 5 | CU26: 5.7 | CV26: 5.8 | CX26: 5.4 | DD26: 7.3 | DF26: 6.7 | DG26: 5.8 | DI26: 6.3 | DM26: 6.3 | DO26: 5.93 | DP26: 5.2 | DQ26: 6.1 | DR26: 5 | DS26: 5.7 | DT26: 5.8 | DU26: 4.5 | DV26: 5.4 | DY26: 4.1 | DZ26: 4.2 | EA26: 3.6 | EB26: 7.3 | ED26: 6.7 | EE26: 5.8 | EF26: 0.8 | EG26: 6.3 | EK26: 6.3 | EM26: 5.14 | EN26: 5.2 | EO26: 6.1 | EP26: 5 | EQ26: 5.7 | ER26: 5.8 | ET26: 5.4 | EZ26: 7.3 | FB26: 6.7 | FC26: 5.8 | FE26: 6.3 | FI26: 6.3 | FK26: 5.93
A27: 17 | B27: 13D301Đ073 | C27: Trịnh Đại | D27: Lăng | F27: 2 | G27: 0 | H27: 5.2 | J27: 4.3 | K27: 6 | L27: 4.3 | M27: 6.3 | N27: 5.2 | P27: 6.2 | R27: 4.4 | S27: 4.6 | T27: 6.6 | Z27: 6.4 | AB27: 5.7 | AF27: 7.8 | AH27: 5.4 | AJ27: 7.2 | AL27: 6 | AN27: 4 | AO27: 4.7 | AP27: 7 | AX27: 5.1 | BB27: 5.54 | BC27: 5.84 | BD27: 60.5 | BE27: TB | BF27: TB | BI27: 39 | BJ27: 27 | BK27: 12 | BL27: 32 | BM27: 7 | BN27: 6.1 | BO27: BT | BP27: 6.1 | BQ27: BT | BR27: SV năm 1 | BT27: 5.2 | BU27: 4.3 | BV27: 4.3 | BW27: 5.2 | BX27: 6.2 | BY27: 4.4 | BZ27: 6.6 | CC27: 6.4 | CD27: 5.7 | CF27: 7.8 | CG27: 5.4 | CH27: 7.2 | CI27: 6 | CJ27: 4 | CK27: 7 | CO27: 5.1 | CQ27: 5.54 | CR27: 5.2 | CU27: 5.2 | CV27: 6.2 | CX27: 6.6 | DA27: 6.4 | DB27: 5.7 | DD27: 7.8 | DE27: 5.4 | DF27: 7.2 | DG27: 6 | DI27: 7 | DM27: 5.1 | DO27: 6.1 | DP27: 5.2 | DQ27: 6 | DR27: 6.3 | DS27: 5.2 | DT27: 6.2 | DU27: 4.6 | DV27: 6.6 | DY27: 6.4 | DZ27: 5.7 | EB27: 7.8 | EC27: 5.4 | ED27: 7.2 | EE27: 6 | EF27: 4.7 | EG27: 7 | EK27: 5.1 | EM27: 5.84 | EN27: 5.2 | EO27: 6 | EP27: 6.3 | EQ27: 5.2 | ER27: 6.2 | ET27: 6.6 | EW27: 6.4 | EX27: 5.7 | EZ27: 7.8 | FA27: 5.4 | FB27: 7.2 | FC27: 6 | FE27: 7 | FI27: 5.1 | FK27: 6.1
A28: 18 | B28: 13D301Đ204 | C28: Nguyễn Khánh | D28: Linh | F28: 2 | G28: 10 | H28: 7.3 | J28: 8.1 | L28: 6.5 | N28: 6 | P28: 5.7 | R28: 6.9 | T28: 7.6 | Z28: 7 | AB28: 5.9 | AD28: 6.2 | AF28: 8.5 | AJ28: 7.4 | AL28: 7.7 | AN28: 6.7 | AP28: 6.2 | AX28: 7 | BB28: 6.9 | BC28: 6.9 | BD28: 61 | BE28: TBKhá | BF28: TBKhá | BI28: 39 | BJ28: 39 | BK28: 0 | BL28: 39 | BM28: 0 | BN28: 6.9 | BO28: BT | BP28: 6.9 | BQ28: BT | BR28: SV năm 2 | BT28: 7.3 | BU28: 8.1 | BV28: 6.5 | BW28: 6 | BX28: 5.7 | BY28: 6.9 | BZ28: 7.6 | CC28: 7 | CD28: 5.9 | CE28: 6.2 | CF28: 8.5 | CH28: 7.4 | CI28: 7.7 | CJ28: 6.7 | CK28: 6.2 | CO28: 7 | CQ28: 6.9 | CR28: 7.3 | CS28: 8.1 | CT28: 6.5 | CU28: 6 | CV28: 5.7 | CW28: 6.9 | CX28: 7.6 | DA28: 7 | DB28: 5.9 | DC28: 6.2 | DD28: 8.5 | DF28: 7.4 | DG28: 7.7 | DH28: 6.7 | DI28: 6.2 | DM28: 7 | DO28: 6.9 | DP28: 7.3 | DQ28: 8.1 | DR28: 6.5 | DS28: 6 | DT28: 5.7 | DU28: 6.9 | DV28: 7.6 | DY28: 7 | DZ28: 5.9 | EA28: 6.2 | EB28: 8.5 | ED28: 7.4 | EE28: 7.7 | EF28: 6.7 | EG28: 6.2 | EK28: 7 | EM28: 6.9 | EN28: 7.3 | EO28: 8.1 | EP28: 6.5 | EQ28: 6 | ER28: 5.7 | ES28: 6.9 | ET28: 7.6 | EW28: 7 | EX28: 5.9 | EY28: 6.2 | EZ28: 8.5 | FB28: 7.4 | FC28: 7.7 | FD28: 6.7 | FE28: 6.2 | FI28: 7 | FK28: 6.9
A29: 19 | B29: 13D301Đ077 | C29: Nguyễn Tiến | D29: Lợi | F29: 4 | G29: 26 | H29: 2.8 | I29: 4.2 | J29: 2.5 | K29: 4.8 | L29: 2.5 | M29: 5.2 | N29: 5.8 | P29: 4.6 | Q29: 4.6 | R29: 5.8 | T29: 4.8 | U29: 5.8 | Z29: 6.5 | AB29: 5.1 | AF29: 8.2 | AH29: 4.7 | AJ29: 6.7 | AL29: 5.9 | AN29: 4.5 | AO29: 4.5 | AP29: 7.6 | AX29: 6.5 | BB29: 5.16 | BC29: 5.64 | BD29: 52.5 | BE29: TB | BF29: TB | BI29: 39 | BJ29: 22 | BK29: 17 | BL29: 26 | BM29: 13 | BN29: 6.3 | BO29: BT | BP29: 6.18 | BQ29: BT | BR29: SV năm 1 | BT29: 2.8 | BU29: 2.5 | BV29: 2.5 | BW29: 5.8 | BX29: 4.6 | BY29: 5.8 | BZ29: 4.8 | CC29: 6.5 | CD29: 5.1 | CF29: 8.2 | CG29: 4.7 | CH29: 6.7 | CI29: 5.9 | CJ29: 4.5 | CK29: 7.6 | CO29: 6.5 | CQ29: 5.16 | CU29: 5.8 | CW29: 5.8 | DA29: 6.5 | DB29: 5.1 | DD29: 8.2 | DF29: 6.7 | DG29: 5.9 | DI29: 7.6 | DM29: 6.5 | DO29: 6.3 | DP29: 4.2 | DQ29: 4.8 | DR29: 5.2 | DS29: 5.8 | DT29: 4.6 | DU29: 5.8 | DV29: 5.8 | DY29: 6.5 | DZ29: 5.1 | EB29: 8.2 | EC29: 4.7 | ED29: 6.7 | EE29: 5.9 | EF29: 4.5 | EG29: 7.6 | EK29: 6.5 | EM29: 5.64 | EP29: 5.2 | EQ29: 5.8 | ES29: 5.8 | ET29: 5.8 | EW29: 6.5 | EX29: 5.1 | EZ29: 8.2 | FB29: 6.7 | FC29: 5.9 | FE29: 7.6 | FI29: 6.5 | FK29: 6.18
A30: 20 | B30: 13D301Đ162 | C30: Đỗ Văn | D30: Lượng | F30: 0 | G30: 7 | H30: 5.1 | J30: 3.9 | K30: 4.4 | L30: 5 | N30: 4.9 | O30: 6.4 | P30: 4.4 | Q30: 4.4 | R30: 5 | T30: 3.9 | U30: 5.4 | Z30: 7 | AB30: 4.5 | AF30: 6.7 | AH30: 3.8 | AI30: 5.3 | AJ30: 6.8 | AL30: 5.6 | AN30: 2.6 | AO30: 3.5 | AP30: 7.4 | AX30: 6.6 | BB30: 5.11 | BC30: 5.43 | BD30: 54 | BE30: TB | BF30: TB | BI30: 39 | BJ30: 22 | BK30: 17 | BL30: 28 | BM30: 11 | BN30: 5.93 | BO30: BT | BP30: 5.88 | BQ30: BT | BR30: SV năm 1 | BT30: 5.1 | BU30: 3.9 | BV30: 5 | BW30: 4.9 | BX30: 4.4 | BY30: 5 | BZ30: 3.9 | CC30: 7 | CD30: 4.5 | CF30: 6.7 | CG30: 3.8 | CH30: 6.8 | CI30: 5.6 | CJ30: 2.6 | CK30: 7.4 | CO30: 6.6 | CQ30: 5.11 | CR30: 5.1 | CT30: 5 | CW30: 5 | DA30: 7 | DD30: 6.7 | DF30: 6.8 | DG30: 5.6 | DI30: 7.4 | DM30: 6.6 | DO30: 5.93 | DP30: 5.1 | DQ30: 4.4 | DR30: 5 | DS30: 6.4 | DT30: 4.4 | DU30: 5 | DV30: 5.4 | DY30: 7 | DZ30: 4.5 | EB30: 6.7 | EC30: 5.3 | ED30: 6.8 | EE30: 5.6 | EF30: 3.5 | EG30: 7.4 | EK30: 6.6 | EM30: 5.43 | EN30: 5.1 | EP30: 5 | EQ30: 6.4 | ES30: 5 | ET30: 5.4 | EW30: 7 | EZ30: 6.7 | FA30: 5.3 | FB30: 6.8 | FC30: 5.6 | FE30: 7.4 | FI30: 6.6 | FK30: 5.88
A31: 21 | B31: 13D301Đ081 | C31: Mai Đình | D31: Luyện | F31: 0 | G31: 54 | H31: 4.4 | I31: 4.4 | J31: 4.6 | K31: 4.6 | L31: 4.1 | M31: 5.1 | N31: 5.5 | P31: 5 | R31: 3.4 | S31: 3.4 | T31: 4.2 | U31: 5.7 | Z31: 2.6 | AA31: 2.6 | AB31: 4.6 | AC31: 4.6 | AD31: 3.3 | AE31: 3.3 | AF31: 4.3 | AG31: 4.9 | AJ31: 5.6 | AL31: 5.3 | AN31: 0.5 | AO31: 1.5 | AP31: 6.3 | AX31: 5.4 | BB31: 4.28 | BC31: 4.49 | BD31: 41 | BE31: Yếu | BF31: Yếu | BI31: 39 | BJ31: 13 | BK31: 26 | BL31: 17 | BM31: 22 | BN31: 5.48 | BO31: Y | BP31: 5.46 | BQ31: Y | BR31: SV năm 1 | BT31: 4.4 | BU31: 4.6 | BV31: 4.1 | BW31: 5.5 | BX31: 5 | BY31: 3.4 | BZ31: 4.2 | CC31: 2.6 | CD31: 4.6 | CE31: 3.3 | CF31: 4.3 | CH31: 5.6 | CI31: 5.3 | CJ31: 0.5 | CK31: 6.3 | CO31: 5.4 | CQ31: 4.28 | CU31: 5.5 | CV31: 5 | DF31: 5.6 | DG31: 5.3 | DI31: 6.3 | DM31: 5.4 | DO31: 5.48 | DP31: 4.4 | DQ31: 4.6 | DR31: 5.1 | DS31: 5.5 | DT31: 5 | DU31: 3.4 | DV31: 5.7 | DY31: 2.6 | DZ31: 4.6 | EA31: 3.3 | EB31: 4.9 | ED31: 5.6 | EE31: 5.3 | EF31: 1.5 | EG31: 6.3 | EK31: 5.4 | EM31: 4.49 | EP31: 5.1 | EQ31: 5.5 | ER31: 5 | ET31: 5.7 | FB31: 5.6 | FC31: 5.3 | FE31: 6.3 | FI31: 5.4 | FK31: 5.46
A32: 22 | B32: 13D301Đ085 | C32: Võ Hoài | D32: Nam | F32: 0 | G32: 8 | H32: 5.3 | J32: 6.9 | L32: 5.9 | N32: 4.6 | O32: 4.6 | P32: 5.9 | R32: 5.6 | T32: 6.1 | Z32: 6.5 | AB32: 7.4 | AD32: 6.4 | AH32: 5.5 | AJ32: 6.5 | AL32: 6.2 | AN32: 2.6 | AP32: 7 | AX32: 5 | BB32: 5.87 | BC32: 5.87 | BD32: 54.5 | BE32: TB | BF32: TB | BI32: 39 | BJ32: 35 | BK32: 4 | BL32: 35 | BM32: 4 | BN32: 6.13 | BO32: BT | BP32: 6.13 | BQ32: BT | BR32: SV năm 2 | BT32: 5.3 | BU32: 6.9 | BV32: 5.9 | BW32: 4.6 | BX32: 5.9 | BY32: 5.6 | BZ32: 6.1 | CC32: 6.5 | CD32: 7.4 | CE32: 6.4 | CG32: 5.5 | CH32: 6.5 | CI32: 6.2 | CJ32: 2.6 | CK32: 7 | CO32: 5 | CQ32: 5.87 | CR32: 5.3 | CS32: 6.9 | CT32: 5.9 | CV32: 5.9 | CW32: 5.6 | CX32: 6.1 | DA32: 6.5 | DB32: 7.4 | DC32: 6.4 | DE32: 5.5 | DF32: 6.5 | DG32: 6.2 | DI32: 7 | DM32: 5 | DO32: 6.13 | DP32: 5.3 | DQ32: 6.9 | DR32: 5.9 | DS32: 4.6 | DT32: 5.9 | DU32: 5.6 | DV32: 6.1 | DY32: 6.5 | DZ32: 7.4 | EA32: 6.4 | EC32: 5.5 | ED32: 6.5 | EE32: 6.2 | EF32: 2.6 | EG32: 7 | EK32: 5 | EM32: 5.87 | EN32: 5.3 | EO32: 6.9 | EP32: 5.9 | ER32: 5.9 | ES32: 5.6 | ET32: 6.1 | EW32: 6.5 | EX32: 7.4 | EY32: 6.4 | FA32: 5.5 | FB32: 6.5 | FC32: 6.2 | FE32: 7 | FI32: 5 | FK32: 6.13
A33: 23 | B33: 13D301Đ089 | C33: Nguyễn Hữu | D33: Nghĩa | F33: 0 | G33: 15 | H33: 6.3 | J33: 6.4 | L33: 5 | N33: 5.4 | P33: 6.5 | R33: 6.5 | T33: 5.8 | Z33: 5 | AB33: 5.2 | AD33: 5.9 | AF33: 7.6 | AJ33: 6.2 | AL33: 6.6 | AN33: 6 | AP33: 5.5 | AX33: 6.7 | BB33: 6.08 | BC33: 6.08 | BD33: 62.5 | BE33: TBKhá | BF33: TBKhá | BI33: 39 | BJ33: 39 | BK33: 0 | BL33: 39 | BM33: 0 | BN33: 6.08 | BO33: BT | BP33: 6.08 | BQ33: BT | BR33: SV năm 2 | BT33: 6.3 | BU33: 6.4 | BV33: 5 | BW33: 5.4 | BX33: 6.5 | BY33: 6.5 | BZ33: 5.8 | CC33: 5 | CD33: 5.2 | CE33: 5.9 | CF33: 7.6 | CH33: 6.2 | CI33: 6.6 | CJ33: 6 | CK33: 5.5 | CO33: 6.7 | CQ33: 6.08 | CR33: 6.3 | CS33: 6.4 | CT33: 5 | CU33: 5.4 | CV33: 6.5 | CW33: 6.5 | CX33: 5.8 | DA33: 5 | DB33: 5.2 | DC33: 5.9 | DD33: 7.6 | DF33: 6.2 | DG33: 6.6 | DH33: 6 | DI33: 5.5 | DM33: 6.7 | DO33: 6.08 | DP33: 6.3 | DQ33: 6.4 | DR33: 5 | DS33: 5.4 | DT33: 6.5 | DU33: 6.5 | DV33: 5.8 | DY33: 5 | DZ33: 5.2 | EA33: 5.9 | EB33: 7.6 | ED33: 6.2 | EE33: 6.6 | EF33: 6 | EG33: 5.5 | EK33: 6.7 | EM33: 6.08 | EN33: 6.3 | EO33: 6.4 | EP33: 5 | EQ33: 5.4 | ER33: 6.5 | ES33: 6.5 | ET33: 5.8 | EW33: 5 | EX33: 5.2 | EY33: 5.9 | EZ33: 7.6 | FB33: 6.2 | FC33: 6.6 | FD33: 6 | FE33: 5.5 | FI33: 6.7 | FK33: 6.08
A34: 24 | B34: 13D301Đ097 | C34: Nguyễn Thành | D34: Phát | F34: 0 | G34: 1 | H34: 5.7 | J34: 5 | L34: 6.4 | N34: 7 | P34: 5.6 | R34: 6.1 | T34: 7.4 | Z34: 5.3 | AB34: 5.4 | AF34: 8.2 | AH34: 7.2 | AJ34: 7.3 | AL34: 7.6 | AN34: 7.4 | AP34: 7.6 | AX34: 7.2 | BB34: 6.48 | BC34: 6.48 | BD34: 69 | BE34: TBKhá | BF34: TBKhá | BI34: 39 | BJ34: 39 | BK34: 0 | BL34: 39 | BM34: 0 | BN34: 6.48 | BO34: BT | BP34: 6.48 | BQ34: BT | BR34: SV năm 2 | BT34: 5.7 | BU34: 5 | BV34: 6.4 | BW34: 7 | BX34: 5.6 | BY34: 6.1 | BZ34: 7.4 | CC34: 5.3 | CD34: 5.4 | CF34: 8.2 | CG34: 7.2 | CH34: 7.3 | CI34: 7.6 | CJ34: 7.4 | CK34: 7.6 | CO34: 7.2 | CQ34: 6.48 | CR34: 5.7 | CS34: 5 | CT34: 6.4 | CU34: 7 | CV34: 5.6 | CW34: 6.1 | CX34: 7.4 | DA34: 5.3 | DB34: 5.4 | DD34: 8.2 | DE34: 7.2 | DF34: 7.3 | DG34: 7.6 | DH34: 7.4 | DI34: 7.6 | DM34: 7.2 | DO34: 6.48 | DP34: 5.7 | DQ34: 5 | DR34: 6.4 | DS34: 7 | DT34: 5.6 | DU34: 6.1 | DV34: 7.4 | DY34: 5.3 | DZ34: 5.4 | EB34: 8.2 | EC34: 7.2 | ED34: 7.3 | EE34: 7.6 | EF34: 7.4 | EG34: 7.6 | EK34: 7.2 | EM34: 6.48 | EN34: 5.7 | EO34: 5 | EP34: 6.4 | EQ34: 7 | ER34: 5.6 | ES34: 6.1 | ET34: 7.4 | EW34: 5.3 | EX34: 5.4 | EZ34: 8.2 | FA34: 7.2 | FB34: 7.3 | FC34: 7.6 | FD34: 7.4 | FE34: 7.6 | FI34: 7.2 | FK34: 6.48
A35: 25 | B35: 13D301Đ101 | C35: Huỳnh Thanh | D35: Phú | F35: 0 | G35: 19 | H35: 5 | J35: 3.7 | K35: 6.2 | L35: 4.2 | M35: 4.7 | N35: 4.5 | O35: 4.5 | P35: 5.8 | R35: 5.9 | T35: 5.1 | Z35: 5.2 | AB35: 4.1 | AF35: 5.1 | AH35: 4.5 | AI35: 4.9 | AJ35: 5.9 | AL35: 4.8 | AM35: 5.9 | AN35: 2 | AP35: 6.4 | AX35: 5.8 | BB35: 4.93 | BC35: 5.23 | BD35: 54.5 | BE35: Yếu | BF35: TB | BI35: 39 | BJ35: 23 | BK35: 16 | BL35: 28 | BM35: 11 | BN35: 5.6 | BO35: BT | BP35: 5.69 | BQ35: BT | BR35: SV năm 1 | BT35: 5 | BU35: 3.7 | BV35: 4.2 | BW35: 4.5 | BX35: 5.8 | BY35: 5.9 | BZ35: 5.1 | CC35: 5.2 | CD35: 4.1 | CF35: 5.1 | CG35: 4.5 | CH35: 5.9 | CI35: 4.8 | CJ35: 2 | CK35: 6.4 | CO35: 5.8 | CQ35: 4.93 | CR35: 5 | CV35: 5.8 | CW35: 5.9 | CX35: 5.1 | DA35: 5.2 | DD35: 5.1 | DF35: 5.9 | DI35: 6.4 | DM35: 5.8 | DO35: 5.6 | DP35: 5 | DQ35: 6.2 | DR35: 4.7 | DS35: 4.5 | DT35: 5.8 | DU35: 5.9 | DV35: 5.1 | DY35: 5.2 | DZ35: 4.1 | EB35: 5.1 | EC35: 4.9 | ED35: 5.9 | EE35: 5.9 | EF35: 2 | EG35: 6.4 | EK35: 5.8 | EM35: 5.23 | EN35: 5 | EO35: 6.2 | ER35: 5.8 | ES35: 5.9 | ET35: 5.1 | EW35: 5.2 | EZ35: 5.1 | FB35: 5.9 | FC35: 5.9 | FE35: 6.4 | FI35: 5.8 | FK35: 5.69
A36: 26 | B36: 13D301Đ113 | C36: Trần Xuân | D36: Sang | F36: 0 | G36: 68 | H36: 3.3 | J36: 5.5 | L36: 5 | N36: 3.3 | P36: 3.2 | R36: 5 | T36: 5 | Z36: 0 | AB36: 0.1 | AH36: 0 | AJ36: 0 | AL36: 0 | AN36: 0 | AP36: 0 | AX36: 0 | BB36: 2.38 | BC36: 2.38 | BD36: 46.5 | BE36: Kém | BF36: Kém | BH36: Cảnh Báo | BI36: 37 | BJ36: 12 | BK36: 25 | BL36: 12 | BM36: 25 | BN36: 5.13 | BO36: Y | BP36: 5.13 | BQ36: Y | BR36: SV năm 1 | BT36: 3.3 | BU36: 5.5 | BV36: 5 | BW36: 3.3 | BX36: 3.2 | BY36: 5 | BZ36: 5 | CC36: 0 | CD36: 0.1 | CG36: 0 | CH36: 0 | CI36: 0 | CJ36: 0 | CK36: 0 | CO36: 0 | CQ36: 2.38 | CS36: 5.5 | CT36: 5 | CW36: 5 | CX36: 5 | DO36: 5.13 | DP36: 3.3 | DQ36: 5.5 | DR36: 5 | DS36: 3.3 | DT36: 3.2 | DU36: 5 | DV36: 5 | DY36: 0 | DZ36: 0.1 | EC36: 0 | ED36: 0 | EE36: 0 | EF36: 0 | EG36: 0 | EK36: 0 | EM36: 2.38 | EO36: 5.5 | EP36: 5 | ES36: 5 | ET36: 5 | FK36: 5.13
A37: 27 | B37: 13D301Đ117 | C37: Trịnh Ngọc | D37: Sơn | F37: 0 | G37: 13 | H37: 4.4 | I37: 4.4 | J37: 6.7 | L37: 5 | N37: 5.5 | P37: 5.4 | R37: 5.1 | T37: 5.6 | Z37: 3.8 | AA37: 4.8 | AB37: 5.1 | AF37: 6.3 | AH37: 4.5 | AI37: 5.3 | AJ37: 5.9 | AL37: 6.1 | AN37: 5.3 | AP37: 6.6 | AX37: 7.5 | BB37: 5.5 | BC37: 5.59 | BD37: 52.5 | BE37: TB | BF37: TB | BI37: 39 | BJ37: 32 | BK37: 7 | BL37: 34 | BM37: 5 | BN37: 5.77 | BO37: BT | BP37: 5.74 | BQ37: BT | BR37: SV năm 1 | BT37: 4.4 | BU37: 6.7 | BV37: 5 | BW37: 5.5 | BX37: 5.4 | BY37: 5.1 | BZ37: 5.6 | CC37: 3.8 | CD37: 5.1 | CF37: 6.3 | CG37: 4.5 | CH37: 5.9 | CI37: 6.1 | CJ37: 5.3 | CK37: 6.6 | CO37: 7.5 | CQ37: 5.5 | CS37: 6.7 | CT37: 5 | CU37: 5.5 | CV37: 5.4 | CW37: 5.1 | CX37: 5.6 | DB37: 5.1 | DD37: 6.3 | DF37: 5.9 | DG37: 6.1 | DH37: 5.3 | DI37: 6.6 | DM37: 7.5 | DO37: 5.77 | DP37: 4.4 | DQ37: 6.7 | DR37: 5 | DS37: 5.5 | DT37: 5.4 | DU37: 5.1 | DV37: 5.6 | DY37: 4.8 | DZ37: 5.1 | EB37: 6.3 | EC37: 5.3 | ED37: 5.9 | EE37: 6.1 | EF37: 5.3 | EG37: 6.6 | EK37: 7.5 | EM37: 5.59 | EO37: 6.7 | EP37: 5 | EQ37: 5.5 | ER37: 5.4 | ES37: 5.1 | ET37: 5.6 | EX37: 5.1 | EZ37: 6.3 | FA37: 5.3 | FB37: 5.9 | FC37: 6.1 | FD37: 5.3 | FE37: 6.6 | FI37: 7.5 | FK37: 5.74
A38: 28 | B38: 13D301Đ121 | C38: Lê Minh | D38: Tâm | F38: 0 | G38: 16 | H38: 3.8 | I38: 4.7 | J38: 5.1 | L38: 5 | N38: 5.8 | P38: 6.4 | R38: 5.2 | T38: 5.8 | Z38: 2.9 | AA38: 4.6 | AB38: 5.2 | AD38: 4.1 | AE38: 5.7 | AF38: 6.6 | AJ38: 6 | AL38: 6.9 | AN38: 2.9 | AO38: 2.9 | AP38: 6 | AX38: 7.7 | BB38: 5.31 | BC38: 5.54 | BD38: 66 | BE38: TB | BF38: TB | BI38: 39 | BJ38: 30 | BK38: 9 | BL38: 32 | BM38: 7 | BN38: 5.86 | BO38: BT | BP38: 5.85 | BQ38: BT | BR38: SV năm 1 | BT38: 3.8 | BU38: 5.1 | BV38: 5 | BW38: 5.8 | BX38: 6.4 | BY38: 5.2 | BZ38: 5.8 | CC38: 2.9 | CD38: 5.2 | CE38: 4.1 | CF38: 6.6 | CH38: 6 | CI38: 6.9 | CJ38: 2.9 | CK38: 6 | CO38: 7.7 | CQ38: 5.31 | CS38: 5.1 | CT38: 5 | CU38: 5.8 | CV38: 6.4 | CW38: 5.2 | CX38: 5.8 | DB38: 5.2 | DD38: 6.6 | DF38: 6 | DG38: 6.9 | DI38: 6 | DM38: 7.7 | DO38: 5.86 | DP38: 4.7 | DQ38: 5.1 | DR38: 5 | DS38: 5.8 | DT38: 6.4 | DU38: 5.2 | DV38: 5.8 | DY38: 4.6 | DZ38: 5.2 | EA38: 5.7 | EB38: 6.6 | ED38: 6 | EE38: 6.9 | EF38: 2.9 | EG38: 6 | EK38: 7.7 | EM38: 5.54 | EO38: 5.1 | EP38: 5 | EQ38: 5.8 | ER38: 6.4 | ES38: 5.2 | ET38: 5.8 | EX38: 5.2 | EY38: 5.7 | EZ38: 6.6 | FB38: 6 | FC38: 6.9 | FE38: 6 | FI38: 7.7 | FK38: 5.85
A39: 29 | B39: 13D301Đ124 | C39: Cao Nguyễn Nhật | D39: Tân | F39: 0 | G39: 44 | H39: 5.2 | J39: 5.4 | L39: 4.8 | M39: 6.3 | N39: 7 | P39: 6.7 | R39: 4.2 | S39: 4.3 | T39: 5 | Z39: 3.1 | AA39: 4.8 | AB39: 5.3 | AD39: 6.2 | AF39: 7.8 | AJ39: 6.8 | AL39: 6.8 | AN39: 4.5 | AO39: 5.5 | AP39: 7.1 | AX39: 6.4 | BB39: 5.64 | BC39: 5.86 | BD39: 67.5 | BE39: TB | BF39: TB | BI39: 39 | BJ39: 28 | BK39: 11 | BL39: 32 | BM39: 7 | BN39: 6.21 | BO39: BT | BP39: 6.18 | BQ39: BT | BR39: SV năm 1 | BT39: 5.2 | BU39: 5.4 | BV39: 4.8 | BW39: 7 | BX39: 6.7 | BY39: 4.2 | BZ39: 5 | CC39: 3.1 | CD39: 5.3 | CE39: 6.2 | CF39: 7.8 | CH39: 6.8 | CI39: 6.8 | CJ39: 4.5 | CK39: 7.1 | CO39: 6.4 | CQ39: 5.64 | CR39: 5.2 | CS39: 5.4 | CU39: 7 | CV39: 6.7 | CX39: 5 | DB39: 5.3 | DC39: 6.2 | DD39: 7.8 | DF39: 6.8 | DG39: 6.8 | DI39: 7.1 | DM39: 6.4 | DO39: 6.21 | DP39: 5.2 | DQ39: 5.4 | DR39: 6.3 | DS39: 7 | DT39: 6.7 | DU39: 4.3 | DV39: 5 | DY39: 4.8 | DZ39: 5.3 | EA39: 6.2 | EB39: 7.8 | ED39: 6.8 | EE39: 6.8 | EF39: 5.5 | EG39: 7.1 | EK39: 6.4 | EM39: 5.86 | EN39: 5.2 | EO39: 5.4 | EP39: 6.3 | EQ39: 7 | ER39: 6.7 | ET39: 5 | EX39: 5.3 | EY39: 6.2 | EZ39: 7.8 | FB39: 6.8 | FC39: 6.8 | FD39: 5.5 | FE39: 7.1 | FI39: 6.4 | FK39: 6.18
A40: 30 | B40: 13D301Đ130 | C40: Nguyễn Việt | D40: Thắng | F40: 0 | G40: 8 | H40: 5.2 | J40: 4.4 | K40: 6.5 | L40: 5.6 | N40: 6 | P40: 5.4 | R40: 5 | T40: 6.2 | Z40: 4.7 | AA40: 6.1 | AB40: 5 | AF40: 7.3 | AH40: 5.6 | AJ40: 5.4 | AL40: 7.1 | AN40: 4.5 | AO40: 5.6 | AP40: 6.7 | AX40: 6.3 | BB40: 5.53 | BC40: 5.82 | BD40: 61.5 | BE40: TB | BF40: TB | BI40: 39 | BJ40: 32 | BK40: 7 | BL40: 39 | BM40: 0 | BN40: 5.76 | BO40: BT | BP40: 5.82 | BQ40: BT | BR40: SV năm 2 | BT40: 5.2 | BU40: 4.4 | BV40: 5.6 | BW40: 6 | BX40: 5.4 | BY40: 5 | BZ40: 6.2 | CC40: 4.7 | CD40: 5 | CF40: 7.3 | CG40: 5.6 | CH40: 5.4 | CI40: 7.1 | CJ40: 4.5 | CK40: 6.7 | CO40: 6.3 | CQ40: 5.53 | CR40: 5.2 | CT40: 5.6 | CU40: 6 | CV40: 5.4 | CW40: 5 | CX40: 6.2 | DB40: 5 | DD40: 7.3 | DE40: 5.6 | DF40: 5.4 | DG40: 7.1 | DI40: 6.7 | DM40: 6.3 | DO40: 5.76 | DP40: 5.2 | DQ40: 6.5 | DR40: 5.6 | DS40: 6 | DT40: 5.4 | DU40: 5 | DV40: 6.2 | DY40: 6.1 | DZ40: 5 | EB40: 7.3 | EC40: 5.6 | ED40: 5.4 | EE40: 7.1 | EF40: 5.6 | EG40: 6.7 | EK40: 6.3 | EM40: 5.82 | EN40: 5.2 | EO40: 6.5 | EP40: 5.6 | EQ40: 6 | ER40: 5.4 | ES40: 5 | ET40: 6.2 | EW40: 6.1 | EX40: 5 | EZ40: 7.3 | FA40: 5.6 | FB40: 5.4 | FC40: 7.1 | FD40: 5.6 | FE40: 6.7 | FI40: 6.3 | FK40: 5.82
A41: 31 | B41: 13D301Đ133 | C41: Nguyễn Khắc | D41: Thành | F41: 0 | G41: 0 | H41: 5.3 | J41: 7 | L41: 5 | N41: 5.6 | P41: 5.6 | R41: 6 | T41: 6.6 | Z41: 4.4 | AA41: 5.7 | AB41: 4.7 | AC41: 4.7 | AF41: 6.5 | AH41: 3.5 | AI41: 5.8 | AJ41: 6.5 | AL41: 5.7 | AN41: 5.1 | AP41: 4.9 | AQ41: 5.9 | AX41: 5.6 | BB41: 5.55 | BC41: 5.79 | BD41: 58.5 | BE41: TB | BF41: TB | BI41: 39 | BJ41: 30 | BK41: 9 | BL41: 36 | BM41: 3 | BN41: 5.9 | BO41: BT | BP41: 5.88 | BQ41: BT | BR41: SV năm 2 | BT41: 5.3 | BU41: 7 | BV41: 5 | BW41: 5.6 | BX41: 5.6 | BY41: 6 | BZ41: 6.6 | CC41: 4.4 | CD41: 4.7 | CF41: 6.5 | CG41: 3.5 | CH41: 6.5 | CI41: 5.7 | CJ41: 5.1 | CK41: 4.9 | CO41: 5.6 | CQ41: 5.55 | CR41: 5.3 | CS41: 7 | CT41: 5 | CU41: 5.6 | CV41: 5.6 | CW41: 6 | CX41: 6.6 | DD41: 6.5 | DF41: 6.5 | DG41: 5.7 | DH41: 5.1 | DM41: 5.6 | DO41: 5.9 | DP41: 5.3 | DQ41: 7 | DR41: 5 | DS41: 5.6 | DT41: 5.6 | DU41: 6 | DV41: 6.6 | DY41: 5.7 | DZ41: 4.7 | EB41: 6.5 | EC41: 5.8 | ED41: 6.5 | EE41: 5.7 | EF41: 5.1 | EG41: 5.9 | EK41: 5.6 | EM41: 5.79 | EN41: 5.3 | EO41: 7 | EP41: 5 | EQ41: 5.6 | ER41: 5.6 | ES41: 6 | ET41: 6.6 | EW41: 5.7 | EZ41: 6.5 | FA41: 5.8 | FB41: 6.5 | FC41: 5.7 | FD41: 5.1 | FE41: 5.9 | FI41: 5.6 | FK41: 5.88
A42: 32 | B42: 13D301Đ136 | C42: Trần Minh | D42: Thanh | F42: 0 | G42: 0 | H42: 8.7 | J42: 7.9 | L42: 7 | N42: 7.3 | P42: 6.6 | R42: 7.4 | T42: 9.1 | Z42: 7.8 | AB42: 4.7 | AF42: 8.7 | AH42: 8.1 | AJ42: 8.1 | AL42: 8.5 | AN42: 8.6 | AP42: 7.2 | AX42: 8.3 | BB42: 7.64 | BC42: 7.64 | BD42: 80.5 | BE42: Khá | BF42: Khá | BI42: 39 | BJ42: 36 | BK42: 3 | BL42: 36 | BM42: 3 | BN42: 7.89 | BO42: BT | BP42: 7.89 | BQ42: BT | BR42: SV năm 2 | BT42: 8.7 | BU42: 7.9 | BV42: 7 | BW42: 7.3 | BX42: 6.6 | BY42: 7.4 | BZ42: 9.1 | CC42: 7.8 | CD42: 4.7 | CF42: 8.7 | CG42: 8.1 | CH42: 8.1 | CI42: 8.5 | CJ42: 8.6 | CK42: 7.2 | CO42: 8.3 | CQ42: 7.64 | CR42: 8.7 | CS42: 7.9 | CT42: 7 | CU42: 7.3 | CV42: 6.6 | CW42: 7.4 | CX42: 9.1 | DA42: 7.8 | DD42: 8.7 | DE42: 8.1 | DF42: 8.1 | DG42: 8.5 | DH42: 8.6 | DI42: 7.2 | DM42: 8.3 | DO42: 7.89 | DP42: 8.7 | DQ42: 7.9 | DR42: 7 | DS42: 7.3 | DT42: 6.6 | DU42: 7.4 | DV42: 9.1 | DY42: 7.8 | DZ42: 4.7 | EB42: 8.7 | EC42: 8.1 | ED42: 8.1 | EE42: 8.5 | EF42: 8.6 | EG42: 7.2 | EK42: 8.3 | EM42: 7.64 | EN42: 8.7 | EO42: 7.9 | EP42: 7 | EQ42: 7.3 | ER42: 6.6 | ES42: 7.4 | ET42: 9.1 | EW42: 7.8 | EZ42: 8.7 | FA42: 8.1 | FB42: 8.1 | FC42: 8.5 | FD42: 8.6 | FE42: 7.2 | FI42: 8.3 | FK42: 7.89
A43: 33 | B43: 13D301Đ169 | C43: Nguyễn Thanh | D43: Thảo | F43: 0 | G43: 22 | H43: 5.5 | J43: 4.5 | K43: 4.7 | L43: 4.2 | M43: 6.5 | N43: 4.4 | O43: 4.5 | P43: 4.7 | Q43: 4.7 | R43: 4.5 | S43: 4.5 | T43: 6.4 | Z43: 3.7 | AA43: 3.7 | AB43: 5.1 | AF43: 4.6 | AG43: 6.6 | AH43: 3.7 | AI43: 5.2 | AJ43: 6.3 | AL43: 7.6 | AN43: 2.8 | AP43: 7 | AX43: 6.6 | BB43: 5.04 | BC43: 5.36 | BD43: 51 | BE43: TB | BF43: TB | BI43: 39 | BJ43: 16 | BK43: 23 | BL43: 22 | BM43: 17 | BN43: 6.23 | BO43: BT | BP43: 6.19 | BQ43: BT | BR43: SV năm 1 | BT43: 5.5 | BU43: 4.5 | BV43: 4.2 | BW43: 4.4 | BX43: 4.7 | BY43: 4.5 | BZ43: 6.4 | CC43: 3.7 | CD43: 5.1 | CF43: 4.6 | CG43: 3.7 | CH43: 6.3 | CI43: 7.6 | CJ43: 2.8 | CK43: 7 | CO43: 6.6 | CQ43: 5.04 | CR43: 5.5 | CX43: 6.4 | DB43: 5.1 | DF43: 6.3 | DG43: 7.6 | DI43: 7 | DM43: 6.6 | DO43: 6.23 | DP43: 5.5 | DQ43: 4.7 | DR43: 6.5 | DS43: 4.5 | DT43: 4.7 | DU43: 4.5 | DV43: 6.4 | DY43: 3.7 | DZ43: 5.1 | EB43: 6.6 | EC43: 5.2 | ED43: 6.3 | EE43: 7.6 | EF43: 2.8 | EG43: 7 | EK43: 6.6 | EM43: 5.36 | EN43: 5.5 | EP43: 6.5 | ET43: 6.4 | EX43: 5.1 | EZ43: 6.6 | FA43: 5.2 | FB43: 6.3 | FC43: 7.6 | FE43: 7 | FI43: 6.6 | FK43: 6.19
A44: 34 | B44: 13D301Đ142 | C44: Lê Phúc | D44: Thịnh | F44: 1 | G44: 39 | H44: 4.3 | I44: 5.5 | J44: 5.5 | L44: 5.1 | N44: 4.9 | O44: 6.3 | P44: 6 | R44: 5.9 | T44: 6.9 | Z44: 7.4 | AB44: 5.1 | AD44: 6.6 | AH44: 6.4 | AJ44: 5.4 | AL44: 6.9 | AN44: 5.8 | AP44: 7.4 | AX44: 5.8 | BB44: 5.88 | BC44: 6.05 | BD44: 59 | BE44: TB | BF44: TBKhá | BI44: 39 | BJ44: 34 | BK44: 5 | BL44: 39 | BM44: 0 | BN44: 6.08 | BO44: BT | BP44: 6.05 | BQ44: BT | BR44: SV năm 2 | BT44: 4.3 | BU44: 5.5 | BV44: 5.1 | BW44: 4.9 | BX44: 6 | BY44: 5.9 | BZ44: 6.9 | CC44: 7.4 | CD44: 5.1 | CE44: 6.6 | CG44: 6.4 | CH44: 5.4 | CI44: 6.9 | CJ44: 5.8 | CK44: 7.4 | CO44: 5.8 | CQ44: 5.88 | CS44: 5.5 | CT44: 5.1 | CV44: 6 | CW44: 5.9 | CX44: 6.9 | DA44: 7.4 | DB44: 5.1 | DC44: 6.6 | DE44: 6.4 | DF44: 5.4 | DG44: 6.9 | DH44: 5.8 | DI44: 7.4 | DM44: 5.8 | DO44: 6.08 | DP44: 5.5 | DQ44: 5.5 | DR44: 5.1 | DS44: 6.3 | DT44: 6 | DU44: 5.9 | DV44: 6.9 | DY44: 7.4 | DZ44: 5.1 | EA44: 6.6 | EC44: 6.4 | ED44: 5.4 | EE44: 6.9 | EF44: 5.8 | EG44: 7.4 | EK44: 5.8 | EM44: 6.05 | EN44: 5.5 | EO44: 5.5 | EP44: 5.1 | EQ44: 6.3 | ER44: 6 | ES44: 5.9 | ET44: 6.9 | EW44: 7.4 | EX44: 5.1 | EY44: 6.6 | FA44: 6.4 | FB44: 5.4 | FC44: 6.9 | FD44: 5.8 | FE44: 7.4 | FI44: 5.8 | FK44: 6.05
A45: 35 | B45: 13D301Đ145 | C45: Nguyễn Hữu | D45: Thuận | F45: 0 | G45: 44 | H45: 2.2 | I45: 5.1 | J45: 5.2 | L45: 3.9 | M45: 5.4 | N45: 4.3 | P45: 5.7 | R45: 6.9 | T45: 6.4 | Z45: 3.2 | AB45: 3.5 | AD45: 6.2 | AF45: 5.7 | AJ45: 6.4 | AL45: 6.2 | AN45: 0.8 | AP45: 7.6 | AX45: 1.1 | BB45: 4.82 | BC45: 5.12 | BD45: 53 | BE45: Yếu | BF45: TB | BI45: 39 | BJ45: 23 | BK45: 16 | BL45: 28 | BM45: 11 | BN45: 6.27 | BO45: BT | BP45: 6.08 | BQ45: BT | BR45: SV năm 1 | BT45: 2.2 | BU45: 5.2 | BV45: 3.9 | BW45: 4.3 | BX45: 5.7 | BY45: 6.9 | BZ45: 6.4 | CC45: 3.2 | CD45: 3.5 | CE45: 6.2 | CF45: 5.7 | CH45: 6.4 | CI45: 6.2 | CJ45: 0.8 | CK45: 7.6 | CO45: 1.1 | CQ45: 4.82 | CS45: 5.2 | CV45: 5.7 | CW45: 6.9 | CX45: 6.4 | DC45: 6.2 | DD45: 5.7 | DF45: 6.4 | DG45: 6.2 | DI45: 7.6 | DO45: 6.27 | DP45: 5.1 | DQ45: 5.2 | DR45: 5.4 | DS45: 4.3 | DT45: 5.7 | DU45: 6.9 | DV45: 6.4 | DY45: 3.2 | DZ45: 3.5 | EA45: 6.2 | EB45: 5.7 | ED45: 6.4 | EE45: 6.2 | EF45: 0.8 | EG45: 7.6 | EK45: 1.1 | EM45: 5.12 | EN45: 5.1 | EO45: 5.2 | EP45: 5.4 | ER45: 5.7 | ES45: 6.9 | ET45: 6.4 | EY45: 6.2 | EZ45: 5.7 | FB45: 6.4 | FC45: 6.2 | FE45: 7.6 | FK45: 6.08
A46: 36 | B46: 13D301Đ154 | C46: Võ Đức | D46: Trí | F46: 0 | G46: 18 | H46: 3.8 | I46: 4.4 | J46: 5.6 | L46: 5.2 | N46: 3.7 | O46: 4.1 | P46: 5.6 | R46: 5.7 | T46: 4.5 | U46: 5.8 | Z46: 3.5 | AA46: 3.5 | AB46: 4.4 | AC46: 4.4 | AD46: 4.3 | AE46: 4.5 | AF46: 6.7 | AJ46: 6 | AL46: 5.8 | AN46: 3.6 | AO46: 3.7 | AP46: 5.9 | AX46: 6.9 | BB46: 5.1 | BC46: 5.25 | BD46: 62.5 | BE46: TB | BF46: TB | BI46: 39 | BJ46: 23 | BK46: 16 | BL46: 25 | BM46: 14 | BN46: 5.87 | BO46: BT | BP46: 5.87 | BQ46: BT | BR46: SV năm 1 | BT46: 3.8 | BU46: 5.6 | BV46: 5.2 | BW46: 3.7 | BX46: 5.6 | BY46: 5.7 | BZ46: 4.5 | CC46: 3.5 | CD46: 4.4 | CE46: 4.3 | CF46: 6.7 | CH46: 6 | CI46: 5.8 | CJ46: 3.6 | CK46: 5.9 | CO46: 6.9 | CQ46: 5.1 | CS46: 5.6 | CT46: 5.2 | CV46: 5.6 | CW46: 5.7 | DD46: 6.7 | DF46: 6 | DG46: 5.8 | DI46: 5.9 | DM46: 6.9 | DO46: 5.87 | DP46: 4.4 | DQ46: 5.6 | DR46: 5.2 | DS46: 4.1 | DT46: 5.6 | DU46: 5.7 | DV46: 5.8 | DY46: 3.5 | DZ46: 4.4 | EA46: 4.5 | EB46: 6.7 | ED46: 6 | EE46: 5.8 | EF46: 3.7 | EG46: 5.9 | EK46: 6.9 | EM46: 5.25 | EO46: 5.6 | EP46: 5.2 | ER46: 5.6 | ES46: 5.7 | ET46: 5.8 | EZ46: 6.7 | FB46: 6 | FC46: 5.8 | FE46: 5.9 | FI46: 6.9 | FK46: 5.87
A47: 37 | B47: 13D301Đ157 | C47: Phan Văn | D47: Trọng | F47: 0 | G47: 59 | H47: 2.2 | J47: 4.5 | L47: 2.3 | N47: 4.2 | P47: 2.7 | R47: 1.8 | T47: 3.4 | Z47: 0 | AB47: 0 | AH47: 0 | AJ47: 0 | AL47: 0 | AN47: 0 | AP47: 0 | AX47: 0 | BB47: 1.54 | BC47: 1.54 | BD47: 44.5 | BE47: Kém | BF47: Kém | BH47: Cảnh Báo | BI47: 37 | BJ47: 0 | BK47: 37 | BL47: 0 | BM47: 37 | BN47: 0 | BO47: Y | BP47: 0 | BQ47: Y | BR47: SV năm 1 | BT47: 2.2 | BU47: 4.5 | BV47: 2.3 | BW47: 4.2 | BX47: 2.7 | BY47: 1.8 | BZ47: 3.4 | CC47: 0 | CD47: 0 | CG47: 0 | CH47: 0 | CI47: 0 | CJ47: 0 | CK47: 0 | CO47: 0 | CQ47: 1.54 | DO47: 0 | DP47: 2.2 | DQ47: 4.5 | DR47: 2.3 | DS47: 4.2 | DT47: 2.7 | DU47: 1.8 | DV47: 3.4 | DY47: 0 | DZ47: 0 | EC47: 0 | ED47: 0 | EE47: 0 | EF47: 0 | EG47: 0 | EK47: 0 | EM47: 1.54 | FK47: 0
A48: 38 | B48: 13D301Đ160 | C48: Nguyễn Bá | D48: Trung | F48: 0 | G48: 12 | H48: 5 | J48: 6.4 | L48: 5.6 | N48: 5.6 | P48: 4.1 | Q48: 5.9 | R48: 6.5 | T48: 4.4 | U48: 5.2 | Z48: 5.8 | AB48: 5.2 | AF48: 8.3 | AH48: 4.7 | AI48: 6.4 | AJ48: 6.4 | AL48: 6.1 | AN48: 3.8 | AP48: 8 | AX48: 6.9 | BB48: 5.79 | BC48: 6.06 | BD48: 60.5 | BE48: TB | BF48: TBKhá | BI48: 39 | BJ48: 30 | BK48: 9 | BL48: 37 | BM48: 2 | BN48: 6.26 | BO48: BT | BP48: 6.18 | BQ48: BT | BR48: SV năm 2 | BT48: 5 | BU48: 6.4 | BV48: 5.6 | BW48: 5.6 | BX48: 4.1 | BY48: 6.5 | BZ48: 4.4 | CC48: 5.8 | CD48: 5.2 | CF48: 8.3 | CG48: 4.7 | CH48: 6.4 | CI48: 6.1 | CJ48: 3.8 | CK48: 8 | CO48: 6.9 | CQ48: 5.79 | CR48: 5 | CS48: 6.4 | CT48: 5.6 | CU48: 5.6 | CW48: 6.5 | DA48: 5.8 | DB48: 5.2 | DD48: 8.3 | DF48: 6.4 | DG48: 6.1 | DI48: 8 | DM48: 6.9 | DO48: 6.26 | DP48: 5 | DQ48: 6.4 | DR48: 5.6 | DS48: 5.6 | DT48: 5.9 | DU48: 6.5 | DV48: 5.2 | DY48: 5.8 | DZ48: 5.2 | EB48: 8.3 | EC48: 6.4 | ED48: 6.4 | EE48: 6.1 | EF48: 3.8 | EG48: 8 | EK48: 6.9 | EM48: 6.06 | EN48: 5 | EO48: 6.4 | EP48: 5.6 | EQ48: 5.6 | ER48: 5.9 | ES48: 6.5 | ET48: 5.2 | EW48: 5.8 | EX48: 5.2 | EZ48: 8.3 | FA48: 6.4 | FB48: 6.4 | FC48: 6.1 | FE48: 8 | FI48: 6.9 | FK48: 6.18
A49: 39 | B49: 13D301Đ163 | C49: Mai Ngọc | D49: Trước | F49: 0 | G49: 5 | H49: 5 | J49: 6.7 | L49: 6.6 | N49: 6.5 | P49: 6.4 | R49: 8.1 | T49: 6.5 | Z49: 5.2 | AB49: 5.3 | AD49: 6.7 | AF49: 7.7 | AJ49: 6.4 | AL49: 7 | AN49: 6.2 | AP49: 7.3 | AX49: 7.1 | BB49: 6.59 | BC49: 6.59 | BD49: 64.5 | BE49: TBKhá | BF49: TBKhá | BI49: 39 | BJ49: 39 | BK49: 0 | BL49: 39 | BM49: 0 | BN49: 6.59 | BO49: BT | BP49: 6.59 | BQ49: BT | BR49: SV năm 2 | BT49: 5 | BU49: 6.7 | BV49: 6.6 | BW49: 6.5 | BX49: 6.4 | BY49: 8.1 | BZ49: 6.5 | CC49: 5.2 | CD49: 5.3 | CE49: 6.7 | CF49: 7.7 | CH49: 6.4 | CI49: 7 | CJ49: 6.2 | CK49: 7.3 | CO49: 7.1 | CQ49: 6.59 | CR49: 5 | CS49: 6.7 | CT49: 6.6 | CU49: 6.5 | CV49: 6.4 | CW49: 8.1 | CX49: 6.5 | DA49: 5.2 | DB49: 5.3 | DC49: 6.7 | DD49: 7.7 | DF49: 6.4 | DG49: 7 | DH49: 6.2 | DI49: 7.3 | DM49: 7.1 | DO49: 6.59 | DP49: 5 | DQ49: 6.7 | DR49: 6.6 | DS49: 6.5 | DT49: 6.4 | DU49: 8.1 | DV49: 6.5 | DY49: 5.2 | DZ49: 5.3 | EA49: 6.7 | EB49: 7.7 | ED49: 6.4 | EE49: 7 | EF49: 6.2 | EG49: 7.3 | EK49: 7.1 | EM49: 6.59 | EN49: 5 | EO49: 6.7 | EP49: 6.6 | EQ49: 6.5 | ER49: 6.4 | ES49: 8.1 | ET49: 6.5 | EW49: 5.2 | EX49: 5.3 | EY49: 6.7 | EZ49: 7.7 | FB49: 6.4 | FC49: 7 | FD49: 6.2 | FE49: 7.3 | FI49: 7.1 | FK49: 6.59
A50: 40 | B50: 13D301Đ166 | C50: Nguyễn Văn | D50: Tư | F50: 0 | G50: 65 | H50: 5.2 | J50: 5.5 | L50: 5.8 | N50: 3.2 | O50: 3.2 | P50: 2.9 | Q50: 2.9 | R50: 7.5 | T50: 6.2 | Z50: 4.4 | AA50: 5.9 | AB50: 3.4 | AD50: 5.8 | AF50: 7.7 | AJ50: 6.1 | AL50: 5.8 | AN50: 5 | AP50: 7.5 | AX50: 7.1 | BB50: 5.58 | BC50: 5.66 | BD50: 43.5 | BE50: TB | BF50: TB | BI50: 39 | BJ50: 29 | BK50: 10 | BL50: 31 | BM50: 8 | BN50: 6.33 | BO50: BT | BP50: 6.3 | BQ50: BT | BR50: SV năm 1 | BT50: 5.2 | BU50: 5.5 | BV50: 5.8 | BW50: 3.2 | BX50: 2.9 | BY50: 7.5 | BZ50: 6.2 | CC50: 4.4 | CD50: 3.4 | CE50: 5.8 | CF50: 7.7 | CH50: 6.1 | CI50: 5.8 | CJ50: 5 | CK50: 7.5 | CO50: 7.1 | CQ50: 5.58 | CR50: 5.2 | CS50: 5.5 | CT50: 5.8 | CW50: 7.5 | CX50: 6.2 | DC50: 5.8 | DD50: 7.7 | DF50: 6.1 | DG50: 5.8 | DH50: 5 | DI50: 7.5 | DM50: 7.1 | DO50: 6.33 | DP50: 5.2 | DQ50: 5.5 | DR50: 5.8 | DS50: 3.2 | DT50: 2.9 | DU50: 7.5 | DV50: 6.2 | DY50: 5.9 | DZ50: 3.4 | EA50: 5.8 | EB50: 7.7 | ED50: 6.1 | EE50: 5.8 | EF50: 5 | EG50: 7.5 | EK50: 7.1 | EM50: 5.66 | EN50: 5.2 | EO50: 5.5 | EP50: 5.8 | ES50: 7.5 | ET50: 6.2 | EW50: 5.9 | EY50: 5.8 | EZ50: 7.7 | FB50: 6.1 | FC50: 5.8 | FD50: 5 | FE50: 7.5 | FI50: 7.1 | FK50: 6.3
A51: 41 | B51: 13D301Đ175 | C51: Châu Hữu | D51: Vinh | F51: 1 | G51: 63 | H51: 1.3 | J51: 3.7 | L51: 3.4 | N51: 2.2 | P51: 5.4 | R51: 3.9 | T51: 3.5 | Z51: 0 | AB51: 0 | AJ51: 0 | AL51: 0 | AN51: 0 | AP51: 0 | AX51: 0 | BB51: 1.97 | BC51: 1.97 | BD51: 37.5 | BE51: Kém | BF51: Kém | BH51: Cảnh Báo | BI51: 35 | BJ51: 3 | BK51: 32 | BL51: 3 | BM51: 32 | BN51: 5.4 | BO51: Y | BP51: 5.4 | BQ51: Y | BR51: SV năm 1 | BT51: 1.3 | BU51: 3.7 | BV51: 3.4 | BW51: 2.2 | BX51: 5.4 | BY51: 3.9 | BZ51: 3.5 | CC51: 0 | CD51: 0 | CH51: 0 | CI51: 0 | CJ51: 0 | CK51: 0 | CO51: 0 | CQ51: 1.97 | CV51: 5.4 | DO51: 5.4 | DP51: 1.3 | DQ51: 3.7 | DR51: 3.4 | DS51: 2.2 | DT51: 5.4 | DU51: 3.9 | DV51: 3.5 | DY51: 0 | DZ51: 0 | ED51: 0 | EE51: 0 | EF51: 0 | EG51: 0 | EK51: 0 | EM51: 1.97 | ER51: 5.4 | FK51: 5.4
A52: 42 | B52: 13D301Đ178 | C52: Lê Văn | D52: Vũ | F52: 2 | G52: 47 | H52: 6.2 | J52: 5.9 | L52: 5.1 | N52: 4.8 | O52: 4.8 | P52: 5.5 | R52: 5.7 | T52: 6.2 | Z52: 7 | AB52: 5.5 | AD52: 6.9 | AF52: 7.6 | AJ52: 6.7 | AL52: 7 | AN52: 5 | AP52: 7 | AX52: 5.7 | BB52: 6.05 | BC52: 6.05 | BD52: 53 | BE52: TBKhá | BF52: TBKhá | BI52: 39 | BJ52: 37 | BK52: 2 | BL52: 37 | BM52: 2 | BN52: 6.11 | BO52: BT | BP52: 6.11 | BQ52: BT | BR52: SV năm 2 | BT52: 6.2 | BU52: 5.9 | BV52: 5.1 | BW52: 4.8 | BX52: 5.5 | BY52: 5.7 | BZ52: 6.2 | CC52: 7 | CD52: 5.5 | CE52: 6.9 | CF52: 7.6 | CH52: 6.7 | CI52: 7 | CJ52: 5 | CK52: 7 | CO52: 5.7 | CQ52: 6.05 | CR52: 6.2 | CS52: 5.9 | CT52: 5.1 | CV52: 5.5 | CW52: 5.7 | CX52: 6.2 | DA52: 7 | DB52: 5.5 | DC52: 6.9 | DD52: 7.6 | DF52: 6.7 | DG52: 7 | DH52: 5 | DI52: 7 | DM52: 5.7 | DO52: 6.11 | DP52: 6.2 | DQ52: 5.9 | DR52: 5.1 | DS52: 4.8 | DT52: 5.5 | DU52: 5.7 | DV52: 6.2 | DY52: 7 | DZ52: 5.5 | EA52: 6.9 | EB52: 7.6 | ED52: 6.7 | EE52: 7 | EF52: 5 | EG52: 7 | EK52: 5.7 | EM52: 6.05 | EN52: 6.2 | EO52: 5.9 | EP52: 5.1 | ER52: 5.5 | ES52: 5.7 | ET52: 6.2 | EW52: 7 | EX52: 5.5 | EY52: 6.9 | EZ52: 7.6 | FB52: 6.7 | FC52: 7 | FD52: 5 | FE52: 7 | FI52: 5.7 | FK52: 6.11
A88: THỐNG KÊ KẾT QUẢ HỌC TẬP (căn cứ vào điểm trung bình chung học tập sau kỳ thi chính) | H88: SL 42 SV | J88: % | L88: Ngày tháng năm 201 | AG88: Ngày tháng năm 201 | BG88: Ngày tháng năm 201
L89: HIỆU TRƯỞNG | AG89: TRƯỞNG KHOA | BG89: CỐ VẤN HỌC TẬP
B90: Loại Xuất sắc | D90: (9 đến 10) | H90: 0/42 | J90: 0 %
B91: Loại Giỏi | D91: (8 đến cận 9) | H91: 0/42 | J91: 0 %
B92: Loại Khá | D92: (7 đến cận 8) | H92: 2/42 | J92: 4.76 %
B93: Loại Trung bình | D93: (5,5 đến cận 7) | H93: 20/42 | J93: 47.62 %
B94: Loại Trung bình yếu | D94: (4 đến cận 5,5) | H94: 16/42 | J94: 38.1 %
B95: Loại Kém | D95: (< 4) | H95: 3/42 | J95: 7.14 %
B96: Chưa đủ dữ liệu để xếp loại | H96: 0 SV | J96: 0 %
A98: THỐNG KÊ KẾT QUẢ HỌC TẬP (căn cứ vào điểm trung bình chung học tập sau kỳ thi phụ) | H98: SL 42 SV | J98: %
B99: Loại Xuất sắc | D99: (9 đến 10) | H99: 0/42 | J99: 0 %
B100: Loại Giỏi | D100: (8 đến cận 9) | H100: 0/42 | J100: 0 %
B101: Loại Khá | D101: (7 đến cận 8) | H101: 2/42 | J101: 4.76 %
B102: Loại Trung bình | D102: (5,5 đến cận 7) | H102: 25/42 | J102: 59.52 %
B103: Loại Trung bình yếu | D103: (4 đến cận 5,5) | H103: 11/42 | J103: 26.19 %
B104: Loại Kém | D104: (< 4) | H104: 3/42 | J104: 7.14 %
B105: Chưa đủ dữ liệu để xếp loại | H105: 0 SV | J105: 0 %
B108: TỔNG KẾT CHUNG | D108: SL | E108: %
B109: Số sinh viên năm thứ 3 | D109: =COUNTIF($BR$11:$BR$85,"SV năm 3") -> 0 | E109: =ROUND(100*(COUNTIF($BR$11:$BR$85,"SV năm 3")/MAX($A$11:$A$85)),2)&" %" -> 0 %
B110: Số sinh viên năm thứ 2 | D110: =COUNTIF($BR$11:$BR$85,"SV năm 2") -> 18 | E110: =ROUND(100*(COUNTIF($BR$11:$BR$85,"SV năm 2")/MAX($A$11:$A$85)),2)&" %" -> 42.86 %
B111: Số sinh viên năm thứ 1 | D111: =COUNTIF($BR$11:$BR$85,"SV năm 1") -> 24 | E111: =ROUND(100*(COUNTIF($BR$11:$BR$85,"SV năm 1")/MAX($A$11:$A$85)),2)&" %" -> 57.14 %
B112: Hạng học lực YẾU HK1 | D112: =COUNTIF([11]HKI!$BF$11:$BF$75,"Y") -> #VALUE! | E112: =ROUND(100*COUNTIF([11]HKI!$BF$6:$BF$76,"Y")/MAX($A$11:$A$85),2)&" %" -> #VALUE!
B113: Hạng học lực YẾU HK2 | D113: =COUNTIF([11]HKII!$BZ$11:$BZ$75,"Y") -> #VALUE! | E113: =ROUND((100*COUNTIF([11]HKII!$BZ$11:$BZ$75,"Y"))/MAX($A$11:$A$85),2)&" %" -> #VALUE!
B114: Hạng học lực YẾU cả năm | D114: =COUNTIF($BQ$11:$BQ$75,"Y") -> 5 | E114: =ROUND((100*COUNTIF($BQ$11:$BQ$75,"Y"))/MAX($A$11:$A$85),2)&" %" -> 11.9 %

Sheet TICH LUY
B4: 1 | C4: 2 | D4: 3 | E4: 4 | F4: 5 | G4: 6 | H4: 7 | I4: 8 | J4: 9 | K4: 10 | L4: 11 | M4: 12 | N4: 13 | O4: 14 | P4: 15 | Q4: 16 | R4: 17 | S4: 18 | T4: 19 | U4: 20 | V4: 21 | W4: 22 | X4: 23 | Y4: 24 | Z4: 25 | AA4: 26 | AB4: 27 | AC4: 28 | AD4: 29 | AE4: 30 | AF4: 31 | AG4: 32 | AH4: 33 | AI4: 34 | AJ4: 35 | AK4: 36 | AL4: 37 | AM4: 38 | AN4: 39 | AO4: 40 | AP4: 41 | AQ4: 42 | AR4: 43 | AS4: 44 | AT4: 45 | AU4: 46 | AV4: 47 | AW4: 48 | AX4: 49 | AY4: 50 | AZ4: 51 | BA4: 52 | BB4: 53 | BC4: 54 | BD4: 55 | BE4: 56 | BF4: 57 | BG4: 58 | BH4: 59 | BI4: 60 | BJ4: 61 | BK4: 62 | BL4: 63 | BM4: 64 | BN4: 65 | BO4: 66 | BP4: 67 | BQ4: 68 | BR4: 69 | BS4: 70 | BT4: 71 | BU4: 72 | BV4: 73 | BW4: 74 | BX4: 75 | BY4: 76
BC5: Điểm tích luỹ năm 2013-2014
A6: Số thứ tự | G6: ='NH13-14'!$H6 -> Toán cao cấp 1 | H6: ='NH13-14'!$J6 -> Vật lý đại cương 1 | I6: ='NH13-14'!$L6 -> Hóa học đại cương 1 | J6: ='NH13-14'!$N6 -> Pháp luật đại cương | K6: ='NH13-14'!$P6 -> Nhập môn Tin học | L6: ='NH13-14'!$R6 -> Đo lường và mạch điện | M6: ='NH13-14'!$T6 -> Mạng cung cấp điện | N6: ='NH13-14'!$V6 | O6: ='NH13-14'!$X6 | P6: ='NH13-14'!$Z6 -> Toán cao cấp 2 | Q6: ='NH13-14'!$AB6 -> Anh văn 1 | R6: ='NH13-14'!$AD6 -> Xác suất thống kê | S6: ='NH13-14'!$AF6 -> Vật lý đại cương 2 | T6: ='NH13-14'!$AH6 -> Hoá học đại cương 2 | U6: ='NH13-14'!$AJ6 -> Kỹ năng giao tiếp | V6: ='NH13-14'!$AL6 -> Những NLCB của CNMLN 1 | W6: ='NH13-14'!$AN6 -> Điện tử cơ bản | X6: ='NH13-14'!$AP6 -> An toàn điện | Y6: ='NH13-14'!$AR6 | Z6: ='NH13-14'!$AT6 | AA6: ='NH13-14'!$AV6 | AB6: ='NH13-14'!$AX6 -> Thực tập Điện cơ bản | AC6: ='NH13-14'!$AZ6 | AD6: ĐIỂM SỐ | AE6: ='NH13-14'!$H6 -> Toán cao cấp 1 | AF6: ='NH13-14'!$J6 -> Vật lý đại cương 1 | AG6: ='NH13-14'!$L6 -> Hóa học đại cương 1 | AH6: ='NH13-14'!$N6 -> Pháp luật đại cương | AI6: ='NH13-14'!$P6 -> Nhập môn Tin học | AJ6: ='NH13-14'!$R6 -> Đo lường và mạch điện | AK6: ='NH13-14'!$T6 -> Mạng cung cấp điện | AL6: ='NH13-14'!$V6 | AM6: ='NH13-14'!$X6 | AN6: ='NH13-14'!$Z6 -> Toán cao cấp 2 | AO6: ='NH13-14'!$AB6 -> Anh văn 1 | AP6: ='NH13-14'!$AD6 -> Xác suất thống kê | AQ6: ='NH13-14'!$AF6 -> Vật lý đại cương 2 | AR6: ='NH13-14'!$AH6 -> Hoá học đại cương 2 | AS6: ='NH13-14'!$AJ6 -> Kỹ năng giao tiếp | AT6: ='NH13-14'!$AL6 -> Những NLCB của CNMLN 1 | AU6: ='NH13-14'!$AN6 -> Điện tử cơ bản | AV6: ='NH13-14'!$AP6 -> An toàn điện | AW6: ='NH13-14'!$AR6 | AX6: ='NH13-14'!$AT6 | AY6: ='NH13-14'!$AV6 | AZ6: ='NH13-14'!$AX6 -> Thực tập Điện cơ bản | BA6: ='NH13-14'!$AZ6 | BB6: ĐIỂM CHỮ | BC6: ='NH13-14'!$H6 -> Toán cao cấp 1 | BD6: ='NH13-14'!$J6 -> Vật lý đại cương 1 | BE6: ='NH13-14'!$L6 -> Hóa học đại cương 1 | BF6: ='NH13-14'!$N6 -> Pháp luật đại cương | BG6: ='NH13-14'!$P6 -> Nhập môn Tin học | BH6: ='NH13-14'!$R6 -> Đo lường và mạch điện | BI6: ='NH13-14'!$T6 -> Mạng cung cấp điện | BJ6: ='NH13-14'!$V6 | BK6: ='NH13-14'!$X6 | BL6: ='NH13-14'!$Z6 -> Toán cao cấp 2 | BM6: ='NH13-14'!$AB6 -> Anh văn 1 | BN6: ='NH13-14'!$AD6 -> Xác suất thống kê | BO6: ='NH13-14'!$AF6 -> Vật lý đại cương 2 | BP6: ='NH13-14'!$AH6 -> Hoá học đại cương 2 | BQ6: ='NH13-14'!$AJ6 -> Kỹ năng giao tiếp | BR6: ='NH13-14'!$AL6 -> Những NLCB của CNMLN 1 | BS6: ='NH13-14'!$AN6 -> Điện tử cơ bản | BT6: ='NH13-14'!$AP6 -> An toàn điện | BU6: ='NH13-14'!$AR6 | BV6: ='NH13-14'!$AT6 | BW6: ='NH13-14'!$AV6 | BX6: ='NH13-14'!$AX6 -> Thực tập Điện cơ bản | BY6: ='NH13-14'!$AZ6
G7: ='NH13-14'!$H7 -> 3 | H7: ='NH13-14'!$J7 -> 3 | I7: ='NH13-14'!$L7 -> 2 | J7: ='NH13-14'!$N7 -> 2 | K7: ='NH13-14'!$P7 -> 3 | L7: ='NH13-14'!$R7 -> 5 | M7: ='NH13-14'!$T7 -> 2 | N7: ='NH13-14'!$V7 | O7: ='NH13-14'!$X7 | P7: ='NH13-14'!$Z7 -> 2 | Q7: ='NH13-14'!$AB7 -> 3 | R7: ='NH13-14'!$AD7 -> 2 | S7: ='NH13-14'!$AF7 -> 2 | T7: ='NH13-14'!$AH7 -> 2 | U7: ='NH13-14'!$AJ7 -> 2 | V7: ='NH13-14'!$AL7 -> 2 | W7: ='NH13-14'!$AN7 -> 2 | X7: ='NH13-14'!$AP7 -> 2 | Y7: ='NH13-14'!$AR7 | Z7: ='NH13-14'!$AT7 | AA7: ='NH13-14'!$AV7 | AB7: ='NH13-14'!$AX7 -> 2 | AC7: ='NH13-14'!$AZ7 | AD7: =SUM(G7:AC7) -> 41 | AE7: ='NH13-14'!$H7 -> 3 | AF7: ='NH13-14'!$J7 -> 3 | AG7: ='NH13-14'!$L7 -> 2 | AH7: ='NH13-14'!$N7 -> 2 | AI7: ='NH13-14'!$P7 -> 3 | AJ7: ='NH13-14'!$R7 -> 5 | AK7: ='NH13-14'!$T7 -> 2 | AL7: ='NH13-14'!$V7 | AM7: ='NH13-14'!$X7 | AN7: ='NH13-14'!$Z7 -> 2 | AO7: ='NH13-14'!$AB7 -> 3 | AP7: ='NH13-14'!$AD7 -> 2 | AQ7: ='NH13-14'!$AF7 -> 2 | AR7: ='NH13-14'!$AH7 -> 2 | AS7: ='NH13-14'!$AJ7 -> 2 | AT7: ='NH13-14'!$AL7 -> 2 | AU7: ='NH13-14'!$AN7 -> 2 | AV7: ='NH13-14'!$AP7 -> 2 | AW7: ='NH13-14'!$AR7 | AX7: ='NH13-14'!$AT7 | AY7: ='NH13-14'!$AV7 | AZ7: ='NH13-14'!$AX7 -> 2 | BA7: ='NH13-14'!$AZ7 | BB7: =SUM(AE7:BA7) -> 41 | BC7: ='NH13-14'!$H7 -> 3 | BD7: ='NH13-14'!$J7 -> 3 | BE7: ='NH13-14'!$L7 -> 2 | BF7: ='NH13-14'!$N7 -> 2 | BG7: ='NH13-14'!$P7 -> 3 | BH7: ='NH13-14'!$R7 -> 5 | BI7: ='NH13-14'!$T7 -> 2 | BJ7: ='NH13-14'!$V7 | BK7: ='NH13-14'!$X7 | BL7: ='NH13-14'!$Z7 -> 2 | BM7: ='NH13-14'!$AB7 -> 3 | BN7: ='NH13-14'!$AD7 -> 2 | BO7: ='NH13-14'!$AF7 -> 2 | BP7: ='NH13-14'!$AH7 -> 2 | BQ7: ='NH13-14'!$AJ7 -> 2 | BR7: ='NH13-14'!$AL7 -> 2 | BS7: ='NH13-14'!$AN7 -> 2 | BT7: ='NH13-14'!$AP7 -> 2 | BU7: ='NH13-14'!$AR7 | BV7: ='NH13-14'!$AT7 | BW7: ='NH13-14'!$AV7 | BX7: ='NH13-14'!$AX7 -> 2 | BY7: ='NH13-14'!$AZ7
B8: MSSV | C8: Số TC đã TL | D8: Số TC nợ | E8: Họ tên sinh viên | G8: tính cuối học kỳ, cuối năm theo điểm cao nhất | AE8: AB
A10: (1) | B10: (2) | E10: (3)
A11: =IF('NH13-14'!A11="","",'NH13-14'!A11) -> 1 | B11: =IF('NH13-14'!B11="","",'NH13-14'!B11) -> 13D301Đ001 | C11: =IF(B11="","",SUMIF(G11:AC11,">=4",$G$7:$AC$7)) -> 39 | D11: =IF(B11="","",SUMIF(G11:AC11,"<4",$G$7:$AC$7)) -> 0 | E11: =IF('NH13-14'!C11="","",'NH13-14'!C11) -> Lương Hoàng Thuận | F11: =IF('NH13-14'!D11="","",'NH13-14'!D11) -> An | G11: =IF('NH13-14'!I11="",'NH13-14'!H11,IF('NH13-14'!I11>='NH13-14'!H11,'NH13-14'!I11,'NH13-14'!H11)) -> 5.2 | H11: =IF('NH13-14'!K11="",'NH13-14'!J11,IF('NH13-14'!K11>='NH13-14'!J11,'NH13-14'!K11,'NH13-14'!J11)) -> 9.3 | I11: =IF('NH13-14'!M11="",'NH13-14'!L11,IF('NH13-14'!M11>='NH13-14'!L11,'NH13-14'!M11,'NH13-14'!L11)) -> 7.2 | J11: =IF('NH13-14'!O11="",'NH13-14'!N11,IF('NH13-14'!O11>='NH13-14'!N11,'NH13-14'!O11,'NH13-14'!N11)) -> 5.8 | K11: =IF('NH13-14'!Q11="",'NH13-14'!P11,IF('NH13-14'!Q11>='NH13-14'!P11,'NH13-14'!Q11,'NH13-14'!P11)) -> 6.3 | L11: =IF('NH13-14'!S11="",'NH13-14'!R11,IF('NH13-14'!S11>='NH13-14'!R11,'NH13-14'!S11,'NH13-14'!R11)) -> 7.2 | M11: =IF('NH13-14'!U11="",'NH13-14'!T11,IF('NH13-14'!U11>='NH13-14'!T11,'NH13-14'!U11,'NH13-14'!T11)) -> 8.3 | N11: =IF('NH13-14'!W11="",'NH13-14'!V11,IF('NH13-14'!W11>='NH13-14'!V11,'NH13-14'!W11,'NH13-14'!V11)) | O11: =IF('NH13-14'!Y11="",'NH13-14'!X11,IF('NH13-14'!Y11>='NH13-14'!X11,'NH13-14'!Y11,'NH13-14'!X11)) | P11: =IF('NH13-14'!AA11="",'NH13-14'!Z11,IF('NH13-14'!AA11>='NH13-14'!Z11,'NH13-14'!AA11,'NH13-14'!Z11)) -> 8.1 | Q11: =IF('NH13-14'!AC11="",'NH13-14'!AB11,IF('NH13-14'!AC11>='NH13-14'!AB11,'NH13-14'!AC11,'NH13-14'!AB11)) -> 5.5 | R11: =IF('NH13-14'!AE11="",'NH13-14'!AD11,IF('NH13-14'!AE11>='NH13-14'!AD11,'NH13-14'!AE11,'NH13-14'!AD11)) | S11: =IF('NH13-14'!AG11="",'NH13-14'!AF11,IF('NH13-14'!AG11>='NH13-14'!AF11,'NH13-14'!AG11,'NH13-14'!AF11)) -> 9.8 | T11: =IF('NH13-14'!AI11="",'NH13-14'!AH11,IF('NH13-14'!AI11>='NH13-14'!AH11,'NH13-14'!AI11,'NH13-14'!AH11)) -> 9.1 | U11: =IF('NH13-14'!AK11="",'NH13-14'!AJ11,IF('NH13-14'!AK11>='NH13-14'!AJ11,'NH13-14'!AK11,'NH13-14'!AJ11)) -> 8 | V11: =IF('NH13-14'!AM11="",'NH13-14'!AL11,IF('NH13-14'!AM11>='NH13-14'!AL11,'NH13-14'!AM11,'NH13-14'!AL11)) -> 8.1 | W11: =IF('NH13-14'!AO11="",'NH13-14'!AN11,IF('NH13-14'!AO11>='NH13-14'!AN11,'NH13-14'!AO11,'NH13-14'!AN11)) -> 6 | X11: =IF('NH13-14'!AQ11="",'NH13-14'!AP11,IF('NH13-14'!AQ11>='NH13-14'!AP11,'NH13-14'!AQ11,'NH13-14'!AP11)) -> 8 | Y11: =IF('NH13-14'!AS11="",'NH13-14'!AR11,IF('NH13-14'!AS11>='NH13-14'!AR11,'NH13-14'!AS11,'NH13-14'!AR11)) | Z11: =IF('NH13-14'!AU11="",'NH13-14'!AT11,IF('NH13-14'!AU11>='NH13-14'!AT11,'NH13-14'!AU11,'NH13-14'!AT11)) | AA11: =IF('NH13-14'!AW11="",'NH13-14'!AV11,IF('NH13-14'!AW11>='NH13-14'!AV11,'NH13-14'!AW11,'NH13-14'!AV11)) | AB11: =IF('NH13-14'!AY11="",'NH13-14'!AX11,IF('NH13-14'!AY11>='NH13-14'!AX11,'NH13-14'!AY11,'NH13-14'!AX11)) -> 7 | AC11: =IF('NH13-14'!BA11="",'NH13-14'!AZ11,IF('NH13-14'!BA11>='NH13-14'!AZ11,'NH13-14'!BA11,'NH13-14'!AZ11)) | AD11: =IF('NH13-14'!B11="","",ROUND(SUMPRODUCT(G11:AC11,$G$7:$AC$7)/SUMIF(G11:AC11,">=0",$G$7:$AC$7),2)) -> 7.33 | AE11: =IF(G11="","",IF(G11<4,"",IF(G11<5.5,1,IF(G11<7,2,IF(G11<8.5,3,4))))) -> 1 | AF11: =IF(H11="","",IF(H11<4,"",IF(H11<5.5,1,IF(H11<7,2,IF(H11<8.5,3,4))))) -> 4 | AG11: =IF(I11="","",IF(I11<4,"",IF(I11<5.5,1,IF(I11<7,2,IF(I11<8.5,3,4))))) -> 3 | AH11: =IF(J11="","",IF(J11<4,"",IF(J11<5.5,1,IF(J11<7,2,IF(J11<8.5,3,4))))) -> 2 | AI11: =IF(K11="","",IF(K11<4,"",IF(K11<5.5,1,IF(K11<7,2,IF(K11<8.5,3,4))))) -> 2 | AJ11: =IF(L11="","",IF(L11<4,"",IF(L11<5.5,1,IF(L11<7,2,IF(L11<8.5,3,4))))) -> 3 | AK11: =IF(M11="","",IF(M11<4,"",IF(M11<5.5,1,IF(M11<7,2,IF(M11<8.5,3,4))))) -> 3 | AL11: =IF(N11="","",IF(N11<4,"",IF(N11<5.5,1,IF(N11<7,2,IF(N11<8.5,3,4))))) | ... BA11: =IF(AC11="","",IF(AC11<4,"",IF(AC11<5.5,1,IF(AC11<7,2,IF(AC11<8.5,3,4))))) | BB11: =IF('NH13-14'!B11="","",ROUND(SUMPRODUCT(AE11:BA11,$AE$7:$BA$7)/SUMIF(AE11:BA11,">=1",$AE$7:$BA$7),2)) -> 2.77 | BC11: =IF(G11<4,"",G11) -> 5.2 | BD11: =IF(H11<4,"",H11) -> 9.3 | BE11: =IF(I11<4,"",I11) -> 7.2 | BF11: =IF(J11<4,"",J11) -> 5.8 | BG11: =IF(K11<4,"",K11) -> 6.3 | BH11: =IF(L11<4,"",L11) -> 7.2 | BI11: =IF(M11<4,"",M11) -> 8.3 | BJ11: =IF(N11<4,"",N11) | ... BY11: =IF(AC11<4,"",AC11)
A12: =IF('NH13-14'!A12="","",'NH13-14'!A12) -> 2 | B12: =IF('NH13-14'!B12="","",'NH13-14'!B12) -> 13D301Đ009 | C12: =IF(B12="","",SUMIF(G12:AC12,">=4",$G$7:$AC$7)) -> 37 | D12: =IF(B12="","",SUMIF(G12:AC12,"<4",$G$7:$AC$7)) -> 2 | E12: =IF('NH13-14'!C12="","",'NH13-14'!C12) -> Võ Thành | F12: =IF('NH13-14'!D12="","",'NH13-14'!D12) -> Bảo | G12: =IF('NH13-14'!I12="",'NH13-14'!H12,IF('NH13-14'!I12>='NH13-14'!H12,'NH13-14'!I12,'NH13-14'!H12)) -> 4.6 | H12: =IF('NH13-14'!K12="",'NH13-14'!J12,IF('NH13-14'!K12>='NH13-14'!J12,'NH13-14'!K12,'NH13-14'!J12)) -> 5.7 | I12: =IF('NH13-14'!M12="",'NH13-14'!L12,IF('NH13-14'!M12>='NH13-14'!L12,'NH13-14'!M12,'NH13-14'!L12)) -> 6.1 | J12: =IF('NH13-14'!O12="",'NH13-14'!N12,IF('NH13-14'!O12>='NH13-14'!N12,'NH13-14'!O12,'NH13-14'!N12)) -> 6.3 | K12: =IF('NH13-14'!Q12="",'NH13-14'!P12,IF('NH13-14'!Q12>='NH13-14'!P12,'NH13-14'!Q12,'NH13-14'!P12)) -> 5.6 | L12: =IF('NH13-14'!S12="",'NH13-14'!R12,IF('NH13-14'!S12>='NH13-14'!R12,'NH13-14'!S12,'NH13-14'!R12)) -> 6.4 | M12: =IF('NH13-14'!U12="",'NH13-14'!T12,IF('NH13-14'!U12>='NH13-14'!T12,'NH13-14'!U12,'NH13-14'!T12)) -> 5.9 | N12: =IF('NH13-14'!W12="",'NH13-14'!V12,IF('NH13-14'!W12>='NH13-14'!V12,'NH13-14'!W12,'NH13-14'!V12)) | O12: =IF('NH13-14'!Y12="",'NH13-14'!X12,IF('NH13-14'!Y12>='NH13-14'!X12,'NH13-14'!Y12,'NH13-14'!X12)) | P12: =IF('NH13-14'!AA12="",'NH13-14'!Z12,IF('NH13-14'!AA12>='NH13-14'!Z12,'NH13-14'!AA12,'NH13-14'!Z12)) -> 6.1 | Q12: =IF('NH13-14'!AC12="",'NH13-14'!AB12,IF('NH13-14'!AC12>='NH13-14'!AB12,'NH13-14'!AC12,'NH13-14'!AB12)) -> 4.2 | R12: =IF('NH13-14'!AE12="",'NH13-14'!AD12,IF('NH13-14'!AE12>='NH13-14'!AD12,'NH13-14'!AE12,'NH13-14'!AD12)) -> 5.5 | S12: =IF('NH13-14'!AG12="",'NH13-14'!AF12,IF('NH13-14'!AG12>='NH13-14'!AF12,'NH13-14'!AG12,'NH13-14'!AF12)) | T12: =IF('NH13-14'!AI12="",'NH13-14'!AH12,IF('NH13-14'!AI12>='NH13-14'!AH12,'NH13-14'!AI12,'NH13-14'!AH12)) -> 6 | U12: =IF('NH13-14'!AK12="",'NH13-14'!AJ12,IF('NH13-14'!AK12>='NH13-14'!AJ12,'NH13-14'!AK12,'NH13-14'!AJ12)) -> 6.3 | V12: =IF('NH13-14'!AM12="",'NH13-14'!AL12,IF('NH13-14'!AM12>='NH13-14'!AL12,'NH13-14'!AM12,'NH13-14'!AL12)) -> 5.8 | W12: =IF('NH13-14'!AO12="",'NH13-14'!AN12,IF('NH13-14'!AO12>='NH13-14'!AN12,'NH13-14'!AO12,'NH13-14'!AN12)) -> 2.4 | X12: =IF('NH13-14'!AQ12="",'NH13-14'!AP12,IF('NH13-14'!AQ12>='NH13-14'!AP12,'NH13-14'!AQ12,'NH13-14'!AP12)) -> 7.4 | Y12: =IF('NH13-14'!AS12="",'NH13-14'!AR12,IF('NH13-14'!AS12>='NH13-14'!AR12,'NH13-14'!AS12,'NH13-14'!AR12)) | Z12: =IF('NH13-14'!AU12="",'NH13-14'!AT12,IF('NH13-14'!AU12>='NH13-14'!AT12,'NH13-14'!AU12,'NH13-14'!AT12)) | AA12: =IF('NH13-14'!AW12="",'NH13-14'!AV12,IF('NH13-14'!AW12>='NH13-14'!AV12,'NH13-14'!AW12,'NH13-14'!AV12)) | AB12: =IF('NH13-14'!AY12="",'NH13-14'!AX12,IF('NH13-14'!AY12>='NH13-14'!AX12,'NH13-14'!AY12,'NH13-14'!AX12)) -> 5.6 | AC12: =IF('NH13-14'!BA12="",'NH13-14'!AZ12,IF('NH13-14'!BA12>='NH13-14'!AZ12,'NH13-14'!BA12,'NH13-14'!AZ12)) | AD12: =IF('NH13-14'!B12="","",ROUND(SUMPRODUCT(G12:AC12,$G$7:$AC$7)/SUMIF(G12:AC12,">=0",$G$7:$AC$7),2)) -> 5.62 | AE12: =IF(G12="","",IF(G12<4,"",IF(G12<5.5,1,IF(G12<7,2,IF(G12<8.5,3,4))))) -> 1 | AF12: =IF(H12="","",IF(H12<4,"",IF(H12<5.5,1,IF(H12<7,2,IF(H12<8.5,3,4))))) -> 2 | AG12: =IF(I12="","",IF(I12<4,"",IF(I12<5.5,1,IF(I12<7,2,IF(I12<8.5,3,4))))) -> 2 | AH12: =IF(J12="","",IF(J12<4,"",IF(J12<5.5,1,IF(J12<7,2,IF(J12<8.5,3,4))))) -> 2 | AI12: =IF(K12="","",IF(K12<4,"",IF(K12<5.5,1,IF(K12<7,2,IF(K12<8.5,3,4))))) -> 2 | AJ12: =IF(L12="","",IF(L12<4,"",IF(L12<5.5,1,IF(L12<7,2,IF(L12<8.5,3,4))))) -> 2 | AK12: =IF(M12="","",IF(M12<4,"",IF(M12<5.5,1,IF(M12<7,2,IF(M12<8.5,3,4))))) -> 2 | AL12: =IF(N12="","",IF(N12<4,"",IF(N12<5.5,1,IF(N12<7,2,IF(N12<8.5,3,4))))) | ... BA12: =IF(AC12="","",IF(AC12<4,"",IF(AC12<5.5,1,IF(AC12<7,2,IF(AC12<8.5,3,4))))) | BB12: =IF('NH13-14'!B12="","",ROUND(SUMPRODUCT(AE12:BA12,$AE$7:$BA$7)/SUMIF(AE12:BA12,">=1",$AE$7:$BA$7),2)) -> 1.89 | BC12: =IF(G12<4,"",G12) -> 4.6 | BD12: =IF(H12<4,"",H12) -> 5.7 | BE12: =IF(I12<4,"",I12) -> 6.1 | BF12: =IF(J12<4,"",J12) -> 6.3 | BG12: =IF(K12<4,"",K12) -> 5.6 | BH12: =IF(L12<4,"",L12) -> 6.4 | BI12: =IF(M12<4,"",M12) -> 5.9 | BJ12: =IF(N12<4,"",N12) | ... BY12: =IF(AC12<4,"",AC12)
A13: =IF('NH13-14'!A13="","",'NH13-14'!A13) -> 3 | B13: =IF('NH13-14'!B13="","",'NH13-14'!B13) -> 13D301Đ013 | C13: =IF(B13="","",SUMIF(G13:AC13,">=4",$G$7:$AC$7)) -> 32 | D13: =IF(B13="","",SUMIF(G13:AC13,"<4",$G$7:$AC$7)) -> 7 | E13: =IF('NH13-14'!C13="","",'NH13-14'!C13) -> Nguyễn Chí | F13: =IF('NH13-14'!D13="","",'NH13-14'!D13) -> Bình | G13: =IF('NH13-14'!I13="",'NH13-14'!H13,IF('NH13-14'!I13>='NH13-14'!H13,'NH13-14'!I13,'NH13-14'!H13)) -> 4.3 | H13: =IF('NH13-14'!K13="",'NH13-14'!J13,IF('NH13-14'!K13>='NH13-14'!J13,'NH13-14'!K13,'NH13-14'!J13)) -> 4.6 | I13: =IF('NH13-14'!M13="",'NH13-14'!L13,IF('NH13-14'!M13>='NH13-14'!L13,'NH13-14'!M13,'NH13-14'!L13)) -> 6 | J13: =IF('NH13-14'!O13="",'NH13-14'!N13,IF('NH13-14'!O13>='NH13-14'!N13,'NH13-14'!O13,'NH13-14'!N13)) -> 5.1 | K13: =IF('NH13-14'!Q13="",'NH13-14'!P13,IF('NH13-14'!Q13>='NH13-14'!P13,'NH13-14'!Q13,'NH13-14'!P13)) -> 5 | L13: =IF('NH13-14'!S13="",'NH13-14'!R13,IF('NH13-14'!S13>='NH13-14'!R13,'NH13-14'!S13,'NH13-14'!R13)) -> 6.4 | M13: =IF('NH13-14'!U13="",'NH13-14'!T13,IF('NH13-14'!U13>='NH13-14'!T13,'NH13-14'!U13,'NH13-14'!T13)) -> 6.1 | N13: =IF('NH13-14'!W13="",'NH13-14'!V13,IF('NH13-14'!W13>='NH13-14'!V13,'NH13-14'!W13,'NH13-14'!V13)) | O13: =IF('NH13-14'!Y13="",'NH13-14'!X13,IF('NH13-14'!Y13>='NH13-14'!X13,'NH13-14'!Y13,'NH13-14'!X13)) | P13: =IF('NH13-14'!AA13="",'NH13-14'!Z13,IF('NH13-14'!AA13>='NH13-14'!Z13,'NH13-14'!AA13,'NH13-14'!Z13)) -> 4.2 | Q13: =IF('NH13-14'!AC13="",'NH13-14'!AB13,IF('NH13-14'!AC13>='NH13-14'!AB13,'NH13-14'!AC13,'NH13-14'!AB13)) -> 1.9 | R13: =IF('NH13-14'!AE13="",'NH13-14'!AD13,IF('NH13-14'!AE13>='NH13-14'!AD13,'NH13-14'!AE13,'NH13-14'!AD13)) | S13: =IF('NH13-14'!AG13="",'NH13-14'!AF13,IF('NH13-14'!AG13>='NH13-14'!AF13,'NH13-14'!AG13,'NH13-14'!AF13)) -> 5.3 | T13: =IF('NH13-14'!AI13="",'NH13-14'!AH13,IF('NH13-14'!AI13>='NH13-14'!AH13,'NH13-14'!AI13,'NH13-14'!AH13)) -> 0.8 | U13: =IF('NH13-14'!AK13="",'NH13-14'!AJ13,IF('NH13-14'!AK13>='NH13-14'!AJ13,'NH13-14'!AK13,'NH13-14'!AJ13)) -> 5.7 | V13: =IF('NH13-14'!AM13="",'NH13-14'!AL13,IF('NH13-14'!AM13>='NH13-14'!AL13,'NH13-14'!AM13,'NH13-14'!AL13)) -> 6.1 | W13: =IF('NH13-14'!AO13="",'NH13-14'!AN13,IF('NH13-14'!AO13>='NH13-14'!AN13,'NH13-14'!AO13,'NH13-14'!AN13)) -> 0.9 | X13: =IF('NH13-14'!AQ13="",'NH13-14'!AP13,IF('NH13-14'!AQ13>='NH13-14'!AP13,'NH13-14'!AQ13,'NH13-14'!AP13)) -> 5.9 | Y13: =IF('NH13-14'!AS13="",'NH13-14'!AR13,IF('NH13-14'!AS13>='NH13-14'!AR13,'NH13-14'!AS13,'NH13-14'!AR13)) | Z13: =IF('NH13-14'!AU13="",'NH13-14'!AT13,IF('NH13-14'!AU13>='NH13-14'!AT13,'NH13-14'!AU13,'NH13-14'!AT13)) | AA13: =IF('NH13-14'!AW13="",'NH13-14'!AV13,IF('NH13-14'!AW13>='NH13-14'!AV13,'NH13-14'!AW13,'NH13-14'!AV13)) | AB13: =IF('NH13-14'!AY13="",'NH13-14'!AX13,IF('NH13-14'!AY13>='NH13-14'!AX13,'NH13-14'!AY13,'NH13-14'!AX13)) -> 5 | AC13: =IF('NH13-14'!BA13="",'NH13-14'!AZ13,IF('NH13-14'!BA13>='NH13-14'!AZ13,'NH13-14'!BA13,'NH13-14'!AZ13)) | AD13: =IF('NH13-14'!B13="","",ROUND(SUMPRODUCT(G13:AC13,$G$7:$AC$7)/SUMIF(G13:AC13,">=0",$G$7:$AC$7),2)) -> 4.66 | AE13: =IF(G13="","",IF(G13<4,"",IF(G13<5.5,1,IF(G13<7,2,IF(G13<8.5,3,4))))) -> 1 | AF13: =IF(H13="","",IF(H13<4,"",IF(H13<5.5,1,IF(H13<7,2,IF(H13<8.5,3,4))))) -> 1 | AG13: =IF(I13="","",IF(I13<4,"",IF(I13<5.5,1,IF(I13<7,2,IF(I13<8.5,3,4))))) -> 2 | AH13: =IF(J13="","",IF(J13<4,"",IF(J13<5.5,1,IF(J13<7,2,IF(J13<8.5,3,4))))) -> 1 | AI13: =IF(K13="","",IF(K13<4,"",IF(K13<5.5,1,IF(K13<7,2,IF(K13<8.5,3,4))))) -> 1 | AJ13: =IF(L13="","",IF(L13<4,"",IF(L13<5.5,1,IF(L13<7,2,IF(L13<8.5,3,4))))) -> 2 | AK13: =IF(M13="","",IF(M13<4,"",IF(M13<5.5,1,IF(M13<7,2,IF(M13<8.5,3,4))))) -> 2 | AL13: =IF(N13="","",IF(N13<4,"",IF(N13<5.5,1,IF(N13<7,2,IF(N13<8.5,3,4))))) | ... BA13: =IF(AC13="","",IF(AC13<4,"",IF(AC13<5.5,1,IF(AC13<7,2,IF(AC13<8.5,3,4))))) | BB13: =IF('NH13-14'!B13="","",ROUND(SUMPRODUCT(AE13:BA13,$AE$7:$BA$7)/SUMIF(AE13:BA13,">=1",$AE$7:$BA$7),2)) -> 1.47 | BC13: =IF(G13<4,"",G13) -> 4.3 | BD13: =IF(H13<4,"",H13) -> 4.6 | BE13: =IF(I13<4,"",I13) -> 6 | BF13: =IF(J13<4,"",J13) -> 5.1 | BG13: =IF(K13<4,"",K13) -> 5 | BH13: =IF(L13<4,"",L13) -> 6.4 | BI13: =IF(M13<4,"",M13) -> 6.1 | BJ13: =IF(N13<4,"",N13) | ... BY13: =IF(AC13<4,"",AC13)
A14: =IF('NH13-14'!A14="","",'NH13-14'!A14) -> 4 | B14: =IF('NH13-14'!B14="","",'NH13-14'!B14) -> 13D301Đ014 | C14: =IF(B14="","",SUMIF(G14:AC14,">=4",$G$7:$AC$7)) -> 37 | D14: =IF(B14="","",SUMIF(G14:AC14,"<4",$G$7:$AC$7)) -> 2 | E14: =IF('NH13-14'!C14="","",'NH13-14'!C14) -> Trịnh Thanh | F14: =IF('NH13-14'!D14="","",'NH13-14'!D14) -> Bình | G14: =IF('NH13-14'!I14="",'NH13-14'!H14,IF('NH13-14'!I14>='NH13-14'!H14,'NH13-14'!I14,'NH13-14'!H14)) -> 6.8 | H14: =IF('NH13-14'!K14="",'NH13-14'!J14,IF('NH13-14'!K14>='NH13-14'!J14,'NH13-14'!K14,'NH13-14'!J14)) -> 6.8 | I14: =IF('NH13-14'!M14="",'NH13-14'!L14,IF('NH13-14'!M14>='NH13-14'!L14,'NH13-14'!M14,'NH13-14'!L14)) -> 5.8 | J14: =IF('NH13-14'!O14="",'NH13-14'!N14,IF('NH13-14'!O14>='NH13-14'!N14,'NH13-14'!O14,'NH13-14'!N14)) -> 4.7 | K14: =IF('NH13-14'!Q14="",'NH13-14'!P14,IF('NH13-14'!Q14>='NH13-14'!P14,'NH13-14'!Q14,'NH13-14'!P14)) -> 5 | L14: =IF('NH13-14'!S14="",'NH13-14'!R14,IF('NH13-14'!S14>='NH13-14'!R14,'NH13-14'!S14,'NH13-14'!R14)) -> 4.8 | M14: =IF('NH13-14'!U14="",'NH13-14'!T14,IF('NH13-14'!U14>='NH13-14'!T14,'NH13-14'!U14,'NH13-14'!T14)) -> 5.7 | N14: =IF('NH13-14'!W14="",'NH13-14'!V14,IF('NH13-14'!W14>='NH13-14'!V14,'NH13-14'!W14,'NH13-14'!V14)) | O14: =IF('NH13-14'!Y14="",'NH13-14'!X14,IF('NH13-14'!Y14>='NH13-14'!X14,'NH13-14'!Y14,'NH13-14'!X14)) | P14: =IF('NH13-14'!AA14="",'NH13-14'!Z14,IF('NH13-14'!AA14>='NH13-14'!Z14,'NH13-14'!AA14,'NH13-14'!Z14)) -> 6.3 | Q14: =IF('NH13-14'!AC14="",'NH13-14'!AB14,IF('NH13-14'!AC14>='NH13-14'!AB14,'NH13-14'!AC14,'NH13-14'!AB14)) -> 4.2 | R14: =IF('NH13-14'!AE14="",'NH13-14'!AD14,IF('NH13-14'!AE14>='NH13-14'!AD14,'NH13-14'!AE14,'NH13-14'!AD14)) | S14: =IF('NH13-14'!AG14="",'NH13-14'!AF14,IF('NH13-14'!AG14>='NH13-14'!AF14,'NH13-14'!AG14,'NH13-14'!AF14)) -> 7.4 | T14: =IF('NH13-14'!AI14="",'NH13-14'!AH14,IF('NH13-14'!AI14>='NH13-14'!AH14,'NH13-14'!AI14,'NH13-14'!AH14)) -> 4.4 | U14: =IF('NH13-14'!AK14="",'NH13-14'!AJ14,IF('NH13-14'!AK14>='NH13-14'!AJ14,'NH13-14'!AK14,'NH13-14'!AJ14)) -> 6.7 | V14: =IF('NH13-14'!AM14="",'NH13-14'!AL14,IF('NH13-14'!AM14>='NH13-14'!AL14,'NH13-14'!AM14,'NH13-14'!AL14)) -> 5.3 | W14: =IF('NH13-14'!AO14="",'NH13-14'!AN14,IF('NH13-14'!AO14>='NH13-14'!AN14,'NH13-14'!AO14,'NH13-14'!AN14)) -> 3.5 | X14: =IF('NH13-14'!AQ14="",'NH13-14'!AP14,IF('NH13-14'!AQ14>='NH13-14'!AP14,'NH13-14'!AQ14,'NH13-14'!AP14)) -> 6.4 | Y14: =IF('NH13-14'!AS14="",'NH13-14'!AR14,IF('NH13-14'!AS14>='NH13-14'!AR14,'NH13-14'!AS14,'NH13-14'!AR14)) | Z14: =IF('NH13-14'!AU14="",'NH13-14'!AT14,IF('NH13-14'!AU14>='NH13-14'!AT14,'NH13-14'!AU14,'NH13-14'!AT14)) | AA14: =IF('NH13-14'!AW14="",'NH13-14'!AV14,IF('NH13-14'!AW14>='NH13-14'!AV14,'NH13-14'!AW14,'NH13-14'!AV14)) | AB14: =IF('NH13-14'!AY14="",'NH13-14'!AX14,IF('NH13-14'!AY14>='NH13-14'!AX14,'NH13-14'!AY14,'NH13-14'!AX14)) -> 6 | AC14: =IF('NH13-14'!BA14="",'NH13-14'!AZ14,IF('NH13-14'!BA14>='NH13-14'!AZ14,'NH13-14'!BA14,'NH13-14'!AZ14)) | AD14: =IF('NH13-14'!B14="","",ROUND(SUMPRODUCT(G14:AC14,$G$7:$AC$7)/SUMIF(G14:AC14,">=0",$G$7:$AC$7),2)) -> 5.56 | AE14: =IF(G14="","",IF(G14<4,"",IF(G14<5.5,1,IF(G14<7,2,IF(G14<8.5,3,4))))) -> 2 | AF14: =IF(H14="","",IF(H14<4,"",IF(H14<5.5,1,IF(H14<7,2,IF(H14<8.5,3,4))))) -> 2 | AG14: =IF(I14="","",IF(I14<4,"",IF(I14<5.5,1,IF(I14<7,2,IF(I14<8.5,3,4))))) -> 2 | AH14: =IF(J14="","",IF(J14<4,"",IF(J14<5.5,1,IF(J14<7,2,IF(J14<8.5,3,4))))) -> 1 | AI14: =IF(K14="","",IF(K14<4,"",IF(K14<5.5,1,IF(K14<7,2,IF(K14<8.5,3,4))))) -> 1 | AJ14: =IF(L14="","",IF(L14<4,"",IF(L14<5.5,1,IF(L14<7,2,IF(L14<8.5,3,4))))) -> 1 | AK14: =IF(M14="","",IF(M14<4,"",IF(M14<5.5,1,IF(M14<7,2,IF(M14<8.5,3,4))))) -> 2 | AL14: =IF(N14="","",IF(N14<4,"",IF(N14<5.5,1,IF(N14<7,2,IF(N14<8.5,3,4))))) | ... BA14: =IF(AC14="","",IF(AC14<4,"",IF(AC14<5.5,1,IF(AC14<7,2,IF(AC14<8.5,3,4))))) | BB14: =IF('NH13-14'!B14="","",ROUND(SUMPRODUCT(AE14:BA14,$AE$7:$BA$7)/SUMIF(AE14:BA14,">=1",$AE$7:$BA$7),2)) -> 1.59 | BC14: =IF(G14<4,"",G14) -> 6.8 | BD14: =IF(H14<4,"",H14) -> 6.8 | BE14: =IF(I14<4,"",I14) -> 5.8 | BF14: =IF(J14<4,"",J14) -> 4.7 | BG14: =IF(K14<4,"",K14) -> 5 | BH14: =IF(L14<4,"",L14) -> 4.8 | BI14: =IF(M14<4,"",M14) -> 5.7 | BJ14: =IF(N14<4,"",N14) | ... BY14: =IF(AC14<4,"",AC14)
A15: =IF('NH13-14'!A15="","",'NH13-14'!A15) -> 5 | B15: =IF('NH13-14'!B15="","",'NH13-14'!B15) -> 13D301Đ017 | C15: =IF(B15="","",SUMIF(G15:AC15,">=4",$G$7:$AC$7)) -> 37 | D15: =IF(B15="","",SUMIF(G15:AC15,"<4",$G$7:$AC$7)) -> 2 | E15: =IF('NH13-14'!C15="","",'NH13-14'!C15) -> Trần Văn | F15: =IF('NH13-14'!D15="","",'NH13-14'!D15) -> Chinh | G15: =IF('NH13-14'!I15="",'NH13-14'!H15,IF('NH13-14'!I15>='NH13-14'!H15,'NH13-14'!I15,'NH13-14'!H15)) -> 5.5 | H15: =IF('NH13-14'!K15="",'NH13-14'!J15,IF('NH13-14'!K15>='NH13-14'!J15,'NH13-14'!K15,'NH13-14'!J15)) -> 6.4 | I15: =IF('NH13-14'!M15="",'NH13-14'!L15,IF('NH13-14'!M15>='NH13-14'!L15,'NH13-14'!M15,'NH13-14'!L15)) -> 6 | J15: =IF('NH13-14'!O15="",'NH13-14'!N15,IF('NH13-14'!O15>='NH13-14'!N15,'NH13-14'!O15,'NH13-14'!N15)) -> 5.8 | K15: =IF('NH13-14'!Q15="",'NH13-14'!P15,IF('NH13-14'!Q15>='NH13-14'!P15,'NH13-14'!Q15,'NH13-14'!P15)) -> 5.4 | L15: =IF('NH13-14'!S15="",'NH13-14'!R15,IF('NH13-14'!S15>='NH13-14'!R15,'NH13-14'!S15,'NH13-14'!R15)) -> 6.5 | M15: =IF('NH13-14'!U15="",'NH13-14'!T15,IF('NH13-14'!U15>='NH13-14'!T15,'NH13-14'!U15,'NH13-14'!T15)) -> 5.7 | N15: =IF('NH13-14'!W15="",'NH13-14'!V15,IF('NH13-14'!W15>='NH13-14'!V15,'NH13-14'!W15,'NH13-14'!V15)) | O15: =IF('NH13-14'!Y15="",'NH13-14'!X15,IF('NH13-14'!Y15>='NH13-14'!X15,'NH13-14'!Y15,'NH13-14'!X15)) | P15: =IF('NH13-14'!AA15="",'NH13-14'!Z15,IF('NH13-14'!AA15>='NH13-14'!Z15,'NH13-14'!AA15,'NH13-14'!Z15)) -> 5.6 | Q15: =IF('NH13-14'!AC15="",'NH13-14'!AB15,IF('NH13-14'!AC15>='NH13-14'!AB15,'NH13-14'!AC15,'NH13-14'!AB15)) -> 4.8 | R15: =IF('NH13-14'!AE15="",'NH13-14'!AD15,IF('NH13-14'!AE15>='NH13-14'!AD15,'NH13-14'!AE15,'NH13-14'!AD15)) | S15: =IF('NH13-14'!AG15="",'NH13-14'!AF15,IF('NH13-14'!AG15>='NH13-14'!AF15,'NH13-14'!AG15,'NH13-14'!AF15)) -> 6 | T15: =IF('NH13-14'!AI15="",'NH13-14'!AH15,IF('NH13-14'!AI15>='NH13-14'!AH15,'NH13-14'!AI15,'NH13-14'!AH15)) -> 5.4 | U15: =IF('NH13-14'!AK15="",'NH13-14'!AJ15,IF('NH13-14'!AK15>='NH13-14'!AJ15,'NH13-14'!AK15,'NH13-14'!AJ15)) -> 6.8 | V15: =IF('NH13-14'!AM15="",'NH13-14'!AL15,IF('NH13-14'!AM15>='NH13-14'!AL15,'NH13-14'!AM15,'NH13-14'!AL15)) -> 6.9 | W15: =IF('NH13-14'!AO15="",'NH13-14'!AN15,IF('NH13-14'!AO15>='NH13-14'!AN15,'NH13-14'!AO15,'NH13-14'!AN15)) -> 3.3 | X15: =IF('NH13-14'!AQ15="",'NH13-14'!AP15,IF('NH13-14'!AQ15>='NH13-14'!AP15,'NH13-14'!AQ15,'NH13-14'!AP15)) -> 6 | Y15: =IF('NH13-14'!AS15="",'NH13-14'!AR15,IF('NH13-14'!AS15>='NH13-14'!AR15,'NH13-14'!AS15,'NH13-14'!AR15)) | Z15: =IF('NH13-14'!AU15="",'NH13-14'!AT15,IF('NH13-14'!AU15>='NH13-14'!AT15,'NH13-14'!AU15,'NH13-14'!AT15)) | AA15: =IF('NH13-14'!AW15="",'NH13-14'!AV15,IF('NH13-14'!AW15>='NH13-14'!AV15,'NH13-14'!AW15,'NH13-14'!AV15)) | AB15: =IF('NH13-14'!AY15="",'NH13-14'!AX15,IF('NH13-14'!AY15>='NH13-14'!AX15,'NH13-14'!AY15,'NH13-14'!AX15)) -> 5.7 | AC15: =IF('NH13-14'!BA15="",'NH13-14'!AZ15,IF('NH13-14'!BA15>='NH13-14'!AZ15,'NH13-14'!BA15,'NH13-14'!AZ15)) | AD15: =IF('NH13-14'!B15="","",ROUND(SUMPRODUCT(G15:AC15,$G$7:$AC$7)/SUMIF(G15:AC15,">=0",$G$7:$AC$7),2)) -> 5.77 | AE15: =IF(G15="","",IF(G15<4,"",IF(G15<5.5,1,IF(G15<7,2,IF(G15<8.5,3,4))))) -> 2 | AF15: =IF(H15="","",IF(H15<4,"",IF(H15<5.5,1,IF(H15<7,2,IF(H15<8.5,3,4))))) -> 2 | AG15: =IF(I15="","",IF(I15<4,"",IF(I15<5.5,1,IF(I15<7,2,IF(I15<8.5,3,4))))) -> 2 | AH15: =IF(J15="","",IF(J15<4,"",IF(J15<5.5,1,IF(J15<7,2,IF(J15<8.5,3,4))))) -> 2 | AI15: =IF(K15="","",IF(K15<4,"",IF(K15<5.5,1,IF(K15<7,2,IF(K15<8.5,3,4))))) -> 1 | AJ15: =IF(L15="","",IF(L15<4,"",IF(L15<5.5,1,IF(L15<7,2,IF(L15<8.5,3,4))))) -> 2 | AK15: =IF(M15="","",IF(M15<4,"",IF(M15<5.5,1,IF(M15<7,2,IF(M15<8.5,3,4))))) -> 2 | AL15: =IF(N15="","",IF(N15<4,"",IF(N15<5.5,1,IF(N15<7,2,IF(N15<8.5,3,4))))) | ... BA15: =IF(AC15="","",IF(AC15<4,"",IF(AC15<5.5,1,IF(AC15<7,2,IF(AC15<8.5,3,4))))) | BB15: =IF('NH13-14'!B15="","",ROUND(SUMPRODUCT(AE15:BA15,$AE$7:$BA$7)/SUMIF(AE15:BA15,">=1",$AE$7:$BA$7),2)) -> 1.78 | BC15: =IF(G15<4,"",G15) -> 5.5 | BD15: =IF(H15<4,"",H15) -> 6.4 | BE15: =IF(I15<4,"",I15) -> 6 | BF15: =IF(J15<4,"",J15) -> 5.8 | BG15: =IF(K15<4,"",K15) -> 5.4 | BH15: =IF(L15<4,"",L15) -> 6.5 | BI15: =IF(M15<4,"",M15) -> 5.7 | BJ15: =IF(N15<4,"",N15) | ... BY15: =IF(AC15<4,"",AC15)
A16: =IF('NH13-14'!A16="","",'NH13-14'!A16) -> 6 | B16: =IF('NH13-14'!B16="","",'NH13-14'!B16) -> 13D301Đ021 | C16: =IF(B16="","",SUMIF(G16:AC16,">=4",$G$7:$AC$7)) -> 39 | D16: =IF(B16="","",SUMIF(G16:AC16,"<4",$G$7:$AC$7)) -> 0 | E16: =IF('NH13-14'!C16="","",'NH13-14'!C16) -> Nguyễn Chí | F16: =IF('NH13-14'!D16="","",'NH13-14'!D16) -> Cường | G16: =IF('NH13-14'!I16="",'NH13-14'!H16,IF('NH13-14'!I16>='NH13-14'!H16,'NH13-14'!I16,'NH13-14'!H16)) -> 4.6 | H16: =IF('NH13-14'!K16="",'NH13-14'!J16,IF('NH13-14'!K16>='NH13-14'!J16,'NH13-14'!K16,'NH13-14'!J16)) -> 6.5 | I16: =IF('NH13-14'!M16="",'NH13-14'!L16,IF('NH13-14'!M16>='NH13-14'!L16,'NH13-14'!M16,'NH13-14'!L16)) -> 5.6 | J16: =IF('NH13-14'!O16="",'NH13-14'!N16,IF('NH13-14'!O16>='NH13-14'!N16,'NH13-14'!O16,'NH13-14'!N16)) -> 6.9 | K16: =IF('NH13-14'!Q16="",'NH13-14'!P16,IF('NH13-14'!Q16>='NH13-14'!P16,'NH13-14'!Q16,'NH13-14'!P16)) -> 5.8 | L16: =IF('NH13-14'!S16="",'NH13-14'!R16,IF('NH13-14'!S16>='NH13-14'!R16,'NH13-14'!S16,'NH13-14'!R16)) -> 5.9 | M16: =IF('NH13-14'!U16="",'NH13-14'!T16,IF('NH13-14'!U16>='NH13-14'!T16,'NH13-14'!U16,'NH13-14'!T16)) -> 5 | N16: =IF('NH13-14'!W16="",'NH13-14'!V16,IF('NH13-14'!W16>='NH13-14'!V16,'NH13-14'!W16,'NH13-14'!V16)) | O16: =IF('NH13-14'!Y16="",'NH13-14'!X16,IF('NH13-14'!Y16>='NH13-14'!X16,'NH13-14'!Y16,'NH13-14'!X16)) | P16: =IF('NH13-14'!AA16="",'NH13-14'!Z16,IF('NH13-14'!AA16>='NH13-14'!Z16,'NH13-14'!AA16,'NH13-14'!Z16)) -> 7.1 | Q16: =IF('NH13-14'!AC16="",'NH13-14'!AB16,IF('NH13-14'!AC16>='NH13-14'!AB16,'NH13-14'!AC16,'NH13-14'!AB16)) -> 5.7 | R16: =IF('NH13-14'!AE16="",'NH13-14'!AD16,IF('NH13-14'!AE16>='NH13-14'!AD16,'NH13-14'!AE16,'NH13-14'!AD16)) | S16: =IF('NH13-14'!AG16="",'NH13-14'!AF16,IF('NH13-14'!AG16>='NH13-14'!AF16,'NH13-14'!AG16,'NH13-14'!AF16)) -> 6.8 | T16: =IF('NH13-14'!AI16="",'NH13-14'!AH16,IF('NH13-14'!AI16>='NH13-14'!AH16,'NH13-14'!AI16,'NH13-14'!AH16)) -> 6.1 | U16: =IF('NH13-14'!AK16="",'NH13-14'!AJ16,IF('NH13-14'!AK16>='NH13-14'!AJ16,'NH13-14'!AK16,'NH13-14'!AJ16)) -> 7 | V16: =IF('NH13-14'!AM16="",'NH13-14'!AL16,IF('NH13-14'!AM16>='NH13-14'!AL16,'NH13-14'!AM16,'NH13-14'!AL16)) -> 7.4 | W16: =IF('NH13-14'!AO16="",'NH13-14'!AN16,IF('NH13-14'!AO16>='NH13-14'!AN16,'NH13-14'!AO16,'NH13-14'!AN16)) -> 5.3 | X16: =IF('NH13-14'!AQ16="",'NH13-14'!AP16,IF('NH13-14'!AQ16>='NH13-14'!AP16,'NH13-14'!AQ16,'NH13-14'!AP16)) -> 7.3 | Y16: =IF('NH13-14'!AS16="",'NH13-14'!AR16,IF('NH13-14'!AS16>='NH13-14'!AR16,'NH13-14'!AS16,'NH13-14'!AR16)) | Z16: =IF('NH13-14'!AU16="",'NH13-14'!AT16,IF('NH13-14'!AU16>='NH13-14'!AT16,'NH13-14'!AU16,'NH13-14'!AT16)) | AA16: =IF('NH13-14'!AW16="",'NH13-14'!AV16,IF('NH13-14'!AW16>='NH13-14'!AV16,'NH13-14'!AW16,'NH13-14'!AV16)) | AB16: =IF('NH13-14'!AY16="",'NH13-14'!AX16,IF('NH13-14'!AY16>='NH13-14'!AX16,'NH13-14'!AY16,'NH13-14'!AX16)) -> 5.8 | AC16: =IF('NH13-14'!BA16="",'NH13-14'!AZ16,IF('NH13-14'!BA16>='NH13-14'!AZ16,'NH13-14'!BA16,'NH13-14'!AZ16)) | AD16: =IF('NH13-14'!B16="","",ROUND(SUMPRODUCT(G16:AC16,$G$7:$AC$7)/SUMIF(G16:AC16,">=0",$G$7:$AC$7),2)) -> 6.1 | AE16: =IF(G16="","",IF(G16<4,"",IF(G16<5.5,1,IF(G16<7,2,IF(G16<8.5,3,4))))) -> 1 | AF16: =IF(H16="","",IF(H16<4,"",IF(H16<5.5,1,IF(H16<7,2,IF(H16<8.5,3,4))))) -> 2 | AG16: =IF(I16="","",IF(I16<4,"",IF(I16<5.5,1,IF(I16<7,2,IF(I16<8.5,3,4))))) -> 2 | AH16: =IF(J16="","",IF(J16<4,"",IF(J16<5.5,1,IF(J16<7,2,IF(J16<8.5,3,4))))) -> 2 | AI16: =IF(K16="","",IF(K16<4,"",IF(K16<5.5,1,IF(K16<7,2,IF(K16<8.5,3,4))))) -> 2 | AJ16: =IF(L16="","",IF(L16<4,"",IF(L16<5.5,1,IF(L16<7,2,IF(L16<8.5,3,4))))) -> 2 | AK16: =IF(M16="","",IF(M16<4,"",IF(M16<5.5,1,IF(M16<7,2,IF(M16<8.5,3,4))))) -> 1 | AL16: =IF(N16="","",IF(N16<4,"",IF(N16<5.5,1,IF(N16<7,2,IF(N16<8.5,3,4))))) | ... BA16: =IF(AC16="","",IF(AC16<4,"",IF(AC16<5.5,1,IF(AC16<7,2,IF(AC16<8.5,3,4))))) | BB16: =IF('NH13-14'!B16="","",ROUND(SUMPRODUCT(AE16:BA16,$AE$7:$BA$7)/SUMIF(AE16:BA16,">=1",$AE$7:$BA$7),2)) -> 2.03 | BC16: =IF(G16<4,"",G16) -> 4.6 | BD16: =IF(H16<4,"",H16) -> 6.5 | BE16: =IF(I16<4,"",I16) -> 5.6 | BF16: =IF(J16<4,"",J16) -> 6.9 | BG16: =IF(K16<4,"",K16) -> 5.8 | BH16: =IF(L16<4,"",L16) -> 5.9 | BI16: =IF(M16<4,"",M16) -> 5 | BJ16: =IF(N16<4,"",N16) | ... BY16: =IF(AC16<4,"",AC16)
A17: =IF('NH13-14'!A17="","",'NH13-14'!A17) -> 7 | B17: =IF('NH13-14'!B17="","",'NH13-14'!B17) -> 13D301Đ025 | C17: =IF(B17="","",SUMIF(G17:AC17,">=4",$G$7:$AC$7)) -> 39 | D17: =IF(B17="","",SUMIF(G17:AC17,"<4",$G$7:$AC$7)) -> 0 | E17: =IF('NH13-14'!C17="","",'NH13-14'!C17) -> Nguyễn Ngọc | F17: =IF('NH13-14'!D17="","",'NH13-14'!D17) -> Dũng | G17: =IF('NH13-14'!I17="",'NH13-14'!H17,IF('NH13-14'!I17>='NH13-14'!H17,'NH13-14'!I17,'NH13-14'!H17)) -> 5.4 | H17: =IF('NH13-14'!K17="",'NH13-14'!J17,IF('NH13-14'!K17>='NH13-14'!J17,'NH13-14'!K17,'NH13-14'!J17)) -> 5.4 | I17: =IF('NH13-14'!M17="",'NH13-14'!L17,IF('NH13-14'!M17>='NH13-14'!L17,'NH13-14'!M17,'NH13-14'!L17)) -> 5.5 | J17: =IF('NH13-14'!O17="",'NH13-14'!N17,IF('NH13-14'!O17>='NH13-14'!N17,'NH13-14'!O17,'NH13-14'!N17)) -> 5.3 | K17: =IF('NH13-14'!Q17="",'NH13-14'!P17,IF('NH13-14'!Q17>='NH13-14'!P17,'NH13-14'!Q17,'NH13-14'!P17)) -> 5.1 | L17: =IF('NH13-14'!S17="",'NH13-14'!R17,IF('NH13-14'!S17>='NH13-14'!R17,'NH13-14'!S17,'NH13-14'!R17)) -> 4.9 | M17: =IF('NH13-14'!U17="",'NH13-14'!T17,IF('NH13-14'!U17>='NH13-14'!T17,'NH13-14'!U17,'NH13-14'!T17)) -> 5.1 | N17: =IF('NH13-14'!W17="",'NH13-14'!V17,IF('NH13-14'!W17>='NH13-14'!V17,'NH13-14'!W17,'NH13-14'!V17)) | O17: =IF('NH13-14'!Y17="",'NH13-14'!X17,IF('NH13-14'!Y17>='NH13-14'!X17,'NH13-14'!Y17,'NH13-14'!X17)) | P17: =IF('NH13-14'!AA17="",'NH13-14'!Z17,IF('NH13-14'!AA17>='NH13-14'!Z17,'NH13-14'!AA17,'NH13-14'!Z17)) -> 5.7 | Q17: =IF('NH13-14'!AC17="",'NH13-14'!AB17,IF('NH13-14'!AC17>='NH13-14'!AB17,'NH13-14'!AC17,'NH13-14'!AB17)) -> 5.7 | R17: =IF('NH13-14'!AE17="",'NH13-14'!AD17,IF('NH13-14'!AE17>='NH13-14'!AD17,'NH13-14'!AE17,'NH13-14'!AD17)) | S17: =IF('NH13-14'!AG17="",'NH13-14'!AF17,IF('NH13-14'!AG17>='NH13-14'!AF17,'NH13-14'!AG17,'NH13-14'!AF17)) -> 5.5 | T17: =IF('NH13-14'!AI17="",'NH13-14'!AH17,IF('NH13-14'!AI17>='NH13-14'!AH17,'NH13-14'!AI17,'NH13-14'!AH17)) -> 4.9 | U17: =IF('NH13-14'!AK17="",'NH13-14'!AJ17,IF('NH13-14'!AK17>='NH13-14'!AJ17,'NH13-14'!AK17,'NH13-14'!AJ17)) -> 5.5 | V17: =IF('NH13-14'!AM17="",'NH13-14'!AL17,IF('NH13-14'!AM17>='NH13-14'!AL17,'NH13-14'!AM17,'NH13-14'!AL17)) -> 5.9 | W17: =IF('NH13-14'!AO17="",'NH13-14'!AN17,IF('NH13-14'!AO17>='NH13-14'!AN17,'NH13-14'!AO17,'NH13-14'!AN17)) -> 4.2 | X17: =IF('NH13-14'!AQ17="",'NH13-14'!AP17,IF('NH13-14'!AQ17>='NH13-14'!AP17,'NH13-14'!AQ17,'NH13-14'!AP17)) -> 7 | Y17: =IF('NH13-14'!AS17="",'NH13-14'!AR17,IF('NH13-14'!AS17>='NH13-14'!AR17,'NH13-14'!AS17,'NH13-14'!AR17)) | Z17: =IF('NH13-14'!AU17="",'NH13-14'!AT17,IF('NH13-14'!AU17>='NH13-14'!AT17,'NH13-14'!AU17,'NH13-14'!AT17)) | AA17: =IF('NH13-14'!AW17="",'NH13-14'!AV17,IF('NH13-14'!AW17>='NH13-14'!AV17,'NH13-14'!AW17,'NH13-14'!AV17)) | AB17: =IF('NH13-14'!AY17="",'NH13-14'!AX17,IF('NH13-14'!AY17>='NH13-14'!AX17,'NH13-14'!AY17,'NH13-14'!AX17)) -> 5.7 | AC17: =IF('NH13-14'!BA17="",'NH13-14'!AZ17,IF('NH13-14'!BA17>='NH13-14'!AZ17,'NH13-14'!BA17,'NH13-14'!AZ17)) | AD17: =IF('NH13-14'!B17="","",ROUND(SUMPRODUCT(G17:AC17,$G$7:$AC$7)/SUMIF(G17:AC17,">=0",$G$7:$AC$7),2)) -> 5.38 | AE17: =IF(G17="","",IF(G17<4,"",IF(G17<5.5,1,IF(G17<7,2,IF(G17<8.5,3,4))))) -> 1 | AF17: =IF(H17="","",IF(H17<4,"",IF(H17<5.5,1,IF(H17<7,2,IF(H17<8.5,3,4))))) -> 1 | AG17: =IF(I17="","",IF(I17<4,"",IF(I17<5.5,1,IF(I17<7,2,IF(I17<8.5,3,4))))) -> 2 | AH17: =IF(J17="","",IF(J17<4,"",IF(J17<5.5,1,IF(J17<7,2,IF(J17<8.5,3,4))))) -> 1 | AI17: =IF(K17="","",IF(K17<4,"",IF(K17<5.5,1,IF(K17<7,2,IF(K17<8.5,3,4))))) -> 1 | AJ17: =IF(L17="","",IF(L17<4,"",IF(L17<5.5,1,IF(L17<7,2,IF(L17<8.5,3,4))))) -> 1 | AK17: =IF(M17="","",IF(M17<4,"",IF(M17<5.5,1,IF(M17<7,2,IF(M17<8.5,3,4))))) -> 1 | AL17: =IF(N17="","",IF(N17<4,"",IF(N17<5.5,1,IF(N17<7,2,IF(N17<8.5,3,4))))) | ... BA17: =IF(AC17="","",IF(AC17<4,"",IF(AC17<5.5,1,IF(AC17<7,2,IF(AC17<8.5,3,4))))) | BB17: =IF('NH13-14'!B17="","",ROUND(SUMPRODUCT(AE17:BA17,$AE$7:$BA$7)/SUMIF(AE17:BA17,">=1",$AE$7:$BA$7),2)) -> 1.49 | BC17: =IF(G17<4,"",G17) -> 5.4 | BD17: =IF(H17<4,"",H17) -> 5.4 | BE17: =IF(I17<4,"",I17) -> 5.5 | BF17: =IF(J17<4,"",J17) -> 5.3 | BG17: =IF(K17<4,"",K17) -> 5.1 | BH17: =IF(L17<4,"",L17) -> 4.9 | BI17: =IF(M17<4,"",M17) -> 5.1 | BJ17: =IF(N17<4,"",N17) | ... BY17: =IF(AC17<4,"",AC17)
A18: =IF('NH13-14'!A18="","",'NH13-14'!A18) -> 8 | B18: =IF('NH13-14'!B18="","",'NH13-14'!B18) -> 13D301Đ033 | C18: =IF(B18="","",SUMIF(G18:AC18,">=4",$G$7:$AC$7)) -> 39 | D18: =IF(B18="","",SUMIF(G18:AC18,"<4",$G$7:$AC$7)) -> 0 | E18: =IF('NH13-14'!C18="","",'NH13-14'!C18) -> Trương Văn | F18: =IF('NH13-14'!D18="","",'NH13-14'!D18) -> Đạt | G18: =IF('NH13-14'!I18="",'NH13-14'!H18,IF('NH13-14'!I18>='NH13-14'!H18,'NH13-14'!I18,'NH13-14'!H18)) -> 5.4 | H18: =IF('NH13-14'!K18="",'NH13-14'!J18,IF('NH13-14'!K18>='NH13-14'!J18,'NH13-14'!K18,'NH13-14'!J18)) -> 8.1 | I18: =IF('NH13-14'!M18="",'NH13-14'!L18,IF('NH13-14'!M18>='NH13-14'!L18,'NH13-14'!M18,'NH13-14'!L18)) -> 5.4 | J18: =IF('NH13-14'!O18="",'NH13-14'!N18,IF('NH13-14'!O18>='NH13-14'!N18,'NH13-14'!O18,'NH13-14'!N18)) -> 6.1 | K18: =IF('NH13-14'!Q18="",'NH13-14'!P18,IF('NH13-14'!Q18>='NH13-14'!P18,'NH13-14'!Q18,'NH13-14'!P18)) -> 5.9 | L18: =IF('NH13-14'!S18="",'NH13-14'!R18,IF('NH13-14'!S18>='NH13-14'!R18,'NH13-14'!S18,'NH13-14'!R18)) -> 5.3 | M18: =IF('NH13-14'!U18="",'NH13-14'!T18,IF('NH13-14'!U18>='NH13-14'!T18,'NH13-14'!U18,'NH13-14'!T18)) -> 6.6 | N18: =IF('NH13-14'!W18="",'NH13-14'!V18,IF('NH13-14'!W18>='NH13-14'!V18,'NH13-14'!W18,'NH13-14'!V18)) | O18: =IF('NH13-14'!Y18="",'NH13-14'!X18,IF('NH13-14'!Y18>='NH13-14'!X18,'NH13-14'!Y18,'NH13-14'!X18)) | P18: =IF('NH13-14'!AA18="",'NH13-14'!Z18,IF('NH13-14'!AA18>='NH13-14'!Z18,'NH13-14'!AA18,'NH13-14'!Z18)) -> 6.8 | Q18: =IF('NH13-14'!AC18="",'NH13-14'!AB18,IF('NH13-14'!AC18>='NH13-14'!AB18,'NH13-14'!AC18,'NH13-14'!AB18)) -> 5.6 | R18: =IF('NH13-14'!AE18="",'NH13-14'!AD18,IF('NH13-14'!AE18>='NH13-14'!AD18,'NH13-14'!AE18,'NH13-14'!AD18)) -> 6.8 | S18: =IF('NH13-14'!AG18="",'NH13-14'!AF18,IF('NH13-14'!AG18>='NH13-14'!AF18,'NH13-14'!AG18,'NH13-14'!AF18)) -> 6.1 | T18: =IF('NH13-14'!AI18="",'NH13-14'!AH18,IF('NH13-14'!AI18>='NH13-14'!AH18,'NH13-14'!AI18,'NH13-14'!AH18)) | U18: =IF('NH13-14'!AK18="",'NH13-14'!AJ18,IF('NH13-14'!AK18>='NH13-14'!AJ18,'NH13-14'!AK18,'NH13-14'!AJ18)) -> 6.8 | V18: =IF('NH13-14'!AM18="",'NH13-14'!AL18,IF('NH13-14'!AM18>='NH13-14'!AL18,'NH13-14'!AM18,'NH13-14'!AL18)) -> 5.7 | W18: =IF('NH13-14'!AO18="",'NH13-14'!AN18,IF('NH13-14'!AO18>='NH13-14'!AN18,'NH13-14'!AO18,'NH13-14'!AN18)) -> 5.4 | X18: =IF('NH13-14'!AQ18="",'NH13-14'!AP18,IF('NH13-14'!AQ18>='NH13-14'!AP18,'NH13-14'!AQ18,'NH13-14'!AP18)) -> 6.1 | Y18: =IF('NH13-14'!AS18="",'NH13-14'!AR18,IF('NH13-14'!AS18>='NH13-14'!AR18,'NH13-14'!AS18,'NH13-14'!AR18)) | Z18: =IF('NH13-14'!AU18="",'NH13-14'!AT18,IF('NH13-14'!AU18>='NH13-14'!AT18,'NH13-14'!AU18,'NH13-14'!AT18)) | AA18: =IF('NH13-14'!AW18="",'NH13-14'!AV18,IF('NH13-14'!AW18>='NH13-14'!AV18,'NH13-14'!AW18,'NH13-14'!AV18)) | AB18: =IF('NH13-14'!AY18="",'NH13-14'!AX18,IF('NH13-14'!AY18>='NH13-14'!AX18,'NH13-14'!AY18,'NH13-14'!AX18)) -> 6.6 | AC18: =IF('NH13-14'!BA18="",'NH13-14'!AZ18,IF('NH13-14'!BA18>='NH13-14'!AZ18,'NH13-14'!BA18,'NH13-14'!AZ18)) | AD18: =IF('NH13-14'!B18="","",ROUND(SUMPRODUCT(G18:AC18,$G$7:$AC$7)/SUMIF(G18:AC18,">=0",$G$7:$AC$7),2)) -> 6.11 | AE18: =IF(G18="","",IF(G18<4,"",IF(G18<5.5,1,IF(G18<7,2,IF(G18<8.5,3,4))))) -> 1 | AF18: =IF(H18="","",IF(H18<4,"",IF(H18<5.5,1,IF(H18<7,2,IF(H18<8.5,3,4))))) -> 3 | AG18: =IF(I18="","",IF(I18<4,"",IF(I18<5.5,1,IF(I18<7,2,IF(I18<8.5,3,4))))) -> 1 | AH18: =IF(J18="","",IF(J18<4,"",IF(J18<5.5,1,IF(J18<7,2,IF(J18<8.5,3,4))))) -> 2 | AI18: =IF(K18="","",IF(K18<4,"",IF(K18<5.5,1,IF(K18<7,2,IF(K18<8.5,3,4))))) -> 2 | AJ18: =IF(L18="","",IF(L18<4,"",IF(L18<5.5,1,IF(L18<7,2,IF(L18<8.5,3,4))))) -> 1 | AK18: =IF(M18="","",IF(M18<4,"",IF(M18<5.5,1,IF(M18<7,2,IF(M18<8.5,3,4))))) -> 2 | AL18: =IF(N18="","",IF(N18<4,"",IF(N18<5.5,1,IF(N18<7,2,IF(N18<8.5,3,4))))) | ... BA18: =IF(AC18="","",IF(AC18<4,"",IF(AC18<5.5,1,IF(AC18<7,2,IF(AC18<8.5,3,4))))) | BB18: =IF('NH13-14'!B18="","",ROUND(SUMPRODUCT(AE18:BA18,$AE$7:$BA$7)/SUMIF(AE18:BA18,">=1",$AE$7:$BA$7),2)) -> 1.77 | BC18: =IF(G18<4,"",G18) -> 5.4 | BD18: =IF(H18<4,"",H18) -> 8.1 | BE18: =IF(I18<4,"",I18) -> 5.4 | BF18: =IF(J18<4,"",J18) -> 6.1 | BG18: =IF(K18<4,"",K18) -> 5.9 | BH18: =IF(L18<4,"",L18) -> 5.3 | BI18: =IF(M18<4,"",M18) -> 6.6 | BJ18: =IF(N18<4,"",N18) | ... BY18: =IF(AC18<4,"",AC18)
A19: =IF('NH13-14'!A19="","",'NH13-14'!A19) -> 9 | B19: =IF('NH13-14'!B19="","",'NH13-14'!B19) -> 13D301Đ037 | C19: =IF(B19="","",SUMIF(G19:AC19,">=4",$G$7:$AC$7)) -> 39 | D19: =IF(B19="","",SUMIF(G19:AC19,"<4",$G$7:$AC$7)) -> 0 | E19: =IF('NH13-14'!C19="","",'NH13-14'!C19) -> Nguyễn Thành | F19: =IF('NH13-14'!D19="","",'NH13-14'!D19) -> Đông | G19: =IF('NH13-14'!I19="",'NH13-14'!H19,IF('NH13-14'!I19>='NH13-14'!H19,'NH13-14'!I19,'NH13-14'!H19)) -> 6 | H19: =IF('NH13-14'!K19="",'NH13-14'!J19,IF('NH13-14'!K19>='NH13-14'!J19,'NH13-14'!K19,'NH13-14'!J19)) -> 6.1 | I19: =IF('NH13-14'!M19="",'NH13-14'!L19,IF('NH13-14'!M19>='NH13-14'!L19,'NH13-14'!M19,'NH13-14'!L19)) -> 7.3 | J19: =IF('NH13-14'!O19="",'NH13-14'!N19,IF('NH13-14'!O19>='NH13-14'!N19,'NH13-14'!O19,'NH13-14'!N19)) -> 5.5 | K19: =IF('NH13-14'!Q19="",'NH13-14'!P19,IF('NH13-14'!Q19>='NH13-14'!P19,'NH13-14'!Q19,'NH13-14'!P19)) -> 5.4 | L19: =IF('NH13-14'!S19="",'NH13-14'!R19,IF('NH13-14'!S19>='NH13-14'!R19,'NH13-14'!S19,'NH13-14'!R19)) -> 5 | M19: =IF('NH13-14'!U19="",'NH13-14'!T19,IF('NH13-14'!U19>='NH13-14'!T19,'NH13-14'!U19,'NH13-14'!T19)) -> 6.2 | N19: =IF('NH13-14'!W19="",'NH13-14'!V19,IF('NH13-14'!W19>='NH13-14'!V19,'NH13-14'!W19,'NH13-14'!V19)) | O19: =IF('NH13-14'!Y19="",'NH13-14'!X19,IF('NH13-14'!Y19>='NH13-14'!X19,'NH13-14'!Y19,'NH13-14'!X19)) | P19: =IF('NH13-14'!AA19="",'NH13-14'!Z19,IF('NH13-14'!AA19>='NH13-14'!Z19,'NH13-14'!AA19,'NH13-14'!Z19)) -> 6.1 | Q19: =IF('NH13-14'!AC19="",'NH13-14'!AB19,IF('NH13-14'!AC19>='NH13-14'!AB19,'NH13-14'!AC19,'NH13-14'!AB19)) -> 6.2 | R19: =IF('NH13-14'!AE19="",'NH13-14'!AD19,IF('NH13-14'!AE19>='NH13-14'!AD19,'NH13-14'!AE19,'NH13-14'!AD19)) -> 5.9 | S19: =IF('NH13-14'!AG19="",'NH13-14'!AF19,IF('NH13-14'!AG19>='NH13-14'!AF19,'NH13-14'!AG19,'NH13-14'!AF19)) | T19: =IF('NH13-14'!AI19="",'NH13-14'!AH19,IF('NH13-14'!AI19>='NH13-14'!AH19,'NH13-14'!AI19,'NH13-14'!AH19)) -> 6.5 | U19: =IF('NH13-14'!AK19="",'NH13-14'!AJ19,IF('NH13-14'!AK19>='NH13-14'!AJ19,'NH13-14'!AK19,'NH13-14'!AJ19)) -> 6.1 | V19: =IF('NH13-14'!AM19="",'NH13-14'!AL19,IF('NH13-14'!AM19>='NH13-14'!AL19,'NH13-14'!AM19,'NH13-14'!AL19)) -> 6.2 | W19: =IF('NH13-14'!AO19="",'NH13-14'!AN19,IF('NH13-14'!AO19>='NH13-14'!AN19,'NH13-14'!AO19,'NH13-14'!AN19)) -> 4.2 | X19: =IF('NH13-14'!AQ19="",'NH13-14'!AP19,IF('NH13-14'!AQ19>='NH13-14'!AP19,'NH13-14'!AQ19,'NH13-14'!AP19)) -> 5.2 | Y19: =IF('NH13-14'!AS19="",'NH13-14'!AR19,IF('NH13-14'!AS19>='NH13-14'!AR19,'NH13-14'!AS19,'NH13-14'!AR19)) | Z19: =IF('NH13-14'!AU19="",'NH13-14'!AT19,IF('NH13-14'!AU19>='NH13-14'!AT19,'NH13-14'!AU19,'NH13-14'!AT19)) | AA19: =IF('NH13-14'!AW19="",'NH13-14'!AV19,IF('NH13-14'!AW19>='NH13-14'!AV19,'NH13-14'!AW19,'NH13-14'!AV19)) | AB19: =IF('NH13-14'!AY19="",'NH13-14'!AX19,IF('NH13-14'!AY19>='NH13-14'!AX19,'NH13-14'!AY19,'NH13-14'!AX19)) -> 5.7 | AC19: =IF('NH13-14'!BA19="",'NH13-14'!AZ19,IF('NH13-14'!BA19>='NH13-14'!AZ19,'NH13-14'!BA19,'NH13-14'!AZ19)) | AD19: =IF('NH13-14'!B19="","",ROUND(SUMPRODUCT(G19:AC19,$G$7:$AC$7)/SUMIF(G19:AC19,">=0",$G$7:$AC$7),2)) -> 5.79 | AE19: =IF(G19="","",IF(G19<4,"",IF(G19<5.5,1,IF(G19<7,2,IF(G19<8.5,3,4))))) -> 2 | AF19: =IF(H19="","",IF(H19<4,"",IF(H19<5.5,1,IF(H19<7,2,IF(H19<8.5,3,4))))) -> 2 | AG19: =IF(I19="","",IF(I19<4,"",IF(I19<5.5,1,IF(I19<7,2,IF(I19<8.5,3,4))))) -> 3 | AH19: =IF(J19="","",IF(J19<4,"",IF(J19<5.5,1,IF(J19<7,2,IF(J19<8.5,3,4))))) -> 2 | AI19: =IF(K19="","",IF(K19<4,"",IF(K19<5.5,1,IF(K19<7,2,IF(K19<8.5,3,4))))) -> 1 | AJ19: =IF(L19="","",IF(L19<4,"",IF(L19<5.5,1,IF(L19<7,2,IF(L19<8.5,3,4))))) -> 1 | AK19: =IF(M19="","",IF(M19<4,"",IF(M19<5.5,1,IF(M19<7,2,IF(M19<8.5,3,4))))) -> 2 | AL19: =IF(N19="","",IF(N19<4,"",IF(N19<5.5,1,IF(N19<7,2,IF(N19<8.5,3,4))))) | ... BA19: =IF(AC19="","",IF(AC19<4,"",IF(AC19<5.5,1,IF(AC19<7,2,IF(AC19<8.5,3,4))))) | BB19: =IF('NH13-14'!B19="","",ROUND(SUMPRODUCT(AE19:BA19,$AE$7:$BA$7)/SUMIF(AE19:BA19,">=1",$AE$7:$BA$7),2)) -> 1.74 | BC19: =IF(G19<4,"",G19) -> 6 | BD19: =IF(H19<4,"",H19) -> 6.1 | BE19: =IF(I19<4,"",I19) -> 7.3 | BF19: =IF(J19<4,"",J19) -> 5.5 | BG19: =IF(K19<4,"",K19) -> 5.4 | BH19: =IF(L19<4,"",L19) -> 5 | BI19: =IF(M19<4,"",M19) -> 6.2 | BJ19: =IF(N19<4,"",N19) | ... BY19: =IF(AC19<4,"",AC19)
A20: =IF('NH13-14'!A20="","",'NH13-14'!A20) -> 10 | B20: =IF('NH13-14'!B20="","",'NH13-14'!B20) -> 13D301Đ041 | C20: =IF(B20="","",SUMIF(G20:AC20,">=4",$G$7:$AC$7)) -> 35 | D20: =IF(B20="","",SUMIF(G20:AC20,"<4",$G$7:$AC$7)) -> 4 | E20: =IF('NH13-14'!C20="","",'NH13-14'!C20) -> Lê Hoàng | F20: =IF('NH13-14'!D20="","",'NH13-14'!D20) -> Giang | G20: =IF('NH13-14'!I20="",'NH13-14'!H20,IF('NH13-14'!I20>='NH13-14'!H20,'NH13-14'!I20,'NH13-14'!H20)) -> 5.9 | H20: =IF('NH13-14'!K20="",'NH13-14'!J20,IF('NH13-14'!K20>='NH13-14'!J20,'NH13-14'!K20,'NH13-14'!J20)) -> 5.8 | I20: =IF('NH13-14'!M20="",'NH13-14'!L20,IF('NH13-14'!M20>='NH13-14'!L20,'NH13-14'!M20,'NH13-14'!L20)) -> 5 | J20: =IF('NH13-14'!O20="",'NH13-14'!N20,IF('NH13-14'!O20>='NH13-14'!N20,'NH13-14'!O20,'NH13-14'!N20)) -> 5.5 | K20: =IF('NH13-14'!Q20="",'NH13-14'!P20,IF('NH13-14'!Q20>='NH13-14'!P20,'NH13-14'!Q20,'NH13-14'!P20)) -> 5.2 | L20: =IF('NH13-14'!S20="",'NH13-14'!R20,IF('NH13-14'!S20>='NH13-14'!R20,'NH13-14'!S20,'NH13-14'!R20)) -> 6.7 | M20: =IF('NH13-14'!U20="",'NH13-14'!T20,IF('NH13-14'!U20>='NH13-14'!T20,'NH13-14'!U20,'NH13-14'!T20)) -> 6.6 | N20: =IF('NH13-14'!W20="",'NH13-14'!V20,IF('NH13-14'!W20>='NH13-14'!V20,'NH13-14'!W20,'NH13-14'!V20)) | O20: =IF('NH13-14'!Y20="",'NH13-14'!X20,IF('NH13-14'!Y20>='NH13-14'!X20,'NH13-14'!Y20,'NH13-14'!X20)) | P20: =IF('NH13-14'!AA20="",'NH13-14'!Z20,IF('NH13-14'!AA20>='NH13-14'!Z20,'NH13-14'!AA20,'NH13-14'!Z20)) -> 3.5 | Q20: =IF('NH13-14'!AC20="",'NH13-14'!AB20,IF('NH13-14'!AC20>='NH13-14'!AB20,'NH13-14'!AC20,'NH13-14'!AB20)) -> 4.7 | R20: =IF('NH13-14'!AE20="",'NH13-14'!AD20,IF('NH13-14'!AE20>='NH13-14'!AD20,'NH13-14'!AE20,'NH13-14'!AD20)) | S20: =IF('NH13-14'!AG20="",'NH13-14'!AF20,IF('NH13-14'!AG20>='NH13-14'!AF20,'NH13-14'!AG20,'NH13-14'!AF20)) -> 5.8 | T20: =IF('NH13-14'!AI20="",'NH13-14'!AH20,IF('NH13-14'!AI20>='NH13-14'!AH20,'NH13-14'!AI20,'NH13-14'!AH20)) -> 4.5 | U20: =IF('NH13-14'!AK20="",'NH13-14'!AJ20,IF('NH13-14'!AK20>='NH13-14'!AJ20,'NH13-14'!AK20,'NH13-14'!AJ20)) -> 5.8 | V20: =IF('NH13-14'!AM20="",'NH13-14'!AL20,IF('NH13-14'!AM20>='NH13-14'!AL20,'NH13-14'!AM20,'NH13-14'!AL20)) -> 5.6 | W20: =IF('NH13-14'!AO20="",'NH13-14'!AN20,IF('NH13-14'!AO20>='NH13-14'!AN20,'NH13-14'!AO20,'NH13-14'!AN20)) -> 3.2 | X20: =IF('NH13-14'!AQ20="",'NH13-14'!AP20,IF('NH13-14'!AQ20>='NH13-14'!AP20,'NH13-14'!AQ20,'NH13-14'!AP20)) -> 5.9 | Y20: =IF('NH13-14'!AS20="",'NH13-14'!AR20,IF('NH13-14'!AS20>='NH13-14'!AR20,'NH13-14'!AS20,'NH13-14'!AR20)) | Z20: =IF('NH13-14'!AU20="",'NH13-14'!AT20,IF('NH13-14'!AU20>='NH13-14'!AT20,'NH13-14'!AU20,'NH13-14'!AT20)) | AA20: =IF('NH13-14'!AW20="",'NH13-14'!AV20,IF('NH13-14'!AW20>='NH13-14'!AV20,'NH13-14'!AW20,'NH13-14'!AV20)) | AB20: =IF('NH13-14'!AY20="",'NH13-14'!AX20,IF('NH13-14'!AY20>='NH13-14'!AX20,'NH13-14'!AY20,'NH13-14'!AX20)) -> 6.3 | AC20: =IF('NH13-14'!BA20="",'NH13-14'!AZ20,IF('NH13-14'!BA20>='NH13-14'!AZ20,'NH13-14'!BA20,'NH13-14'!AZ20)) | AD20: =IF('NH13-14'!B20="","",ROUND(SUMPRODUCT(G20:AC20,$G$7:$AC$7)/SUMIF(G20:AC20,">=0",$G$7:$AC$7),2)) -> 5.48 | AE20: =IF(G20="","",IF(G20<4,"",IF(G20<5.5,1,IF(G20<7,2,IF(G20<8.5,3,4))))) -> 2 | AF20: =IF(H20="","",IF(H20<4,"",IF(H20<5.5,1,IF(H20<7,2,IF(H20<8.5,3,4))))) -> 2 | AG20: =IF(I20="","",IF(I20<4,"",IF(I20<5.5,1,IF(I20<7,2,IF(I20<8.5,3,4))))) -> 1 | AH20: =IF(J20="","",IF(J20<4,"",IF(J20<5.5,1,IF(J20<7,2,IF(J20<8.5,3,4))))) -> 2 | AI20: =IF(K20="","",IF(K20<4,"",IF(K20<5.5,1,IF(K20<7,2,IF(K20<8.5,3,4))))) -> 1 | AJ20: =IF(L20="","",IF(L20<4,"",IF(L20<5.5,1,IF(L20<7,2,IF(L20<8.5,3,4))))) -> 2 | AK20: =IF(M20="","",IF(M20<4,"",IF(M20<5.5,1,IF(M20<7,2,IF(M20<8.5,3,4))))) -> 2 | AL20: =IF(N20="","",IF(N20<4,"",IF(N20<5.5,1,IF(N20<7,2,IF(N20<8.5,3,4))))) | ... BA20: =IF(AC20="","",IF(AC20<4,"",IF(AC20<5.5,1,IF(AC20<7,2,IF(AC20<8.5,3,4))))) | BB20: =IF('NH13-14'!B20="","",ROUND(SUMPRODUCT(AE20:BA20,$AE$7:$BA$7)/SUMIF(AE20:BA20,">=1",$AE$7:$BA$7),2)) -> 1.71 | BC20: =IF(G20<4,"",G20) -> 5.9 | BD20: =IF(H20<4,"",H20) -> 5.8 | BE20: =IF(I20<4,"",I20) -> 5 | BF20: =IF(J20<4,"",J20) -> 5.5 | BG20: =IF(K20<4,"",K20) -> 5.2 | BH20: =IF(L20<4,"",L20) -> 6.7 | BI20: =IF(M20<4,"",M20) -> 6.6 | BJ20: =IF(N20<4,"",N20) | ... BY20: =IF(AC20<4,"",AC20)
A21: =IF('NH13-14'!A21="","",'NH13-14'!A21) -> 11 | B21: =IF('NH13-14'!B21="","",'NH13-14'!B21) -> 13D301Đ045 | C21: =IF(B21="","",SUMIF(G21:AC21,">=4",$G$7:$AC$7)) -> 37 | D21: =IF(B21="","",SUMIF(G21:AC21,"<4",$G$7:$AC$7)) -> 2 | E21: =IF('NH13-14'!C21="","",'NH13-14'!C21) -> Lê Công | F21: =IF('NH13-14'!D21="","",'NH13-14'!D21) -> Hậu | G21: =IF('NH13-14'!I21="",'NH13-14'!H21,IF('NH13-14'!I21>='NH13-14'!H21,'NH13-14'!I21,'NH13-14'!H21)) -> 5 | H21: =IF('NH13-14'!K21="",'NH13-14'!J21,IF('NH13-14'!K21>='NH13-14'!J21,'NH13-14'!K21,'NH13-14'!J21)) -> 5.5 | I21: =IF('NH13-14'!M21="",'NH13-14'!L21,IF('NH13-14'!M21>='NH13-14'!L21,'NH13-14'!M21,'NH13-14'!L21)) -> 5 | J21: =IF('NH13-14'!O21="",'NH13-14'!N21,IF('NH13-14'!O21>='NH13-14'!N21,'NH13-14'!O21,'NH13-14'!N21)) -> 5.2 | K21: =IF('NH13-14'!Q21="",'NH13-14'!P21,IF('NH13-14'!Q21>='NH13-14'!P21,'NH13-14'!Q21,'NH13-14'!P21)) -> 5.9 | L21: =IF('NH13-14'!S21="",'NH13-14'!R21,IF('NH13-14'!S21>='NH13-14'!R21,'NH13-14'!S21,'NH13-14'!R21)) -> 6.8 | M21: =IF('NH13-14'!U21="",'NH13-14'!T21,IF('NH13-14'!U21>='NH13-14'!T21,'NH13-14'!U21,'NH13-14'!T21)) -> 6.4 | N21: =IF('NH13-14'!W21="",'NH13-14'!V21,IF('NH13-14'!W21>='NH13-14'!V21,'NH13-14'!W21,'NH13-14'!V21)) | O21: =IF('NH13-14'!Y21="",'NH13-14'!X21,IF('NH13-14'!Y21>='NH13-14'!X21,'NH13-14'!Y21,'NH13-14'!X21)) | P21: =IF('NH13-14'!AA21="",'NH13-14'!Z21,IF('NH13-14'!AA21>='NH13-14'!Z21,'NH13-14'!AA21,'NH13-14'!Z21)) -> 5.5 | Q21: =IF('NH13-14'!AC21="",'NH13-14'!AB21,IF('NH13-14'!AC21>='NH13-14'!AB21,'NH13-14'!AC21,'NH13-14'!AB21)) -> 5.4 | R21: =IF('NH13-14'!AE21="",'NH13-14'!AD21,IF('NH13-14'!AE21>='NH13-14'!AD21,'NH13-14'!AE21,'NH13-14'!AD21)) | S21: =IF('NH13-14'!AG21="",'NH13-14'!AF21,IF('NH13-14'!AG21>='NH13-14'!AF21,'NH13-14'!AG21,'NH13-14'!AF21)) -> 6.1 | T21: =IF('NH13-14'!AI21="",'NH13-14'!AH21,IF('NH13-14'!AI21>='NH13-14'!AH21,'NH13-14'!AI21,'NH13-14'!AH21)) -> 5.7 | U21: =IF('NH13-14'!AK21="",'NH13-14'!AJ21,IF('NH13-14'!AK21>='NH13-14'!AJ21,'NH13-14'!AK21,'NH13-14'!AJ21)) -> 7.1 | V21: =IF('NH13-14'!AM21="",'NH13-14'!AL21,IF('NH13-14'!AM21>='NH13-14'!AL21,'NH13-14'!AM21,'NH13-14'!AL21)) -> 6 | W21: =IF('NH13-14'!AO21="",'NH13-14'!AN21,IF('NH13-14'!AO21>='NH13-14'!AN21,'NH13-14'!AO21,'NH13-14'!AN21)) -> 1.7 | X21: =IF('NH13-14'!AQ21="",'NH13-14'!AP21,IF('NH13-14'!AQ21>='NH13-14'!AP21,'NH13-14'!AQ21,'NH13-14'!AP21)) -> 6.4 | Y21: =IF('NH13-14'!AS21="",'NH13-14'!AR21,IF('NH13-14'!AS21>='NH13-14'!AR21,'NH13-14'!AS21,'NH13-14'!AR21)) | Z21: =IF('NH13-14'!AU21="",'NH13-14'!AT21,IF('NH13-14'!AU21>='NH13-14'!AT21,'NH13-14'!AU21,'NH13-14'!AT21)) | AA21: =IF('NH13-14'!AW21="",'NH13-14'!AV21,IF('NH13-14'!AW21>='NH13-14'!AV21,'NH13-14'!AW21,'NH13-14'!AV21)) | AB21: =IF('NH13-14'!AY21="",'NH13-14'!AX21,IF('NH13-14'!AY21>='NH13-14'!AX21,'NH13-14'!AY21,'NH13-14'!AX21)) -> 6.8 | AC21: =IF('NH13-14'!BA21="",'NH13-14'!AZ21,IF('NH13-14'!BA21>='NH13-14'!AZ21,'NH13-14'!BA21,'NH13-14'!AZ21)) | AD21: =IF('NH13-14'!B21="","",ROUND(SUMPRODUCT(G21:AC21,$G$7:$AC$7)/SUMIF(G21:AC21,">=0",$G$7:$AC$7),2)) -> 5.72 | AE21: =IF(G21="","",IF(G21<4,"",IF(G21<5.5,1,IF(G21<7,2,IF(G21<8.5,3,4))))) -> 1 | AF21: =IF(H21="","",IF(H21<4,"",IF(H21<5.5,1,IF(H21<7,2,IF(H21<8.5,3,4))))) -> 2 | AG21: =IF(I21="","",IF(I21<4,"",IF(I21<5.5,1,IF(I21<7,2,IF(I21<8.5,3,4))))) -> 1 | AH21: =IF(J21="","",IF(J21<4,"",IF(J21<5.5,1,IF(J21<7,2,IF(J21<8.5,3,4))))) -> 1 | AI21: =IF(K21="","",IF(K21<4,"",IF(K21<5.5,1,IF(K21<7,2,IF(K21<8.5,3,4))))) -> 2 | AJ21: =IF(L21="","",IF(L21<4,"",IF(L21<5.5,1,IF(L21<7,2,IF(L21<8.5,3,4))))) -> 2 | AK21: =IF(M21="","",IF(M21<4,"",IF(M21<5.5,1,IF(M21<7,2,IF(M21<8.5,3,4))))) -> 2 | AL21: =IF(N21="","",IF(N21<4,"",IF(N21<5.5,1,IF(N21<7,2,IF(N21<8.5,3,4))))) | ... BA21: =IF(AC21="","",IF(AC21<4,"",IF(AC21<5.5,1,IF(AC21<7,2,IF(AC21<8.5,3,4))))) | BB21: =IF('NH13-14'!B21="","",ROUND(SUMPRODUCT(AE21:BA21,$AE$7:$BA$7)/SUMIF(AE21:BA21,">=1",$AE$7:$BA$7),2)) -> 1.78 | BC21: =IF(G21<4,"",G21) -> 5 | BD21: =IF(H21<4,"",H21) -> 5.5 | BE21: =IF(I21<4,"",I21) -> 5 | BF21: =IF(J21<4,"",J21) -> 5.2 | BG21: =IF(K21<4,"",K21) -> 5.9 | BH21: =IF(L21<4,"",L21) -> 6.8 | BI21: =IF(M21<4,"",M21) -> 6.4 | BJ21: =IF(N21<4,"",N21) | ... BY21: =IF(AC21<4,"",AC21)
A22: =IF('NH13-14'!A22="","",'NH13-14'!A22) -> 12 | B22: =IF('NH13-14'!B22="","",'NH13-14'!B22) -> 13D301Đ049 | C22: =IF(B22="","",SUMIF(G22:AC22,">=4",$G$7:$AC$7)) -> 37 | D22: =IF(B22="","",SUMIF(G22:AC22,"<4",$G$7:$AC$7)) -> 2 | E22: =IF('NH13-14'!C22="","",'NH13-14'!C22) -> Lê Minh | F22: =IF('NH13-14'!D22="","",'NH13-14'!D22) -> Hiếu | G22: =IF('NH13-14'!I22="",'NH13-14'!H22,IF('NH13-14'!I22>='NH13-14'!H22,'NH13-14'!I22,'NH13-14'!H22)) -> 5.2 | H22: =IF('NH13-14'!K22="",'NH13-14'!J22,IF('NH13-14'!K22>='NH13-14'!J22,'NH13-14'!K22,'NH13-14'!J22)) -> 6.8 | I22: =IF('NH13-14'!M22="",'NH13-14'!L22,IF('NH13-14'!M22>='NH13-14'!L22,'NH13-14'!M22,'NH13-14'!L22)) -> 6.1 | J22: =IF('NH13-14'!O22="",'NH13-14'!N22,IF('NH13-14'!O22>='NH13-14'!N22,'NH13-14'!O22,'NH13-14'!N22)) -> 5.9 | K22: =IF('NH13-14'!Q22="",'NH13-14'!P22,IF('NH13-14'!Q22>='NH13-14'!P22,'NH13-14'!Q22,'NH13-14'!P22)) -> 5 | L22: =IF('NH13-14'!S22="",'NH13-14'!R22,IF('NH13-14'!S22>='NH13-14'!R22,'NH13-14'!S22,'NH13-14'!R22)) -> 5.5 | M22: =IF('NH13-14'!U22="",'NH13-14'!T22,IF('NH13-14'!U22>='NH13-14'!T22,'NH13-14'!U22,'NH13-14'!T22)) -> 3.9 | N22: =IF('NH13-14'!W22="",'NH13-14'!V22,IF('NH13-14'!W22>='NH13-14'!V22,'NH13-14'!W22,'NH13-14'!V22)) | O22: =IF('NH13-14'!Y22="",'NH13-14'!X22,IF('NH13-14'!Y22>='NH13-14'!X22,'NH13-14'!Y22,'NH13-14'!X22)) | P22: =IF('NH13-14'!AA22="",'NH13-14'!Z22,IF('NH13-14'!AA22>='NH13-14'!Z22,'NH13-14'!AA22,'NH13-14'!Z22)) -> 5.5 | Q22: =IF('NH13-14'!AC22="",'NH13-14'!AB22,IF('NH13-14'!AC22>='NH13-14'!AB22,'NH13-14'!AC22,'NH13-14'!AB22)) -> 4.8 | R22: =IF('NH13-14'!AE22="",'NH13-14'!AD22,IF('NH13-14'!AE22>='NH13-14'!AD22,'NH13-14'!AE22,'NH13-14'!AD22)) | S22: =IF('NH13-14'!AG22="",'NH13-14'!AF22,IF('NH13-14'!AG22>='NH13-14'!AF22,'NH13-14'!AG22,'NH13-14'!AF22)) -> 8.7 | T22: =IF('NH13-14'!AI22="",'NH13-14'!AH22,IF('NH13-14'!AI22>='NH13-14'!AH22,'NH13-14'!AI22,'NH13-14'!AH22)) -> 5.4 | U22: =IF('NH13-14'!AK22="",'NH13-14'!AJ22,IF('NH13-14'!AK22>='NH13-14'!AJ22,'NH13-14'!AK22,'NH13-14'!AJ22)) -> 6 | V22: =IF('NH13-14'!AM22="",'NH13-14'!AL22,IF('NH13-14'!AM22>='NH13-14'!AL22,'NH13-14'!AM22,'NH13-14'!AL22)) -> 6.3 | W22: =IF('NH13-14'!AO22="",'NH13-14'!AN22,IF('NH13-14'!AO22>='NH13-14'!AN22,'NH13-14'!AO22,'NH13-14'!AN22)) -> 4.5 | X22: =IF('NH13-14'!AQ22="",'NH13-14'!AP22,IF('NH13-14'!AQ22>='NH13-14'!AP22,'NH13-14'!AQ22,'NH13-14'!AP22)) -> 6.2 | Y22: =IF('NH13-14'!AS22="",'NH13-14'!AR22,IF('NH13-14'!AS22>='NH13-14'!AR22,'NH13-14'!AS22,'NH13-14'!AR22)) | Z22: =IF('NH13-14'!AU22="",'NH13-14'!AT22,IF('NH13-14'!AU22>='NH13-14'!AT22,'NH13-14'!AU22,'NH13-14'!AT22)) | AA22: =IF('NH13-14'!AW22="",'NH13-14'!AV22,IF('NH13-14'!AW22>='NH13-14'!AV22,'NH13-14'!AW22,'NH13-14'!AV22)) | AB22: =IF('NH13-14'!AY22="",'NH13-14'!AX22,IF('NH13-14'!AY22>='NH13-14'!AX22,'NH13-14'!AY22,'NH13-14'!AX22)) -> 5 | AC22: =IF('NH13-14'!BA22="",'NH13-14'!AZ22,IF('NH13-14'!BA22>='NH13-14'!AZ22,'NH13-14'!BA22,'NH13-14'!AZ22)) | AD22: =IF('NH13-14'!B22="","",ROUND(SUMPRODUCT(G22:AC22,$G$7:$AC$7)/SUMIF(G22:AC22,">=0",$G$7:$AC$7),2)) -> 5.64 | AE22: =IF(G22="","",IF(G22<4,"",IF(G22<5.5,1,IF(G22<7,2,IF(G22<8.5,3,4))))) -> 1 | AF22: =IF(H22="","",IF(H22<4,"",IF(H22<5.5,1,IF(H22<7,2,IF(H22<8.5,3,4))))) -> 2 | AG22: =IF(I22="","",IF(I22<4,"",IF(I22<5.5,1,IF(I22<7,2,IF(I22<8.5,3,4))))) -> 2 | AH22: =IF(J22="","",IF(J22<4,"",IF(J22<5.5,1,IF(J22<7,2,IF(J22<8.5,3,4))))) -> 2 | AI22: =IF(K22="","",IF(K22<4,"",IF(K22<5.5,1,IF(K22<7,2,IF(K22<8.5,3,4))))) -> 1 | AJ22: =IF(L22="","",IF(L22<4,"",IF(L22<5.5,1,IF(L22<7,2,IF(L22<8.5,3,4))))) -> 2 | AK22: =IF(M22="","",IF(M22<4,"",IF(M22<5.5,1,IF(M22<7,2,IF(M22<8.5,3,4))))) | AL22: =IF(N22="","",IF(N22<4,"",IF(N22<5.5,1,IF(N22<7,2,IF(N22<8.5,3,4))))) | ... BA22: =IF(AC22="","",IF(AC22<4,"",IF(AC22<5.5,1,IF(AC22<7,2,IF(AC22<8.5,3,4))))) | BB22: =IF('NH13-14'!B22="","",ROUND(SUMPRODUCT(AE22:BA22,$AE$7:$BA$7)/SUMIF(AE22:BA22,">=1",$AE$7:$BA$7),2)) -> 1.7 | BC22: =IF(G22<4,"",G22) -> 5.2 | BD22: =IF(H22<4,"",H22) -> 6.8 | BE22: =IF(I22<4,"",I22) -> 6.1 | BF22: =IF(J22<4,"",J22) -> 5.9 | BG22: =IF(K22<4,"",K22) -> 5 | BH22: =IF(L22<4,"",L22) -> 5.5 | BI22: =IF(M22<4,"",M22) | BJ22: =IF(N22<4,"",N22) | ... BY22: =IF(AC22<4,"",AC22)
... A85: =IF('NH13-14'!A85="","",'NH13-14'!A85) | B85: =IF('NH13-14'!B85="","",'NH13-14'!B85) | C85: =IF(B85="","",SUMIF(G85:AC85,">=4",$G$7:$AC$7)) | D85: =IF(B85="","",SUMIF(G85:AC85,"<4",$G$7:$AC$7)) | E85: =IF('NH13-14'!C85="","",'NH13-14'!C85) | F85: =IF('NH13-14'!D85="","",'NH13-14'!D85) | G85: =IF('NH13-14'!I85="",'NH13-14'!H85,IF('NH13-14'!I85>='NH13-14'!H85,'NH13-14'!I85,'NH13-14'!H85)) | H85: =IF('NH13-14'!K85="",'NH13-14'!J85,IF('NH13-14'!K85>='NH13-14'!J85,'NH13-14'!K85,'NH13-14'!J85)) | I85: =IF('NH13-14'!M85="",'NH13-14'!L85,IF('NH13-14'!M85>='NH13-14'!L85,'NH13-14'!M85,'NH13-14'!L85)) | J85: =IF('NH13-14'!O85="",'NH13-14'!N85,IF('NH13-14'!O85>='NH13-14'!N85,'NH13-14'!O85,'NH13-14'!N85)) | K85: =IF('NH13-14'!Q85="",'NH13-14'!P85,IF('NH13-14'!Q85>='NH13-14'!P85,'NH13-14'!Q85,'NH13-14'!P85)) | L85: =IF('NH13-14'!S85="",'NH13-14'!R85,IF('NH13-14'!S85>='NH13-14'!R85,'NH13-14'!S85,'NH13-14'!R85)) | M85: =IF('NH13-14'!U85="",'NH13-14'!T85,IF('NH13-14'!U85>='NH13-14'!T85,'NH13-14'!U85,'NH13-14'!T85)) | N85: =IF('NH13-14'!W85="",'NH13-14'!V85,IF('NH13-14'!W85>='NH13-14'!V85,'NH13-14'!W85,'NH13-14'!V85)) | O85: =IF('NH13-14'!Y85="",'NH13-14'!X85,IF('NH13-14'!Y85>='NH13-14'!X85,'NH13-14'!Y85,'NH13-14'!X85)) | P85: =IF('NH13-14'!AA85="",'NH13-14'!Z85,IF('NH13-14'!AA85>='NH13-14'!Z85,'NH13-14'!AA85,'NH13-14'!Z85)) | Q85: =IF('NH13-14'!AC85="",'NH13-14'!AB85,IF('NH13-14'!AC85>='NH13-14'!AB85,'NH13-14'!AC85,'NH13-14'!AB85)) | R85: =IF('NH13-14'!AE85="",'NH13-14'!AD85,IF('NH13-14'!AE85>='NH13-14'!AD85,'NH13-14'!AE85,'NH13-14'!AD85)) | S85: =IF('NH13-14'!AG85="",'NH13-14'!AF85,IF('NH13-14'!AG85>='NH13-14'!AF85,'NH13-14'!AG85,'NH13-14'!AF85)) | T85: =IF('NH13-14'!AI85="",'NH13-14'!AH85,IF('NH13-14'!AI85>='NH13-14'!AH85,'NH13-14'!AI85,'NH13-14'!AH85)) | U85: =IF('NH13-14'!AK85="",'NH13-14'!AJ85,IF('NH13-14'!AK85>='NH13-14'!AJ85,'NH13-14'!AK85,'NH13-14'!AJ85)) | V85: =IF('NH13-14'!AM85="",'NH13-14'!AL85,IF('NH13-14'!AM85>='NH13-14'!AL85,'NH13-14'!AM85,'NH13-14'!AL85)) | W85: =IF('NH13-14'!AO85="",'NH13-14'!AN85,IF('NH13-14'!AO85>='NH13-14'!AN85,'NH13-14'!AO85,'NH13-14'!AN85)) | X85: =IF('NH13-14'!AQ85="",'NH13-14'!AP85,IF('NH13-14'!AQ85>='NH13-14'!AP85,'NH13-14'!AQ85,'NH13-14'!AP85)) | Y85: =IF('NH13-14'!AS85="",'NH13-14'!AR85,IF('NH13-14'!AS85>='NH13-14'!AR85,'NH13-14'!AS85,'NH13-14'!AR85)) | Z85: =IF('NH13-14'!AU85="",'NH13-14'!AT85,IF('NH13-14'!AU85>='NH13-14'!AT85,'NH13-14'!AU85,'NH13-14'!AT85)) | AA85: =IF('NH13-14'!AW85="",'NH13-14'!AV85,IF('NH13-14'!AW85>='NH13-14'!AV85,'NH13-14'!AW85,'NH13-14'!AV85)) | AB85: =IF('NH13-14'!AY85="",'NH13-14'!AX85,IF('NH13-14'!AY85>='NH13-14'!AX85,'NH13-14'!AY85,'NH13-14'!AX85)) | AC85: =IF('NH13-14'!BA85="",'NH13-14'!AZ85,IF('NH13-14'!BA85>='NH13-14'!AZ85,'NH13-14'!BA85,'NH13-14'!AZ85)) | AD85: =IF('NH13-14'!B85="","",ROUND(SUMPRODUCT(G85:AC85,$G$7:$AC$7)/SUMIF(G85:AC85,">=0",$G$7:$AC$7),2)) | AE85: =IF(G85="","",IF(G85<4,"",IF(G85<5.5,1,IF(G85<7,2,IF(G85<8.5,3,4))))) | AF85: =IF(H85="","",IF(H85<4,"",IF(H85<5.5,1,IF(H85<7,2,IF(H85<8.5,3,4))))) | AG85: =IF(I85="","",IF(I85<4,"",IF(I85<5.5,1,IF(I85<7,2,IF(I85<8.5,3,4))))) | AH85: =IF(J85="","",IF(J85<4,"",IF(J85<5.5,1,IF(J85<7,2,IF(J85<8.5,3,4))))) | AI85: =IF(K85="","",IF(K85<4,"",IF(K85<5.5,1,IF(K85<7,2,IF(K85<8.5,3,4))))) | AJ85: =IF(L85="","",IF(L85<4,"",IF(L85<5.5,1,IF(L85<7,2,IF(L85<8.5,3,4))))) | AK85: =IF(M85="","",IF(M85<4,"",IF(M85<5.5,1,IF(M85<7,2,IF(M85<8.5,3,4))))) | AL85: =IF(N85="","",IF(N85<4,"",IF(N85<5.5,1,IF(N85<7,2,IF(N85<8.5,3,4))))) | ... BA85: =IF(AC85="","",IF(AC85<4,"",IF(AC85<5.5,1,IF(AC85<7,2,IF(AC85<8.5,3,4))))) | BB85: =IF('NH13-14'!B85="","",ROUND(SUMPRODUCT(AE85:BA85,$AE$7:$BA$7)/SUMIF(AE85:BA85,">=1",$AE$7:$BA$7),2)) | BC85: =IF(G85<4,"",G85) | BD85: =IF(H85<4,"",H85) | BE85: =IF(I85<4,"",I85) | BF85: =IF(J85<4,"",J85) | BG85: =IF(K85<4,"",K85) | BH85: =IF(L85<4,"",L85) | BI85: =IF(M85<4,"",M85) | BJ85: =IF(N85<4,"",N85) | ... BY85: =IF(AC85<4,"",AC85)

Sheet HKI
A1: ỦY BAN NHÂN DÂN THÀNH PHỐ HỒ CHÍ MINH | AQ1: CỘNG HOÀ XÃ HỘI CHỦ NGHĨA VIỆT NAM
A2: TRƯỜNG CĐKT LÝ TỰ TRỌNG THÀNH PHỐ HỒ CHÍ MINH | AQ2: Độc lập - Tự do - hạnh phúc
C3: LỚP: | D3: =IF($B11="","",IF(ISNA(VLOOKUP($B11,'DS LOP HKI'!$B$2:$F$1873,5,FALSE))=TRUE,"",VLOOKUP($B11,'DS LOP HKI'!$B$2:$F$1873,5,FALSE))) -> 13CĐ-Đ1 | G3: SĨ SỐ: | I3: =IF(B11="",0,MAX($A$11:$A$84)) -> 35
A4: BẢNG TỔNG KẾT HỌC TẬP HỌC KỲ I NĂM HỌC 2014 - 2015
CQ5: Điểm tích luỹ năm 2013-2014 | EU5: Điểm tích luỹ năm 2013-2014
A6: Số thứ tự | B6: HỌC PHẦN | H6: =IF('LT01'!$C$6="","",'LT01'!$C$6) -> Anh văn 2 | L6: =IF('LT02'!$C$6="","",'LT02'!$C$6) -> Những NLCB của CNMLN 2 | P6: ='LT03'!$C$6 -> Khí cụ điện và máy điện | T6: ='LT04'!$C$6 -> Kỹ thuật số | X6: ='LT05'!$C$6 -> Điện tử công suất | AB6: ='LT06'!$C$6 -> Kỹ thuật truyền số liệu | AF6: ='LT07'!$C$6 | AJ6: ='LT08'!$C$6 | AN6: ='LT09'!$C$6 | AR6: ='TH01'!$C$6 -> Thực tập Điện tử cơ bản | AV6: ='TH02'!$C$6 -> Thực tập Đo lường và mạch điện | AZ6: TBC HỌC TẬP | BB6: KẾT QUẢ RÈN LUYỆN | BC6: XẾP LOẠI HT | BE6: KHEN THƯỞNG | BF6: CẢNH BÁO KẾT QUẢ HỌC TẬP | BG6: SỐ TC TÍCH LUỸ TRONG HK SAU KỲ THI CHÍNH | BH6: SỐ TC NỢ TRONG HK SAU KỲ THI CHÍNH | BI6: SỐ TC TÍCH LUỸ TRONG HK SAU KỲ THI PHỤ | BJ6: SỐ TC NỢ SAU KỲ THI PHỤ | BK6: ĐIỂM TBC TÍCH LUỸ SAU KỲ THI CHÍNH | BL6: HẠNG HỌC LỰC SAU KỲ THI CHÍNH | BM6: ĐIỂM TBC TÍCH LUỸ SAU KỲ THI PHỤ | BN6: HẠNG HỌC LỰC SAU KỲ THI PHỤ | BO6: GHI CHÚ | BP6: SỐ TC TÍCH LUỸ TỪ ĐẦU KHOÁ HỌC | BQ6: SỐ TC CÒN NỢ TỪ ĐẦU KHOÁ HỌC | CQ6: ='NH13-14'!$H6 -> Toán cao cấp 1 | CR6: ='NH13-14'!$J6 -> Vật lý đại cương 1 | CS6: ='NH13-14'!$L6 -> Hóa học đại cương 1 | CT6: ='NH13-14'!$N6 -> Pháp luật đại cương | CU6: ='NH13-14'!$P6 -> Nhập môn Tin học | CV6: ='NH13-14'!$R6 -> Đo lường và mạch điện | CW6: ='NH13-14'!$T6 -> Mạng cung cấp điện | CX6: ='NH13-14'!$V6 | CY6: ='NH13-14'!$X6 | CZ6: ='NH13-14'!$Z6 -> Toán cao cấp 2 | DA6: ='NH13-14'!$AB6 -> Anh văn 1 | DB6: ='NH13-14'!$AD6 -> Xác suất thống kê | DC6: ='NH13-14'!$AF6 -> Vật lý đại cương 2 | DD6: ='NH13-14'!$AH6 -> Hoá học đại cương 2 | DE6: ='NH13-14'!$AJ6 -> Kỹ năng giao tiếp | DF6: ='NH13-14'!$AL6 -> Những NLCB của CNMLN 1 | DG6: ='NH13-14'!$AN6 -> Điện tử cơ bản | DH6: ='NH13-14'!$AP6 -> An toàn điện | DI6: ='NH13-14'!$AR6 | DJ6: ='NH13-14'!$AT6 | DK6: ='NH13-14'!$AV6 | DL6: ='NH13-14'!$AX6 -> Thực tập Điện cơ bản | DM6: ='NH13-14'!$AZ6 | DY6: =SUM(CQ7:DX7) -> 59 | EU6: ='NH13-14'!$H6 -> Toán cao cấp 1 | EV6: ='NH13-14'!$J6 -> Vật lý đại cương 1 | EW6: ='NH13-14'!$L6 -> Hóa học đại cương 1 | EX6: ='NH13-14'!$N6 -> Pháp luật đại cương | EY6: ='NH13-14'!$P6 -> Nhập môn Tin học | EZ6: ='NH13-14'!$R6 -> Đo lường và mạch điện | FA6: ='NH13-14'!$T6 -> Mạng cung cấp điện | FB6: ='NH13-14'!$V6 | FC6: ='NH13-14'!$X6 | FD6: ='NH13-14'!$Z6 -> Toán cao cấp 2 | FE6: ='NH13-14'!$AB6 -> Anh văn 1 | FF6: ='NH13-14'!$AD6 -> Xác suất thống kê | FG6: ='NH13-14'!$AF6 -> Vật lý đại cương 2 | FH6: ='NH13-14'!$AH6 -> Hoá học đại cương 2 | FI6: ='NH13-14'!$AJ6 -> Kỹ năng giao tiếp | FJ6: ='NH13-14'!$AL6 -> Những NLCB của CNMLN 1 | FK6: ='NH13-14'!$AN6 -> Điện tử cơ bản | FL6: ='NH13-14'!$AP6 -> An toàn điện | FM6: ='NH13-14'!$AR6 | FN6: ='NH13-14'!$AT6 | FO6: ='NH13-14'!$AV6 | FP6: ='NH13-14'!$AX6 -> Thực tập Điện cơ bản | FQ6: ='NH13-14'!$AZ6 | GC6: =SUM(EU7:GB7) -> 59
B7: SỐ ĐVHT | H7: =IF('LT01'!$J$6="","",'LT01'!$J$6) -> 2 | L7: =IF('LT02'!$J$6="","",'LT02'!$J$6) -> 3 | P7: ='LT03'!$J$6 -> 3 | T7: ='LT04'!$J$6 -> 2 | X7: ='LT05'!$J$6 -> 2 | AB7: ='LT06'!$J$6 -> 2 | AF7: ='LT07'!$J$6 | AJ7: ='LT08'!$J$6 | AN7: ='LT09'!$J$6 | AR7: ='TH01'!$J$6 -> 2 | AV7: ='TH02'!$J$6 -> 2 | AZ7: =SUM(H7:AY7) -> 18 | BR7: Đếm cột thi chính <5 | CD7: Đếm cột HP chính <4 | CE7: =$H$7 -> 2 | CF7: =$L$7 -> 3 | CG7: =$P$7 -> 3 | CH7: =$T$7 -> 2 | CI7: =$X$7 -> 2 | CJ7: =$AB$7 -> 2 | CK7: =$AF$7 | CL7: =$AJ$7 | CM7: =$AN$7 | CN7: =$AR$7 -> 2 | CO7: =$AV$7 -> 2 | CQ7: ='NH13-14'!$H7 -> 3 | CR7: ='NH13-14'!$J7 -> 3 | CS7: ='NH13-14'!$L7 -> 2 | CT7: ='NH13-14'!$N7 -> 2 | CU7: ='NH13-14'!$P7 -> 3 | CV7: ='NH13-14'!$R7 -> 5 | CW7: ='NH13-14'!$T7 -> 2 | CX7: ='NH13-14'!$V7 | CY7: ='NH13-14'!$X7 | CZ7: ='NH13-14'!$Z7 -> 2 | DA7: ='NH13-14'!$AB7 -> 3 | DB7: ='NH13-14'!$AD7 -> 2 | DC7: ='NH13-14'!$AF7 -> 2 | DD7: ='NH13-14'!$AH7 -> 2 | DE7: ='NH13-14'!$AJ7 -> 2 | DF7: ='NH13-14'!$AL7 -> 2 | DG7: ='NH13-14'!$AN7 -> 2 | DH7: ='NH13-14'!$AP7 -> 2 | DI7: ='NH13-14'!$AR7 | DJ7: ='NH13-14'!$AT7 | DK7: ='NH13-14'!$AV7 | DL7: ='NH13-14'!$AX7 -> 2 | DM7: ='NH13-14'!$AZ7 | DN7: =$H$7 -> 2 | DO7: =$L$7 -> 3 | DP7: =$P$7 -> 3 | DQ7: =$T$7 -> 2 | DR7: =$X$7 -> 2 | DS7: =$AB$7 -> 2 | DT7: =$AF$7 | DU7: =$AJ$7 | DV7: =$AN$7 | DW7: =$AR$7 -> 2 | DX7: =$AV$7 -> 2 | EI7: =$H$7 -> 2 | EJ7: =$L$7 -> 3 | EK7: =$P$7 -> 3 | EL7: =$T$7 -> 2 | EM7: =$X$7 -> 2 | EN7: =$AB$7 -> 2 | EO7: =$AF$7 | EP7: =$AJ$7 | EQ7: =$AN$7 | ER7: =$AR$7 -> 2 | ES7: =$AV$7 -> 2 | EU7: ='NH13-14'!$H7 -> 3 | EV7: ='NH13-14'!$J7 -> 3 | EW7: ='NH13-14'!$L7 -> 2 | EX7: ='NH13-14'!$N7 -> 2 | EY7: ='NH13-14'!$P7 -> 3 | EZ7: ='NH13-14'!$R7 -> 5 | FA7: ='NH13-14'!$T7 -> 2 | FB7: ='NH13-14'!$V7 | FC7: ='NH13-14'!$X7 | FD7: ='NH13-14'!$Z7 -> 2 | FE7: ='NH13-14'!$AB7 -> 3 | FF7: ='NH13-14'!$AD7 -> 2 | FG7: ='NH13-14'!$AF7 -> 2 | FH7: ='NH13-14'!$AH7 -> 2 | FI7: ='NH13-14'!$AJ7 -> 2 | FJ7: ='NH13-14'!$AL7 -> 2 | FK7: ='NH13-14'!$AN7 -> 2 | FL7: ='NH13-14'!$AP7 -> 2 | FM7: ='NH13-14'!$AR7 | FN7: ='NH13-14'!$AT7 | FO7: ='NH13-14'!$AV7 | FP7: ='NH13-14'!$AX7 -> 2 | FQ7: ='NH13-14'!$AZ7 | FR7: =$H$7 -> 2 | FS7: =$L$7 -> 3 | FT7: =$P$7 -> 3 | FU7: =$T$7 -> 2 | FV7: =$X$7 -> 2 | FW7: =$AB$7 -> 2 | FX7: =$AF$7 | FY7: =$AJ$7 | FZ7: =$AN$7 | GA7: =$AR$7 -> 2 | GB7: =$AV$7 -> 2
B8: MSSV | C8: Họ tên sinh viên | E8: HỆ CHUẨN | F8: NGÀY NGHỈ | H8: Thi Chính | I8: HP Chính | J8: Thi Phụ | K8: HP Phụ | L8: Thi Chính | M8: HP Chính | N8: Thi Phụ | O8: HP Phụ | P8: Thi Chính | Q8: HP Chính | R8: Thi Phụ | S8: HP Phụ | T8: Thi Chính | U8: HP Chính | V8: Thi Phụ | W8: HP Phụ | X8: Thi Chính | Y8: HP Chính | Z8: Thi Phụ | AA8: HP Phụ | AB8: Thi Chính | AC8: HP Chính | AD8: Thi Phụ | AE8: HP Phụ | AF8: Thi Chính | AG8: HP Chính | AH8: Thi Phụ | AI8: HP Phụ | AJ8: Thi Chính | AK8: HP Chính | AL8: Thi Phụ | AM8: HP Phụ | AN8: Thi Chính | AO8: HP Chính | AP8: Thi Phụ | AQ8: HP Phụ | AR8: Thi Chính | AS8: HP Chính | AT8: Thi Phụ | AU8: HP Phụ | AV8: Thi Chính | AW8: HP Chính | AX8: Thi Phụ | AY8: HP Phụ | AZ8: Kỳ Thi Chính | BA8: Kỳ Thi Phụ | BC8: Kỳ Thi Chính | BD8: Kỳ Thi Phụ | BS8: Điểm thi chính | CE8: Điểm HP chính | DN8: ĐIỂM TBC TÍCH LUỸ SAU KỲ THI CHÍNH | DZ8: Điểm HP Phụ theo điểm thi phụ | EI8: Tính lại điểm HP phụ | FR8: ĐIỂM TBC TÍCH LUỸ SAU KỲ THI PHỤ
F9: P | G9: K
A10: (1) | B10: (2) | C10: (3) | E10: (4) | F10: (5) | G10: (6) | H10: (7) | L10: (8) | P10: (9) | T10: (10) | X10: (11) | AB10: (12) | AF10: (13) | AJ10: (14) | AN10: (15) | AR10: (16) | AV10: (17) | AZ10: (18) | BA10: (19) | BB10: (20) | BC10: (21) | BD10: (22) | BE10: (23) | BF10: (24) | BG10: (25) | BH10: (26) | BI10: (27) | BJ10: (28) | BK10: (29) | BL10: (30) | BM10: (31) | BN10: (32) | BO10: (33) | BP10: (34) | BQ10: (35)
